Workbook

Sheet Liste_plantes
A1: Nom_plante | B1: Code_plante | C1: Fichier_plante_STICS
A2: sol nu | B2: sn | C2: baresoil_plt.xml
A3: maïs fourrage | B3: MF | C3: corn_plt.xml
A4: prairie | B4: PrT | C4: grass_plt.xml
A5: blé tendre | B5: BT | C5: wheat_plt.xml
A6: orge d'hiver | B6: OH | C6: winter_barley_plt.xml
A7: ray grass d'Italie | B7: rgi | C7: ItalianRyegrass_CoverCrop_plt.xml

Sheet Liste_engrais
A1: type de fertilisant | B1: Num_engrais_STICS
A2: ammonitrate 33.5% | B2: 1
A3: Solution azotée 390g/l | B3: 2
A4: urée 46% | B4: 3
A5: Solufix N 36%-SO3 10.9% | B5: 5

Sheet representation
C2: début usm | D2: labour | E2: semis | F2: ammonitrate (43,3 kgN/ha) | G2: ammonitrate (43,3 kgN/ha) | H2: ammonitrate (43,3 kgN/ha) | I2: récolte butoire | J2: déchaumage | K2: fin usm
A3: blé | B3: sur 2 années | C3: 44927 | D3: 45233 | E3: 45234 | F3: 44969 | G3: 45008 | H3: 45041 | I3: 45152 | J3: 45153 | K3: =J3 -> 45153
C4: 1 | D4: 308 | E4: 309 | F4: =365+43 -> 408 | G4: =365+83 -> 448 | H4: =365+116 -> 481 | I4: =365+227 -> 592 | J4: 593 | K4: 593
C5: début usm | D5: semis | E5: destruction | F5: labour | G5: fin usm
A6: rgi | B6: à cheval sur 2 années | C6: =K3+1 -> 45154 | D6: 45174 | E6: 44992 | F6: 44993 | G6: 44993
C7: 229 | D7: 249 | E7: =365+67 -> 432 | F7: 433 | G7: 433
C8: début usm | D8: 25 t/ha fumier bovin + 20m3/ha lisier bovin | E8: enfouissement | F8: reprise | G8: prep. lit de sem. | H8: semis | I8: récolte butoire | J8: fin usm
A9: maïs fourrage | B9: sur 1 année | C9: 44994 | D9: 44994 | E9: 44994 | F9: 45016 | G9: 45032 | H9: 45036 | I9: 45200 | J9: =I9 -> 45200
C10: 68 | D10: 69 | E10: 69 | F10: 91 | G10: 107 | H10: 111 | I10: 275 | J10: 275
C11: début usm | D11: labour | E11: semis | F11: ammonitrate (43,3 kgN/ha) | G11: ammonitrate (43,3 kgN/ha) | H11: ammonitrate (43,3 kgN/ha) | I11: récolte butoire | J11: déchaumage | K11: fin usm
A12: blé | B12: sur 2 années | C12: =J9+1 -> 45201 | D12: 45233 | E12: 45234 | F12: 44969 | G12: 45008 | H12: 45041 | I12: 45152 | J12: 45153 | K12: =J12 -> 45153
C13: 276 | D13: 308 | E13: 309 | F13: =365+43 -> 408 | G13: =365+83 -> 448 | H13: =365+116 -> 481 | I13: =365+227 -> 592 | J13: 593 | K13: 593
A15: Notes :
A16: La date de semis du maïs, fixée au 01 mai est avancée au 20/04 selon l'expertise d'Anne Briend de la CRAB
A17: La date de récolte butoire est avancée au 01 octobre
A18: La date de récolte butoire du blé est peut être à avancer à début août

Sheet USMs
A1: modele_clim | B1: abbrev_modele_clim | C1: rcp | D1: maille_safran | E1: maille_drias | F1: upc | G1: num_sol | H1: Norg_sols | I1: nom_sol_sans_point | J1: systeme | K1: rotation | L1: code_rotation | M1: tete_rotation | N1: horizon | O1: annee_debut | P1: annee_fin | Q1: culture | R1: verif | S1: id_simu | T1: usm_name | U1: Début | V1: Fin | W1: vérif | X1: datedebut | Y1: datefin | Z1: finit | AA1: nomsol | AB1: fstation | AC1: fclim1 | AD1: fclim2 | AE1: culturean | AF1: nbplantes | AG1: codesimul | AH1: fplt_1 | AI1: ftec_1 | AJ1: flai_1 | AK1: fplt_2 | AL1: ftec_2 | AM1: flai_2
A2: cnrm-cm5-aladin63 | B2: cca | C2: 8.5 | D2: 1895 | E2: 14050 | F2: 781_1895 | G2: 330562 | H2: 0.1574 | I2: 562_NGC25 | J2: 1 | K2: BT_ci_MF | L2: 2 | M2: BT | N2: NA | O2: 1972 | P2: =IF(Q2="maïs fourrage",O2,O2+1) -> 1973 | Q2: blé tendre | S2: =CONCATENATE(F2,"-",I2,"-",J2,"-",L2,"-",M2,"-",N2) -> 781_1895-562_NGC25-1-2-BT-NA | T2: =CONCATENATE(F2,"-",I2,"-",J2,"-",L2,"-",M2,"-",N2,"-",P2,"-",VLOOKUP(Q2,Liste_plantes!$A$2:$B$7,2,FALSE)) -> 781_1895-562_NGC25-1-2-BT-NA-1973-BT | U2: 26575 | V2: =IF(Q2="blé tendre",CONCATENATE("15/08/",P2),IF(Q2="ray grass d'Italie",CONCATENATE("08/03/",P2),IF(Q2="maïs fourrage",CONCATENATE("01/10/",P2),"pb"))) -> 15/08/1973 | X2: =U2-DATE($O2,1,1)+1 -> 277 | Y2: =V2-DATE($O2,1,1)+1 -> 593 | Z2: snu_ini.xml | AA2: =CONCATENATE(G2,"_",H2) -> 330562_0.1574 | AB2: =AB6 -> 14050_ref_sta.xml | AC2: =CONCATENATE($E2,".",YEAR(U2)) -> 14050.1972 | AD2: =CONCATENATE($E2,".",YEAR(V2)) -> 14050.1973 | AE2: =IF(YEAR(V2)=YEAR(U2),1,2) -> 2 | AF2: 1 | AG2: 0 | AH2: =VLOOKUP(Q2,Liste_plantes!$A$2:$C$7,3,FALSE) -> wheat_plt.xml | AI2: =CONCATENATE(J2,"-",L2,"-",VLOOKUP(Q2,Liste_plantes!$A$2:$B$7,2,FALSE),"_tec.xml") -> 1-2-BT_tec.xml | AJ2: null | AK2: null | AL2: null | AM2: null
A3: =A2 -> cnrm-cm5-aladin63 | B3: =B2 -> cca | C3: =C2 -> 8.5 | D3: =D2 -> 1895 | E3: =E2 -> 14050 | F3: =F2 -> 781_1895 | G3: =G2 -> 330562 | H3: =H2 -> 0.1574 | ... N3: =N2 -> NA | O3: =IF(Q2="maïs fourrage",O2,O2+1) -> 1973 | P3: =IF(Q3="maïs fourrage",O3,O3+1) -> 1974 | Q3: ray grass d'Italie | R3: =IF(OR(AND(Q3="ray grass d'Italie",Q2="blé tendre"),AND(Q3="maïs fourrage",Q2="ray grass d'Italie"),AND(Q3="blé tendre",Q2="maïs fourrage")),"ok","pb") -> ok | S3: =CONCATENATE(F3,"-",I3,"-",J3,"-",L3,"-",M3,"-",N3) -> 781_1895-562_NGC25-1-2-BT-NA | T3: =CONCATENATE(F3,"-",I3,"-",J3,"-",L3,"-",M3,"-",N3,"-",P3,"-",VLOOKUP(Q3,Liste_plantes!$A$2:$B$7,2,FALSE)) -> 781_1895-562_NGC25-1-2-BT-NA-1974-rgi | U3: =V2+1 -> 26892 | V3: =IF(Q3="blé tendre",CONCATENATE("15/08/",P3),IF(Q3="ray grass d'Italie",CONCATENATE("08/03/",P3),IF(Q3="maïs fourrage",CONCATENATE("01/10/",P3),"pb"))) -> 08/03/1974 | W3: =IF(OR(YEAR(U3)=1978,(U3-V2)=1),"OK","!!!") -> OK | X3: =U3-DATE($O3,1,1)+1 -> 228 | Y3: =V3-DATE($O3,1,1)+1 -> 432 | Z3: =IF(AND(Q2="prairie",Q3="prairie"),"prairie_ini.xml","snu_ini.xml") -> snu_ini.xml | AA3: =CONCATENATE(G3,"_",H3) -> 330562_0.1574 | AB3: =AB7 -> 14050_ref_sta.xml | AC3: =CONCATENATE($E3,".",YEAR(U3)) -> 14050.1973 | AD3: =CONCATENATE($E3,".",YEAR(V3)) -> 14050.1974 | AE3: =IF(YEAR(V3)=YEAR(U3),1,2) -> 2 | AF3: 1 | AG3: 0 | AH3: =VLOOKUP(Q3,Liste_plantes!$A$2:$C$7,3,FALSE) -> ItalianRyegrass_CoverCrop_plt.xml | AI3: =CONCATENATE(J3,"-",L3,"-",VLOOKUP(Q3,Liste_plantes!$A$2:$B$7,2,FALSE),"_tec.xml") -> 1-2-rgi_tec.xml | AJ3: null | AK3: null | AL3: null | AM3: null
A4: =A3 -> cnrm-cm5-aladin63 | B4: =B3 -> cca | C4: =C3 -> 8.5 | D4: =D3 -> 1895 | E4: =E3 -> 14050 | F4: =F3 -> 781_1895 | G4: =G3 -> 330562 | H4: =H3 -> 0.1574 | ... N4: =N3 -> NA | O4: =IF(Q3="maïs fourrage",O3,O3+1) -> 1974 | P4: =IF(Q4="maïs fourrage",O4,O4+1) -> 1974 | Q4: maïs fourrage | R4: =IF(OR(AND(Q4="ray grass d'Italie",Q3="blé tendre"),AND(Q4="maïs fourrage",Q3="ray grass d'Italie"),AND(Q4="blé tendre",Q3="maïs fourrage")),"ok","pb") -> ok | S4: =CONCATENATE(F4,"-",I4,"-",J4,"-",L4,"-",M4,"-",N4) -> 781_1895-562_NGC25-1-2-BT-NA | T4: =CONCATENATE(F4,"-",I4,"-",J4,"-",L4,"-",M4,"-",N4,"-",P4,"-",VLOOKUP(Q4,Liste_plantes!$A$2:$B$7,2,FALSE)) -> 781_1895-562_NGC25-1-2-BT-NA-1974-MF | U4: =V3+1 -> 27097 | V4: =IF(Q4="blé tendre",CONCATENATE("15/08/",P4),IF(Q4="ray grass d'Italie",CONCATENATE("08/03/",P4),IF(Q4="maïs fourrage",CONCATENATE("01/10/",P4),"pb"))) -> 01/10/1974 | W4: =IF(OR(YEAR(U4)=1978,(U4-V3)=1),"OK","!!!") -> OK | X4: =U4-DATE($O4,1,1)+1 -> 68 | Y4: =V4-DATE($O4,1,1)+1 -> 274 | Z4: =IF(AND(Q3="prairie",Q4="prairie"),"prairie_ini.xml","snu_ini.xml") -> snu_ini.xml | AA4: =CONCATENATE(G4,"_",H4) -> 330562_0.1574 | AB4: =AB8 -> 14050_ref_sta.xml | AC4: =CONCATENATE($E4,".",YEAR(U4)) -> 14050.1974 | AD4: =CONCATENATE($E4,".",YEAR(V4)) -> 14050.1974 | AE4: =IF(YEAR(V4)=YEAR(U4),1,2) -> 1 | AF4: 1 | AG4: 0 | AH4: =VLOOKUP(Q4,Liste_plantes!$A$2:$C$7,3,FALSE) -> corn_plt.xml | AI4: =CONCATENATE(J4,"-",L4,"-",VLOOKUP(Q4,Liste_plantes!$A$2:$B$7,2,FALSE),"_tec.xml") -> 1-2-MF_tec.xml | AJ4: null | AK4: null | AL4: null | AM4: null
A5: =A4 -> cnrm-cm5-aladin63 | B5: =B4 -> cca | C5: =C4 -> 8.5 | D5: =D4 -> 1895 | E5: =E4 -> 14050 | F5: =F4 -> 781_1895 | G5: =G4 -> 330562 | H5: =H4 -> 0.1574 | ... M5: =M4 -> BT | N5: NA | O5: =IF(Q4="maïs fourrage",O4,O4+1) -> 1974 | P5: =IF(Q5="maïs fourrage",O5,O5+1) -> 1975 | Q5: =Q2 -> blé tendre | R5: =IF(OR(AND(Q5="ray grass d'Italie",Q4="blé tendre"),AND(Q5="maïs fourrage",Q4="ray grass d'Italie"),AND(Q5="blé tendre",Q4="maïs fourrage")),"ok","pb") -> ok | S5: =CONCATENATE(F5,"-",I5,"-",J5,"-",L5,"-",M5,"-",N5) -> 781_1895-562_NGC25-1-2-BT-NA | T5: =CONCATENATE(F5,"-",I5,"-",J5,"-",L5,"-",M5,"-",N5,"-",P5,"-",VLOOKUP(Q5,Liste_plantes!$A$2:$B$7,2,FALSE)) -> 781_1895-562_NGC25-1-2-BT-NA-1975-BT | U5: =V4+1 -> 27304 | V5: =IF(Q5="blé tendre",CONCATENATE("15/08/",P5),IF(Q5="ray grass d'Italie",CONCATENATE("08/03/",P5),IF(Q5="maïs fourrage",CONCATENATE("01/10/",P5),"pb"))) -> 15/08/1975 | W5: =IF(OR(YEAR(U5)=1978,(U5-V4)=1),"OK","!!!") -> OK | X5: =U5-DATE($O5,1,1)+1 -> 275 | Y5: =V5-DATE($O5,1,1)+1 -> 592 | Z5: =IF(AND(Q4="prairie",Q5="prairie"),"prairie_ini.xml","snu_ini.xml") -> snu_ini.xml | AA5: =CONCATENATE(G5,"_",H5) -> 330562_0.1574 | AB5: =AB9 -> 14050_ref_sta.xml | AC5: =CONCATENATE($E5,".",YEAR(U5)) -> 14050.1974 | AD5: =CONCATENATE($E5,".",YEAR(V5)) -> 14050.1975 | AE5: =IF(YEAR(V5)=YEAR(U5),1,2) -> 2 | AF5: 1 | AG5: 0 | AH5: =VLOOKUP(Q5,Liste_plantes!$A$2:$C$7,3,FALSE) -> wheat_plt.xml | AI5: =CONCATENATE(J5,"-",L5,"-",VLOOKUP(Q5,Liste_plantes!$A$2:$B$7,2,FALSE),"_tec.xml") -> 1-2-BT_tec.xml | AJ5: null | AK5: null | AL5: null | AM5: null
A6: =A5 -> cnrm-cm5-aladin63 | B6: =B5 -> cca | C6: =C5 -> 8.5 | D6: =D5 -> 1895 | E6: =E5 -> 14050 | F6: =F5 -> 781_1895 | G6: =G5 -> 330562 | H6: =H5 -> 0.1574 | ... M6: =M5 -> BT | N6: ref | O6: =IF(Q5="maïs fourrage",O5,O5+1) -> 1975 | P6: =IF(Q6="maïs fourrage",O6,O6+1) -> 1976 | Q6: =Q3 -> ray grass d'Italie | R6: =IF(OR(AND(Q6="ray grass d'Italie",Q5="blé tendre"),AND(Q6="maïs fourrage",Q5="ray grass d'Italie"),AND(Q6="blé tendre",Q5="maïs fourrage")),"ok","pb") -> ok | S6: =CONCATENATE(F6,"-",I6,"-",J6,"-",L6,"-",M6,"-",N6) -> 781_1895-562_NGC25-1-2-BT-ref | T6: =CONCATENATE(F6,"-",I6,"-",J6,"-",L6,"-",M6,"-",N6,"-",P6,"-",VLOOKUP(Q6,Liste_plantes!$A$2:$B$7,2,FALSE)) -> 781_1895-562_NGC25-1-2-BT-ref-1976-rgi | U6: =V5+1 -> 27622 | V6: =IF(Q6="blé tendre",CONCATENATE("15/08/",P6),IF(Q6="ray grass d'Italie",CONCATENATE("08/03/",P6),IF(Q6="maïs fourrage",CONCATENATE("01/10/",P6),"pb"))) -> 08/03/1976 | W6: =IF(OR(YEAR(U6)=1978,(U6-V5)=1),"OK","!!!") -> OK | X6: =U6-DATE($O6,1,1)+1 -> 228 | Y6: =V6-DATE($O6,1,1)+1 -> 433 | Z6: =IF(AND(Q5="prairie",Q6="prairie"),"prairie_ini.xml","snu_ini.xml") -> snu_ini.xml | AA6: =CONCATENATE(G6,"_",H6) -> 330562_0.1574 | AB6: =CONCATENATE($E6,"_",N6,"_sta.xml") -> 14050_ref_sta.xml | AC6: =CONCATENATE($E6,".",YEAR(U6)) -> 14050.1975 | AD6: =CONCATENATE($E6,".",YEAR(V6)) -> 14050.1976 | AE6: =IF(YEAR(V6)=YEAR(U6),1,2) -> 2 | AF6: 1 | AG6: 0 | AH6: =VLOOKUP(Q6,Liste_plantes!$A$2:$C$7,3,FALSE) -> ItalianRyegrass_CoverCrop_plt.xml | AI6: =CONCATENATE(J6,"-",L6,"-",VLOOKUP(Q6,Liste_plantes!$A$2:$B$7,2,FALSE),"_tec.xml") -> 1-2-rgi_tec.xml | AJ6: null | AK6: null | AL6: null | AM6: null
A7: =A6 -> cnrm-cm5-aladin63 | B7: =B6 -> cca | C7: =C6 -> 8.5 | D7: =D6 -> 1895 | E7: =E6 -> 14050 | F7: =F6 -> 781_1895 | G7: =G6 -> 330562 | H7: =H6 -> 0.1574 | ... N7: =N6 -> ref | O7: =IF(Q6="maïs fourrage",O6,O6+1) -> 1976 | P7: =IF(Q7="maïs fourrage",O7,O7+1) -> 1976 | Q7: =Q4 -> maïs fourrage | R7: =IF(OR(AND(Q7="ray grass d'Italie",Q6="blé tendre"),AND(Q7="maïs fourrage",Q6="ray grass d'Italie"),AND(Q7="blé tendre",Q6="maïs fourrage")),"ok","pb") -> ok | S7: =CONCATENATE(F7,"-",I7,"-",J7,"-",L7,"-",M7,"-",N7) -> 781_1895-562_NGC25-1-2-BT-ref | T7: =CONCATENATE(F7,"-",I7,"-",J7,"-",L7,"-",M7,"-",N7,"-",P7,"-",VLOOKUP(Q7,Liste_plantes!$A$2:$B$7,2,FALSE)) -> 781_1895-562_NGC25-1-2-BT-ref-1976-MF | U7: =V6+1 -> 27828 | V7: =IF(Q7="blé tendre",CONCATENATE("15/08/",P7),IF(Q7="ray grass d'Italie",CONCATENATE("08/03/",P7),IF(Q7="maïs fourrage",CONCATENATE("01/10/",P7),"pb"))) -> 01/10/1976 | W7: =IF(OR(YEAR(U7)=1978,(U7-V6)=1),"OK","!!!") -> OK | X7: =U7-DATE($O7,1,1)+1 -> 69 | Y7: =V7-DATE($O7,1,1)+1 -> 275 | Z7: =IF(AND(Q6="prairie",Q7="prairie"),"prairie_ini.xml","snu_ini.xml") -> snu_ini.xml | AA7: =CONCATENATE(G7,"_",H7) -> 330562_0.1574 | AB7: =CONCATENATE($E7,"_",N7,"_sta.xml") -> 14050_ref_sta.xml | AC7: =CONCATENATE($E7,".",YEAR(U7)) -> 14050.1976 | AD7: =CONCATENATE($E7,".",YEAR(V7)) -> 14050.1976 | AE7: =IF(YEAR(V7)=YEAR(U7),1,2) -> 1 | AF7: 1 | AG7: 0 | AH7: =VLOOKUP(Q7,Liste_plantes!$A$2:$C$7,3,FALSE) -> corn_plt.xml | AI7: =CONCATENATE(J7,"-",L7,"-",VLOOKUP(Q7,Liste_plantes!$A$2:$B$7,2,FALSE),"_tec.xml") -> 1-2-MF_tec.xml | AJ7: null | AK7: null | AL7: null | AM7: null
A8: =A7 -> cnrm-cm5-aladin63 | B8: =B7 -> cca | C8: =C7 -> 8.5 | D8: =D7 -> 1895 | E8: =E7 -> 14050 | F8: =F7 -> 781_1895 | G8: =G7 -> 330562 | H8: =H7 -> 0.1574 | ... N8: =N7 -> ref | O8: =IF(Q7="maïs fourrage",O7,O7+1) -> 1976 | P8: =IF(Q8="maïs fourrage",O8,O8+1) -> 1977 | Q8: =Q5 -> blé tendre | R8: =IF(OR(AND(Q8="ray grass d'Italie",Q7="blé tendre"),AND(Q8="maïs fourrage",Q7="ray grass d'Italie"),AND(Q8="blé tendre",Q7="maïs fourrage")),"ok","pb") -> ok | S8: =CONCATENATE(F8,"-",I8,"-",J8,"-",L8,"-",M8,"-",N8) -> 781_1895-562_NGC25-1-2-BT-ref | T8: =CONCATENATE(F8,"-",I8,"-",J8,"-",L8,"-",M8,"-",N8,"-",P8,"-",VLOOKUP(Q8,Liste_plantes!$A$2:$B$7,2,FALSE)) -> 781_1895-562_NGC25-1-2-BT-ref-1977-BT | U8: =V7+1 -> 28035 | V8: =IF(Q8="blé tendre",CONCATENATE("15/08/",P8),IF(Q8="ray grass d'Italie",CONCATENATE("08/03/",P8),IF(Q8="maïs fourrage",CONCATENATE("01/10/",P8),"pb"))) -> 15/08/1977 | W8: =IF(OR(YEAR(U8)=1978,(U8-V7)=1),"OK","!!!") -> OK | X8: =U8-DATE($O8,1,1)+1 -> 276 | Y8: =V8-DATE($O8,1,1)+1 -> 593 | Z8: =IF(AND(Q7="prairie",Q8="prairie"),"prairie_ini.xml","snu_ini.xml") -> snu_ini.xml | AA8: =CONCATENATE(G8,"_",H8) -> 330562_0.1574 | AB8: =CONCATENATE($E8,"_",N8,"_sta.xml") -> 14050_ref_sta.xml | AC8: =CONCATENATE($E8,".",YEAR(U8)) -> 14050.1976 | AD8: =CONCATENATE($E8,".",YEAR(V8)) -> 14050.1977 | AE8: =IF(YEAR(V8)=YEAR(U8),1,2) -> 2 | AF8: 1 | AG8: 0 | AH8: =VLOOKUP(Q8,Liste_plantes!$A$2:$C$7,3,FALSE) -> wheat_plt.xml | AI8: =CONCATENATE(J8,"-",L8,"-",VLOOKUP(Q8,Liste_plantes!$A$2:$B$7,2,FALSE),"_tec.xml") -> 1-2-BT_tec.xml | AJ8: null | AK8: null | AL8: null | AM8: null
A9: =A8 -> cnrm-cm5-aladin63 | B9: =B8 -> cca | C9: =C8 -> 8.5 | D9: =D8 -> 1895 | E9: =E8 -> 14050 | F9: =F8 -> 781_1895 | G9: =G8 -> 330562 | H9: =H8 -> 0.1574 | ... N9: =N8 -> ref | O9: =IF(Q8="maïs fourrage",O8,O8+1) -> 1977 | P9: =IF(Q9="maïs fourrage",O9,O9+1) -> 1978 | Q9: =Q6 -> ray grass d'Italie | R9: =IF(OR(AND(Q9="ray grass d'Italie",Q8="blé tendre"),AND(Q9="maïs fourrage",Q8="ray grass d'Italie"),AND(Q9="blé tendre",Q8="maïs fourrage")),"ok","pb") -> ok | S9: =CONCATENATE(F9,"-",I9,"-",J9,"-",L9,"-",M9,"-",N9) -> 781_1895-562_NGC25-1-2-BT-ref | T9: =CONCATENATE(F9,"-",I9,"-",J9,"-",L9,"-",M9,"-",N9,"-",P9,"-",VLOOKUP(Q9,Liste_plantes!$A$2:$B$7,2,FALSE)) -> 781_1895-562_NGC25-1-2-BT-ref-1978-rgi | U9: =V8+1 -> 28353 | V9: =IF(Q9="blé tendre",CONCATENATE("15/08/",P9),IF(Q9="ray grass d'Italie",CONCATENATE("08/03/",P9),IF(Q9="maïs fourrage",CONCATENATE("01/10/",P9),"pb"))) -> 08/03/1978 | W9: =IF(OR(YEAR(U9)=1978,(U9-V8)=1),"OK","!!!") -> OK | X9: =U9-DATE($O9,1,1)+1 -> 228 | Y9: =V9-DATE($O9,1,1)+1 -> 432 | Z9: =IF(AND(Q8="prairie",Q9="prairie"),"prairie_ini.xml","snu_ini.xml") -> snu_ini.xml | AA9: =CONCATENATE(G9,"_",H9) -> 330562_0.1574 | AB9: =CONCATENATE($E9,"_",N9,"_sta.xml") -> 14050_ref_sta.xml | AC9: =CONCATENATE($E9,".",YEAR(U9)) -> 14050.1977 | AD9: =CONCATENATE($E9,".",YEAR(V9)) -> 14050.1978 | AE9: =IF(YEAR(V9)=YEAR(U9),1,2) -> 2 | AF9: 1 | AG9: 0 | AH9: =VLOOKUP(Q9,Liste_plantes!$A$2:$C$7,3,FALSE) -> ItalianRyegrass_CoverCrop_plt.xml | AI9: =CONCATENATE(J9,"-",L9,"-",VLOOKUP(Q9,Liste_plantes!$A$2:$B$7,2,FALSE),"_tec.xml") -> 1-2-rgi_tec.xml | AJ9: null | AK9: null | AL9: null | AM9: null
A10: =A9 -> cnrm-cm5-aladin63 | B10: =B9 -> cca | C10: =C9 -> 8.5 | D10: =D9 -> 1895 | E10: =E9 -> 14050 | F10: =F9 -> 781_1895 | G10: =G9 -> 330562 | H10: =H9 -> 0.1574 | ... N10: =N9 -> ref | O10: =IF(Q9="maïs fourrage",O9,O9+1) -> 1978 | P10: =IF(Q10="maïs fourrage",O10,O10+1) -> 1978 | Q10: =Q7 -> maïs fourrage | R10: =IF(OR(AND(Q10="ray grass d'Italie",Q9="blé tendre"),AND(Q10="maïs fourrage",Q9="ray grass d'Italie"),AND(Q10="blé tendre",Q9="maïs fourrage")),"ok","pb") -> ok | S10: =CONCATENATE(F10,"-",I10,"-",J10,"-",L10,"-",M10,"-",N10) -> 781_1895-562_NGC25-1-2-BT-ref | T10: =CONCATENATE(F10,"-",I10,"-",J10,"-",L10,"-",M10,"-",N10,"-",P10,"-",VLOOKUP(Q10,Liste_plantes!$A$2:$B$7,2,FALSE)) -> 781_1895-562_NGC25-1-2-BT-ref-1978-MF | U10: =V9+1 -> 28558 | V10: =IF(Q10="blé tendre",CONCATENATE("15/08/",P10),IF(Q10="ray grass d'Italie",CONCATENATE("08/03/",P10),IF(Q10="maïs fourrage",CONCATENATE("01/10/",P10),"pb"))) -> 01/10/1978 | W10: =IF(OR(YEAR(U10)=1978,(U10-V9)=1),"OK","!!!") -> OK | X10: =U10-DATE($O10,1,1)+1 -> 68 | Y10: =V10-DATE($O10,1,1)+1 -> 274 | Z10: =IF(AND(Q9="prairie",Q10="prairie"),"prairie_ini.xml","snu_ini.xml") -> snu_ini.xml | AA10: =CONCATENATE(G10,"_",H10) -> 330562_0.1574 | AB10: =CONCATENATE($E10,"_",N10,"_sta.xml") -> 14050_ref_sta.xml | AC10: =CONCATENATE($E10,".",YEAR(U10)) -> 14050.1978 | AD10: =CONCATENATE($E10,".",YEAR(V10)) -> 14050.1978 | AE10: =IF(YEAR(V10)=YEAR(U10),1,2) -> 1 | AF10: 1 | AG10: 0 | AH10: =VLOOKUP(Q10,Liste_plantes!$A$2:$C$7,3,FALSE) -> corn_plt.xml | AI10: =CONCATENATE(J10,"-",L10,"-",VLOOKUP(Q10,Liste_plantes!$A$2:$B$7,2,FALSE),"_tec.xml") -> 1-2-MF_tec.xml | AJ10: null | AK10: null | AL10: null | AM10: null
A11: =A10 -> cnrm-cm5-aladin63 | B11: =B10 -> cca | C11: =C10 -> 8.5 | D11: =D10 -> 1895 | E11: =E10 -> 14050 | F11: =F10 -> 781_1895 | G11: =G10 -> 330562 | H11: =H10 -> 0.1574 | ... N11: =N10 -> ref | O11: =IF(Q10="maïs fourrage",O10,O10+1) -> 1978 | P11: =IF(Q11="maïs fourrage",O11,O11+1) -> 1979 | Q11: =Q8 -> blé tendre | R11: =IF(OR(AND(Q11="ray grass d'Italie",Q10="blé tendre"),AND(Q11="maïs fourrage",Q10="ray grass d'Italie"),AND(Q11="blé tendre",Q10="maïs fourrage")),"ok","pb") -> ok | S11: =CONCATENATE(F11,"-",I11,"-",J11,"-",L11,"-",M11,"-",N11) -> 781_1895-562_NGC25-1-2-BT-ref | T11: =CONCATENATE(F11,"-",I11,"-",J11,"-",L11,"-",M11,"-",N11,"-",P11,"-",VLOOKUP(Q11,Liste_plantes!$A$2:$B$7,2,FALSE)) -> 781_1895-562_NGC25-1-2-BT-ref-1979-BT | U11: =V10+1 -> 28765 | V11: =IF(Q11="blé tendre",CONCATENATE("15/08/",P11),IF(Q11="ray grass d'Italie",CONCATENATE("08/03/",P11),IF(Q11="maïs fourrage",CONCATENATE("01/10/",P11),"pb"))) -> 15/08/1979 | W11: =IF(OR(YEAR(U11)=1978,(U11-V10)=1),"OK","!!!") -> OK | X11: =U11-DATE($O11,1,1)+1 -> 275 | Y11: =V11-DATE($O11,1,1)+1 -> 592 | Z11: =IF(AND(Q10="prairie",Q11="prairie"),"prairie_ini.xml","snu_ini.xml") -> snu_ini.xml | AA11: =CONCATENATE(G11,"_",H11) -> 330562_0.1574 | AB11: =CONCATENATE($E11,"_",N11,"_sta.xml") -> 14050_ref_sta.xml | AC11: =CONCATENATE($E11,".",YEAR(U11)) -> 14050.1978 | AD11: =CONCATENATE($E11,".",YEAR(V11)) -> 14050.1979 | AE11: =IF(YEAR(V11)=YEAR(U11),1,2) -> 2 | AF11: 1 | AG11: 0 | AH11: =VLOOKUP(Q11,Liste_plantes!$A$2:$C$7,3,FALSE) -> wheat_plt.xml | AI11: =CONCATENATE(J11,"-",L11,"-",VLOOKUP(Q11,Liste_plantes!$A$2:$B$7,2,FALSE),"_tec.xml") -> 1-2-BT_tec.xml | AJ11: null | AK11: null | AL11: null | AM11: null
A12: =A11 -> cnrm-cm5-aladin63 | B12: =B11 -> cca | C12: =C11 -> 8.5 | D12: =D11 -> 1895 | E12: =E11 -> 14050 | F12: =F11 -> 781_1895 | G12: =G11 -> 330562 | H12: =H11 -> 0.1574 | ... N12: =N11 -> ref | O12: =IF(Q11="maïs fourrage",O11,O11+1) -> 1979 | P12: =IF(Q12="maïs fourrage",O12,O12+1) -> 1980 | Q12: =Q9 -> ray grass d'Italie | R12: =IF(OR(AND(Q12="ray grass d'Italie",Q11="blé tendre"),AND(Q12="maïs fourrage",Q11="ray grass d'Italie"),AND(Q12="blé tendre",Q11="maïs fourrage")),"ok","pb") -> ok | S12: =CONCATENATE(F12,"-",I12,"-",J12,"-",L12,"-",M12,"-",N12) -> 781_1895-562_NGC25-1-2-BT-ref | T12: =CONCATENATE(F12,"-",I12,"-",J12,"-",L12,"-",M12,"-",N12,"-",P12,"-",VLOOKUP(Q12,Liste_plantes!$A$2:$B$7,2,FALSE)) -> 781_1895-562_NGC25-1-2-BT-ref-1980-rgi | U12: =V11+1 -> 29083 | V12: =IF(Q12="blé tendre",CONCATENATE("15/08/",P12),IF(Q12="ray grass d'Italie",CONCATENATE("08/03/",P12),IF(Q12="maïs fourrage",CONCATENATE("01/10/",P12),"pb"))) -> 08/03/1980 | W12: =IF(OR(YEAR(U12)=1978,(U12-V11)=1),"OK","!!!") -> OK | X12: =U12-DATE($O12,1,1)+1 -> 228 | Y12: =V12-DATE($O12,1,1)+1 -> 433 | Z12: =IF(AND(Q11="prairie",Q12="prairie"),"prairie_ini.xml","snu_ini.xml") -> snu_ini.xml | AA12: =CONCATENATE(G12,"_",H12) -> 330562_0.1574 | AB12: =CONCATENATE($E12,"_",N12,"_sta.xml") -> 14050_ref_sta.xml | AC12: =CONCATENATE($E12,".",YEAR(U12)) -> 14050.1979 | AD12: =CONCATENATE($E12,".",YEAR(V12)) -> 14050.1980 | AE12: =IF(YEAR(V12)=YEAR(U12),1,2) -> 2 | AF12: 1 | AG12: 0 | AH12: =VLOOKUP(Q12,Liste_plantes!$A$2:$C$7,3,FALSE) -> ItalianRyegrass_CoverCrop_plt.xml | AI12: =CONCATENATE(J12,"-",L12,"-",VLOOKUP(Q12,Liste_plantes!$A$2:$B$7,2,FALSE),"_tec.xml") -> 1-2-rgi_tec.xml | AJ12: null | AK12: null | AL12: null | AM12: null
A13: =A12 -> cnrm-cm5-aladin63 | B13: =B12 -> cca | C13: =C12 -> 8.5 | D13: =D12 -> 1895 | E13: =E12 -> 14050 | F13: =F12 -> 781_1895 | G13: =G12 -> 330562 | H13: =H12 -> 0.1574 | ... N13: =N12 -> ref | O13: =IF(Q12="maïs fourrage",O12,O12+1) -> 1980 | P13: =IF(Q13="maïs fourrage",O13,O13+1) -> 1980 | Q13: =Q10 -> maïs fourrage | R13: =IF(OR(AND(Q13="ray grass d'Italie",Q12="blé tendre"),AND(Q13="maïs fourrage",Q12="ray grass d'Italie"),AND(Q13="blé tendre",Q12="maïs fourrage")),"ok","pb") -> ok | S13: =CONCATENATE(F13,"-",I13,"-",J13,"-",L13,"-",M13,"-",N13) -> 781_1895-562_NGC25-1-2-BT-ref | T13: =CONCATENATE(F13,"-",I13,"-",J13,"-",L13,"-",M13,"-",N13,"-",P13,"-",VLOOKUP(Q13,Liste_plantes!$A$2:$B$7,2,FALSE)) -> 781_1895-562_NGC25-1-2-BT-ref-1980-MF | U13: =V12+1 -> 29289 | V13: =IF(Q13="blé tendre",CONCATENATE("15/08/",P13),IF(Q13="ray grass d'Italie",CONCATENATE("08/03/",P13),IF(Q13="maïs fourrage",CONCATENATE("01/10/",P13),"pb"))) -> 01/10/1980 | W13: =IF(OR(YEAR(U13)=1978,(U13-V12)=1),"OK","!!!") -> OK | X13: =U13-DATE($O13,1,1)+1 -> 69 | Y13: =V13-DATE($O13,1,1)+1 -> 275 | Z13: =IF(AND(Q12="prairie",Q13="prairie"),"prairie_ini.xml","snu_ini.xml") -> snu_ini.xml | AA13: =CONCATENATE(G13,"_",H13) -> 330562_0.1574 | AB13: =CONCATENATE($E13,"_",N13,"_sta.xml") -> 14050_ref_sta.xml | AC13: =CONCATENATE($E13,".",YEAR(U13)) -> 14050.1980 | AD13: =CONCATENATE($E13,".",YEAR(V13)) -> 14050.1980 | AE13: =IF(YEAR(V13)=YEAR(U13),1,2) -> 1 | AF13: 1 | AG13: 0 | AH13: =VLOOKUP(Q13,Liste_plantes!$A$2:$C$7,3,FALSE) -> corn_plt.xml | AI13: =CONCATENATE(J13,"-",L13,"-",VLOOKUP(Q13,Liste_plantes!$A$2:$B$7,2,FALSE),"_tec.xml") -> 1-2-MF_tec.xml | AJ13: null | AK13: null | AL13: null | AM13: null
A14: =A13 -> cnrm-cm5-aladin63 | B14: =B13 -> cca | C14: =C13 -> 8.5 | D14: =D13 -> 1895 | E14: =E13 -> 14050 | F14: =F13 -> 781_1895 | G14: =G13 -> 330562 | H14: =H13 -> 0.1574 | ... N14: =N13 -> ref | O14: =IF(Q13="maïs fourrage",O13,O13+1) -> 1980 | P14: =IF(Q14="maïs fourrage",O14,O14+1) -> 1981 | Q14: =Q11 -> blé tendre | R14: =IF(OR(AND(Q14="ray grass d'Italie",Q13="blé tendre"),AND(Q14="maïs fourrage",Q13="ray grass d'Italie"),AND(Q14="blé tendre",Q13="maïs fourrage")),"ok","pb") -> ok | S14: =CONCATENATE(F14,"-",I14,"-",J14,"-",L14,"-",M14,"-",N14) -> 781_1895-562_NGC25-1-2-BT-ref | T14: =CONCATENATE(F14,"-",I14,"-",J14,"-",L14,"-",M14,"-",N14,"-",P14,"-",VLOOKUP(Q14,Liste_plantes!$A$2:$B$7,2,FALSE)) -> 781_1895-562_NGC25-1-2-BT-ref-1981-BT | U14: =V13+1 -> 29496 | V14: =IF(Q14="blé tendre",CONCATENATE("15/08/",P14),IF(Q14="ray grass d'Italie",CONCATENATE("08/03/",P14),IF(Q14="maïs fourrage",CONCATENATE("01/10/",P14),"pb"))) -> 15/08/1981 | W14: =IF(OR(YEAR(U14)=1978,(U14-V13)=1),"OK","!!!") -> OK | X14: =U14-DATE($O14,1,1)+1 -> 276 | Y14: =V14-DATE($O14,1,1)+1 -> 593 | Z14: =IF(AND(Q13="prairie",Q14="prairie"),"prairie_ini.xml","snu_ini.xml") -> snu_ini.xml | AA14: =CONCATENATE(G14,"_",H14) -> 330562_0.1574 | AB14: =CONCATENATE($E14,"_",N14,"_sta.xml") -> 14050_ref_sta.xml | AC14: =CONCATENATE($E14,".",YEAR(U14)) -> 14050.1980 | AD14: =CONCATENATE($E14,".",YEAR(V14)) -> 14050.1981 | AE14: =IF(YEAR(V14)=YEAR(U14),1,2) -> 2 | AF14: 1 | AG14: 0 | AH14: =VLOOKUP(Q14,Liste_plantes!$A$2:$C$7,3,FALSE) -> wheat_plt.xml | AI14: =CONCATENATE(J14,"-",L14,"-",VLOOKUP(Q14,Liste_plantes!$A$2:$B$7,2,FALSE),"_tec.xml") -> 1-2-BT_tec.xml | AJ14: null | AK14: null | AL14: null | AM14: null
A15: =A14 -> cnrm-cm5-aladin63 | B15: =B14 -> cca | C15: =C14 -> 8.5 | D15: =D14 -> 1895 | E15: =E14 -> 14050 | F15: =F14 -> 781_1895 | G15: =G14 -> 330562 | H15: =H14 -> 0.1574 | ... N15: =N14 -> ref | O15: =IF(Q14="maïs fourrage",O14,O14+1) -> 1981 | P15: =IF(Q15="maïs fourrage",O15,O15+1) -> 1982 | Q15: =Q12 -> ray grass d'Italie | R15: =IF(OR(AND(Q15="ray grass d'Italie",Q14="blé tendre"),AND(Q15="maïs fourrage",Q14="ray grass d'Italie"),AND(Q15="blé tendre",Q14="maïs fourrage")),"ok","pb") -> ok | S15: =CONCATENATE(F15,"-",I15,"-",J15,"-",L15,"-",M15,"-",N15) -> 781_1895-562_NGC25-1-2-BT-ref | T15: =CONCATENATE(F15,"-",I15,"-",J15,"-",L15,"-",M15,"-",N15,"-",P15,"-",VLOOKUP(Q15,Liste_plantes!$A$2:$B$7,2,FALSE)) -> 781_1895-562_NGC25-1-2-BT-ref-1982-rgi | U15: =V14+1 -> 29814 | V15: =IF(Q15="blé tendre",CONCATENATE("15/08/",P15),IF(Q15="ray grass d'Italie",CONCATENATE("08/03/",P15),IF(Q15="maïs fourrage",CONCATENATE("01/10/",P15),"pb"))) -> 08/03/1982 | W15: =IF(OR(YEAR(U15)=1978,(U15-V14)=1),"OK","!!!") -> OK | X15: =U15-DATE($O15,1,1)+1 -> 228 | Y15: =V15-DATE($O15,1,1)+1 -> 432 | Z15: =IF(AND(Q14="prairie",Q15="prairie"),"prairie_ini.xml","snu_ini.xml") -> snu_ini.xml | AA15: =CONCATENATE(G15,"_",H15) -> 330562_0.1574 | AB15: =CONCATENATE($E15,"_",N15,"_sta.xml") -> 14050_ref_sta.xml | AC15: =CONCATENATE($E15,".",YEAR(U15)) -> 14050.1981 | AD15: =CONCATENATE($E15,".",YEAR(V15)) -> 14050.1982 | AE15: =IF(YEAR(V15)=YEAR(U15),1,2) -> 2 | AF15: 1 | AG15: 0 | AH15: =VLOOKUP(Q15,Liste_plantes!$A$2:$C$7,3,FALSE) -> ItalianRyegrass_CoverCrop_plt.xml | AI15: =CONCATENATE(J15,"-",L15,"-",VLOOKUP(Q15,Liste_plantes!$A$2:$B$7,2,FALSE),"_tec.xml") -> 1-2-rgi_tec.xml | AJ15: null | AK15: null | AL15: null | AM15: null
A16: =A15 -> cnrm-cm5-aladin63 | B16: =B15 -> cca | C16: =C15 -> 8.5 | D16: =D15 -> 1895 | E16: =E15 -> 14050 | F16: =F15 -> 781_1895 | G16: =G15 -> 330562 | H16: =H15 -> 0.1574 | ... N16: =N15 -> ref | O16: =IF(Q15="maïs fourrage",O15,O15+1) -> 1982 | P16: =IF(Q16="maïs fourrage",O16,O16+1) -> 1982 | Q16: =Q13 -> maïs fourrage | R16: =IF(OR(AND(Q16="ray grass d'Italie",Q15="blé tendre"),AND(Q16="maïs fourrage",Q15="ray grass d'Italie"),AND(Q16="blé tendre",Q15="maïs fourrage")),"ok","pb") -> ok | S16: =CONCATENATE(F16,"-",I16,"-",J16,"-",L16,"-",M16,"-",N16) -> 781_1895-562_NGC25-1-2-BT-ref | T16: =CONCATENATE(F16,"-",I16,"-",J16,"-",L16,"-",M16,"-",N16,"-",P16,"-",VLOOKUP(Q16,Liste_plantes!$A$2:$B$7,2,FALSE)) -> 781_1895-562_NGC25-1-2-BT-ref-1982-MF | U16: =V15+1 -> 30019 | V16: =IF(Q16="blé tendre",CONCATENATE("15/08/",P16),IF(Q16="ray grass d'Italie",CONCATENATE("08/03/",P16),IF(Q16="maïs fourrage",CONCATENATE("01/10/",P16),"pb"))) -> 01/10/1982 | W16: =IF(OR(YEAR(U16)=1978,(U16-V15)=1),"OK","!!!") -> OK | X16: =U16-DATE($O16,1,1)+1 -> 68 | Y16: =V16-DATE($O16,1,1)+1 -> 274 | Z16: =IF(AND(Q15="prairie",Q16="prairie"),"prairie_ini.xml","snu_ini.xml") -> snu_ini.xml | AA16: =CONCATENATE(G16,"_",H16) -> 330562_0.1574 | AB16: =CONCATENATE($E16,"_",N16,"_sta.xml") -> 14050_ref_sta.xml | AC16: =CONCATENATE($E16,".",YEAR(U16)) -> 14050.1982 | AD16: =CONCATENATE($E16,".",YEAR(V16)) -> 14050.1982 | AE16: =IF(YEAR(V16)=YEAR(U16),1,2) -> 1 | AF16: 1 | AG16: 0 | AH16: =VLOOKUP(Q16,Liste_plantes!$A$2:$C$7,3,FALSE) -> corn_plt.xml | AI16: =CONCATENATE(J16,"-",L16,"-",VLOOKUP(Q16,Liste_plantes!$A$2:$B$7,2,FALSE),"_tec.xml") -> 1-2-MF_tec.xml | AJ16: null | AK16: null | AL16: null | AM16: null
A17: =A16 -> cnrm-cm5-aladin63 | B17: =B16 -> cca | C17: =C16 -> 8.5 | D17: =D16 -> 1895 | E17: =E16 -> 14050 | F17: =F16 -> 781_1895 | G17: =G16 -> 330562 | H17: =H16 -> 0.1574 | ... N17: =N16 -> ref | O17: =IF(Q16="maïs fourrage",O16,O16+1) -> 1982 | P17: =IF(Q17="maïs fourrage",O17,O17+1) -> 1983 | Q17: =Q14 -> blé tendre | R17: =IF(OR(AND(Q17="ray grass d'Italie",Q16="blé tendre"),AND(Q17="maïs fourrage",Q16="ray grass d'Italie"),AND(Q17="blé tendre",Q16="maïs fourrage")),"ok","pb") -> ok | S17: =CONCATENATE(F17,"-",I17,"-",J17,"-",L17,"-",M17,"-",N17) -> 781_1895-562_NGC25-1-2-BT-ref | T17: =CONCATENATE(F17,"-",I17,"-",J17,"-",L17,"-",M17,"-",N17,"-",P17,"-",VLOOKUP(Q17,Liste_plantes!$A$2:$B$7,2,FALSE)) -> 781_1895-562_NGC25-1-2-BT-ref-1983-BT | U17: =V16+1 -> 30226 | V17: =IF(Q17="blé tendre",CONCATENATE("15/08/",P17),IF(Q17="ray grass d'Italie",CONCATENATE("08/03/",P17),IF(Q17="maïs fourrage",CONCATENATE("01/10/",P17),"pb"))) -> 15/08/1983 | W17: =IF(OR(YEAR(U17)=1978,(U17-V16)=1),"OK","!!!") -> OK | X17: =U17-DATE($O17,1,1)+1 -> 275 | Y17: =V17-DATE($O17,1,1)+1 -> 592 | Z17: =IF(AND(Q16="prairie",Q17="prairie"),"prairie_ini.xml","snu_ini.xml") -> snu_ini.xml | AA17: =CONCATENATE(G17,"_",H17) -> 330562_0.1574 | AB17: =CONCATENATE($E17,"_",N17,"_sta.xml") -> 14050_ref_sta.xml | AC17: =CONCATENATE($E17,".",YEAR(U17)) -> 14050.1982 | AD17: =CONCATENATE($E17,".",YEAR(V17)) -> 14050.1983 | AE17: =IF(YEAR(V17)=YEAR(U17),1,2) -> 2 | AF17: 1 | AG17: 0 | AH17: =VLOOKUP(Q17,Liste_plantes!$A$2:$C$7,3,FALSE) -> wheat_plt.xml | AI17: =CONCATENATE(J17,"-",L17,"-",VLOOKUP(Q17,Liste_plantes!$A$2:$B$7,2,FALSE),"_tec.xml") -> 1-2-BT_tec.xml | AJ17: null | AK17: null | AL17: null | AM17: null
A18: =A17 -> cnrm-cm5-aladin63 | B18: =B17 -> cca | C18: =C17 -> 8.5 | D18: =D17 -> 1895 | E18: =E17 -> 14050 | F18: =F17 -> 781_1895 | G18: =G17 -> 330562 | H18: =H17 -> 0.1574 | ... N18: =N17 -> ref | O18: =IF(Q17="maïs fourrage",O17,O17+1) -> 1983 | P18: =IF(Q18="maïs fourrage",O18,O18+1) -> 1984 | Q18: =Q15 -> ray grass d'Italie | R18: =IF(OR(AND(Q18="ray grass d'Italie",Q17="blé tendre"),AND(Q18="maïs fourrage",Q17="ray grass d'Italie"),AND(Q18="blé tendre",Q17="maïs fourrage")),"ok","pb") -> ok | S18: =CONCATENATE(F18,"-",I18,"-",J18,"-",L18,"-",M18,"-",N18) -> 781_1895-562_NGC25-1-2-BT-ref | T18: =CONCATENATE(F18,"-",I18,"-",J18,"-",L18,"-",M18,"-",N18,"-",P18,"-",VLOOKUP(Q18,Liste_plantes!$A$2:$B$7,2,FALSE)) -> 781_1895-562_NGC25-1-2-BT-ref-1984-rgi | U18: =V17+1 -> 30544 | V18: =IF(Q18="blé tendre",CONCATENATE("15/08/",P18),IF(Q18="ray grass d'Italie",CONCATENATE("08/03/",P18),IF(Q18="maïs fourrage",CONCATENATE("01/10/",P18),"pb"))) -> 08/03/1984 | W18: =IF(OR(YEAR(U18)=1978,(U18-V17)=1),"OK","!!!") -> OK | X18: =U18-DATE($O18,1,1)+1 -> 228 | Y18: =V18-DATE($O18,1,1)+1 -> 433 | Z18: =IF(AND(Q17="prairie",Q18="prairie"),"prairie_ini.xml","snu_ini.xml") -> snu_ini.xml | AA18: =CONCATENATE(G18,"_",H18) -> 330562_0.1574 | AB18: =CONCATENATE($E18,"_",N18,"_sta.xml") -> 14050_ref_sta.xml | AC18: =CONCATENATE($E18,".",YEAR(U18)) -> 14050.1983 | AD18: =CONCATENATE($E18,".",YEAR(V18)) -> 14050.1984 | AE18: =IF(YEAR(V18)=YEAR(U18),1,2) -> 2 | AF18: 1 | AG18: 0 | AH18: =VLOOKUP(Q18,Liste_plantes!$A$2:$C$7,3,FALSE) -> ItalianRyegrass_CoverCrop_plt.xml | AI18: =CONCATENATE(J18,"-",L18,"-",VLOOKUP(Q18,Liste_plantes!$A$2:$B$7,2,FALSE),"_tec.xml") -> 1-2-rgi_tec.xml | AJ18: null | AK18: null | AL18: null | AM18: null
... A49: =A48 -> cnrm-cm5-aladin63 | B49: =B48 -> cca | C49: =C48 -> 8.5 | D49: =D48 -> 1895 | E49: =E48 -> 14050 | F49: =F48 -> 781_1895 | G49: =G48 -> 330562 | H49: =H48 -> 0.1574 | ... N49: =N48 -> ref | O49: =IF(Q48="maïs fourrage",O48,O48+1) -> 2004 | P49: =IF(Q49="maïs fourrage",O49,O49+1) -> 2004 | Q49: =Q46 -> maïs fourrage | R49: =IF(OR(AND(Q49="ray grass d'Italie",Q48="blé tendre"),AND(Q49="maïs fourrage",Q48="ray grass d'Italie"),AND(Q49="blé tendre",Q48="maïs fourrage")),"ok","pb") -> ok | S49: =CONCATENATE(F49,"-",I49,"-",J49,"-",L49,"-",M49,"-",N49) -> 781_1895-562_NGC25-1-2-BT-ref | T49: =CONCATENATE(F49,"-",I49,"-",J49,"-",L49,"-",M49,"-",N49,"-",P49,"-",VLOOKUP(Q49,Liste_plantes!$A$2:$B$7,2,FALSE)) -> 781_1895-562_NGC25-1-2-BT-ref-2004-MF | U49: =V48+1 -> 38055 | V49: =IF(Q49="blé tendre",CONCATENATE("15/08/",P49),IF(Q49="ray grass d'Italie",CONCATENATE("08/03/",P49),IF(Q49="maïs fourrage",CONCATENATE("01/10/",P49),"pb"))) -> 01/10/2004 | W49: =IF(OR(YEAR(U49)=1978,(U49-V48)=1),"OK","!!!") -> OK | X49: =U49-DATE($O49,1,1)+1 -> 69 | Y49: =V49-DATE($O49,1,1)+1 -> 275 | Z49: =IF(AND(Q48="prairie",Q49="prairie"),"prairie_ini.xml","snu_ini.xml") -> snu_ini.xml | AA49: =CONCATENATE(G49,"_",H49) -> 330562_0.1574 | AB49: =CONCATENATE($E49,"_",N49,"_sta.xml") -> 14050_ref_sta.xml | AC49: =CONCATENATE($E49,".",YEAR(U49)) -> 14050.2004 | AD49: =CONCATENATE($E49,".",YEAR(V49)) -> 14050.2004 | AE49: =IF(YEAR(V49)=YEAR(U49),1,2) -> 1 | AF49: 1 | AG49: 0 | AH49: =VLOOKUP(Q49,Liste_plantes!$A$2:$C$7,3,FALSE) -> corn_plt.xml | AI49: =CONCATENATE(J49,"-",L49,"-",VLOOKUP(Q49,Liste_plantes!$A$2:$B$7,2,FALSE),"_tec.xml") -> 1-2-MF_tec.xml | AJ49: null | AK49: null | AL49: null | AM49: null
A50: =A49 -> cnrm-cm5-aladin63 | B50: =B49 -> cca | C50: =C49 -> 8.5 | D50: =D49 -> 1895 | E50: =E49 -> 14050 | F50: =F49 -> 781_1895 | G50: =G49 -> 330562 | H50: =H49 -> 0.1574 | ... N50: =N49 -> ref | O50: =IF(Q49="maïs fourrage",O49,O49+1) -> 2004 | P50: =IF(Q50="maïs fourrage",O50,O50+1) -> 2005 | Q50: blé tendre | R50: =IF(OR(AND(Q50="ray grass d'Italie",Q49="blé tendre"),AND(Q50="maïs fourrage",Q49="ray grass d'Italie"),AND(Q50="blé tendre",Q49="maïs fourrage")),"ok","pb") -> ok | S50: =CONCATENATE(F50,"-",I50,"-",J50,"-",L50,"-",M50,"-",N50) -> 781_1895-562_NGC25-1-2-BT-ref | T50: =CONCATENATE(F50,"-",I50,"-",J50,"-",L50,"-",M50,"-",N50,"-",P50,"-",VLOOKUP(Q50,Liste_plantes!$A$2:$B$7,2,FALSE)) -> 781_1895-562_NGC25-1-2-BT-ref-2005-BT | U50: =V49+1 -> 38262 | V50: =IF(Q50="blé tendre",CONCATENATE("15/08/",P50),IF(Q50="ray grass d'Italie",CONCATENATE("08/03/",P50),IF(Q50="maïs fourrage",CONCATENATE("01/10/",P50),"pb"))) -> 15/08/2005 | W50: =IF(OR(YEAR(U50)=1978,(U50-V49)=1),"OK","!!!") -> OK | X50: =U50-DATE($O50,1,1)+1 -> 276 | Y50: =V50-DATE($O50,1,1)+1 -> 593 | Z50: =IF(AND(Q49="prairie",Q50="prairie"),"prairie_ini.xml","snu_ini.xml") -> snu_ini.xml | AA50: =CONCATENATE(G50,"_",H50) -> 330562_0.1574 | AB50: =CONCATENATE($E50,"_",N50,"_sta.xml") -> 14050_ref_sta.xml | AC50: =CONCATENATE($E50,".",YEAR(U50)) -> 14050.2004 | AD50: =CONCATENATE($E50,".",YEAR(V50)) -> 14050.2005 | AE50: =IF(YEAR(V50)=YEAR(U50),1,2) -> 2 | AF50: 1 | AG50: 0 | AH50: =VLOOKUP(Q50,Liste_plantes!$A$2:$C$7,3,FALSE) -> wheat_plt.xml | AI50: =CONCATENATE(J50,"-",L50,"-",VLOOKUP(Q50,Liste_plantes!$A$2:$B$7,2,FALSE),"_tec.xml") -> 1-2-BT_tec.xml | AJ50: null | AK50: null | AL50: null | AM50: null
A51: cnrm-cm5-aladin63 | B51: cca | C51: 8.5 | D51: 1895 | E51: 14050 | F51: 781_1895 | G51: 330562 | H51: 0.1574 | I51: =I50 -> 562_NGC25 | J51: 1 | K51: BT_ci_MF | L51: 2 | M51: rgi | N51: NA | O51: 1972 | P51: =IF(Q51="maïs fourrage",O51,O51+1) -> 1973 | Q51: ray grass d'Italie | S51: =CONCATENATE(F51,"-",I51,"-",J51,"-",L51,"-",M51,"-",N51) -> 781_1895-562_NGC25-1-2-rgi-NA | T51: =CONCATENATE(F51,"-",I51,"-",J51,"-",L51,"-",M51,"-",N51,"-",P51,"-",VLOOKUP(Q51,Liste_plantes!$A$2:$B$7,2,FALSE)) -> 781_1895-562_NGC25-1-2-rgi-NA-1973-rgi | U51: 26547 | V51: =IF(Q51="blé tendre",CONCATENATE("15/08/",P51),IF(Q51="ray grass d'Italie",CONCATENATE("08/03/",P51),IF(Q51="maïs fourrage",CONCATENATE("01/10/",P51),"pb"))) -> 08/03/1973 | X51: =U51-DATE($O51,1,1)+1 -> 249 | Y51: =V51-DATE($O51,1,1)+1 -> 433 | Z51: snu_ini.xml | AA51: =CONCATENATE(G51,"_",H51) -> 330562_0.1574 | AB51: =AB52 -> 14050_ref_sta.xml | AC51: =CONCATENATE($E51,".",YEAR(U51)) -> 14050.1972 | AD51: =CONCATENATE($E51,".",YEAR(V51)) -> 14050.1973 | AE51: =IF(YEAR(V51)=YEAR(U51),1,2) -> 2 | AF51: 1 | AG51: 0 | AH51: =VLOOKUP(Q51,Liste_plantes!$A$2:$C$7,3,FALSE) -> ItalianRyegrass_CoverCrop_plt.xml | AI51: =CONCATENATE(J51,"-",L51,"-",VLOOKUP(Q51,Liste_plantes!$A$2:$B$7,2,FALSE),"_tec.xml") -> 1-2-rgi_tec.xml | AJ51: null | AK51: null | AL51: null | AM51: null
A52: =A51 -> cnrm-cm5-aladin63 | B52: =B51 -> cca | C52: =C51 -> 8.5 | D52: =D51 -> 1895 | E52: =E51 -> 14050 | F52: =F51 -> 781_1895 | G52: =G51 -> 330562 | H52: =H51 -> 0.1574 | ... N52: =N51 -> NA | O52: =IF(Q51="maïs fourrage",O51,O51+1) -> 1973 | P52: =IF(Q52="maïs fourrage",O52,O52+1) -> 1973 | Q52: maïs fourrage | R52: =IF(OR(AND(Q52="ray grass d'Italie",Q51="blé tendre"),AND(Q52="maïs fourrage",Q51="ray grass d'Italie"),AND(Q52="blé tendre",Q51="maïs fourrage")),"ok","pb") -> ok | S52: =CONCATENATE(F52,"-",I52,"-",J52,"-",L52,"-",M52,"-",N52) -> 781_1895-562_NGC25-1-2-rgi-NA | T52: =CONCATENATE(F52,"-",I52,"-",J52,"-",L52,"-",M52,"-",N52,"-",P52,"-",VLOOKUP(Q52,Liste_plantes!$A$2:$B$7,2,FALSE)) -> 781_1895-562_NGC25-1-2-rgi-NA-1973-MF | U52: =V51+1 -> 26732 | V52: =IF(Q52="blé tendre",CONCATENATE("15/08/",P52),IF(Q52="ray grass d'Italie",CONCATENATE("08/03/",P52),IF(Q52="maïs fourrage",CONCATENATE("01/10/",P52),"pb"))) -> 01/10/1973 | W52: =IF(OR(YEAR(U52)=1978,(U52-V51)=1),"OK","!!!") -> OK | X52: =U52-DATE($O52,1,1)+1 -> 68 | Y52: =V52-DATE($O52,1,1)+1 -> 274 | Z52: =IF(AND(Q51="prairie",Q52="prairie"),"prairie_ini.xml","snu_ini.xml") -> snu_ini.xml | AA52: =CONCATENATE(G52,"_",H52) -> 330562_0.1574 | AB52: =AB53 -> 14050_ref_sta.xml | AC52: =CONCATENATE($E52,".",YEAR(U52)) -> 14050.1973 | AD52: =CONCATENATE($E52,".",YEAR(V52)) -> 14050.1973 | AE52: =IF(YEAR(V52)=YEAR(U52),1,2) -> 1 | AF52: 1 | AG52: 0 | AH52: =VLOOKUP(Q52,Liste_plantes!$A$2:$C$7,3,FALSE) -> corn_plt.xml | AI52: =CONCATENATE(J52,"-",L52,"-",VLOOKUP(Q52,Liste_plantes!$A$2:$B$7,2,FALSE),"_tec.xml") -> 1-2-MF_tec.xml | AJ52: null | AK52: null | AL52: null | AM52: null
A53: =A52 -> cnrm-cm5-aladin63 | B53: =B52 -> cca | C53: =C52 -> 8.5 | D53: =D52 -> 1895 | E53: =E52 -> 14050 | F53: =F52 -> 781_1895 | G53: =G52 -> 330562 | H53: =H52 -> 0.1574 | ... N53: =N52 -> NA | O53: =IF(Q52="maïs fourrage",O52,O52+1) -> 1973 | P53: =IF(Q53="maïs fourrage",O53,O53+1) -> 1974 | Q53: blé tendre | R53: =IF(OR(AND(Q53="ray grass d'Italie",Q52="blé tendre"),AND(Q53="maïs fourrage",Q52="ray grass d'Italie"),AND(Q53="blé tendre",Q52="maïs fourrage")),"ok","pb") -> ok | S53: =CONCATENATE(F53,"-",I53,"-",J53,"-",L53,"-",M53,"-",N53) -> 781_1895-562_NGC25-1-2-rgi-NA | T53: =CONCATENATE(F53,"-",I53,"-",J53,"-",L53,"-",M53,"-",N53,"-",P53,"-",VLOOKUP(Q53,Liste_plantes!$A$2:$B$7,2,FALSE)) -> 781_1895-562_NGC25-1-2-rgi-NA-1974-BT | U53: =V52+1 -> 26939 | V53: =IF(Q53="blé tendre",CONCATENATE("15/08/",P53),IF(Q53="ray grass d'Italie",CONCATENATE("08/03/",P53),IF(Q53="maïs fourrage",CONCATENATE("01/10/",P53),"pb"))) -> 15/08/1974 | W53: =IF(OR(YEAR(U53)=1978,(U53-V52)=1),"OK","!!!") -> OK | X53: =U53-DATE($O53,1,1)+1 -> 275 | Y53: =V53-DATE($O53,1,1)+1 -> 592 | Z53: =IF(AND(Q52="prairie",Q53="prairie"),"prairie_ini.xml","snu_ini.xml") -> snu_ini.xml | AA53: =CONCATENATE(G53,"_",H53) -> 330562_0.1574 | AB53: =AB54 -> 14050_ref_sta.xml | AC53: =CONCATENATE($E53,".",YEAR(U53)) -> 14050.1973 | AD53: =CONCATENATE($E53,".",YEAR(V53)) -> 14050.1974 | AE53: =IF(YEAR(V53)=YEAR(U53),1,2) -> 2 | AF53: 1 | AG53: 0 | AH53: =VLOOKUP(Q53,Liste_plantes!$A$2:$C$7,3,FALSE) -> wheat_plt.xml | AI53: =CONCATENATE(J53,"-",L53,"-",VLOOKUP(Q53,Liste_plantes!$A$2:$B$7,2,FALSE),"_tec.xml") -> 1-2-BT_tec.xml | AJ53: null | AK53: null | AL53: null | AM53: null
A54: =A53 -> cnrm-cm5-aladin63 | B54: =B53 -> cca | C54: =C53 -> 8.5 | D54: =D53 -> 1895 | E54: =E53 -> 14050 | F54: =F53 -> 781_1895 | G54: =G53 -> 330562 | H54: =H53 -> 0.1574 | ... M54: =M53 -> rgi | N54: NA | O54: =IF(Q53="maïs fourrage",O53,O53+1) -> 1974 | P54: =IF(Q54="maïs fourrage",O54,O54+1) -> 1975 | Q54: =Q51 -> ray grass d'Italie | R54: =IF(OR(AND(Q54="ray grass d'Italie",Q53="blé tendre"),AND(Q54="maïs fourrage",Q53="ray grass d'Italie"),AND(Q54="blé tendre",Q53="maïs fourrage")),"ok","pb") -> ok | S54: =CONCATENATE(F54,"-",I54,"-",J54,"-",L54,"-",M54,"-",N54) -> 781_1895-562_NGC25-1-2-rgi-NA | T54: =CONCATENATE(F54,"-",I54,"-",J54,"-",L54,"-",M54,"-",N54,"-",P54,"-",VLOOKUP(Q54,Liste_plantes!$A$2:$B$7,2,FALSE)) -> 781_1895-562_NGC25-1-2-rgi-NA-1975-rgi | U54: =V53+1 -> 27257 | V54: =IF(Q54="blé tendre",CONCATENATE("15/08/",P54),IF(Q54="ray grass d'Italie",CONCATENATE("08/03/",P54),IF(Q54="maïs fourrage",CONCATENATE("01/10/",P54),"pb"))) -> 08/03/1975 | W54: =IF(OR(YEAR(U54)=1978,(U54-V53)=1),"OK","!!!") -> OK | X54: =U54-DATE($O54,1,1)+1 -> 228 | Y54: =V54-DATE($O54,1,1)+1 -> 432 | Z54: =IF(AND(Q53="prairie",Q54="prairie"),"prairie_ini.xml","snu_ini.xml") -> snu_ini.xml | AA54: =CONCATENATE(G54,"_",H54) -> 330562_0.1574 | AB54: =AB55 -> 14050_ref_sta.xml | AC54: =CONCATENATE($E54,".",YEAR(U54)) -> 14050.1974 | AD54: =CONCATENATE($E54,".",YEAR(V54)) -> 14050.1975 | AE54: =IF(YEAR(V54)=YEAR(U54),1,2) -> 2 | AF54: 1 | AG54: 0 | AH54: =VLOOKUP(Q54,Liste_plantes!$A$2:$C$7,3,FALSE) -> ItalianRyegrass_CoverCrop_plt.xml | AI54: =CONCATENATE(J54,"-",L54,"-",VLOOKUP(Q54,Liste_plantes!$A$2:$B$7,2,FALSE),"_tec.xml") -> 1-2-rgi_tec.xml | AJ54: null | AK54: null | AL54: null | AM54: null
A55: =A54 -> cnrm-cm5-aladin63 | B55: =B54 -> cca | C55: =C54 -> 8.5 | D55: =D54 -> 1895 | E55: =E54 -> 14050 | F55: =F54 -> 781_1895 | G55: =G54 -> 330562 | H55: =H54 -> 0.1574 | ... M55: =M54 -> rgi | N55: ref | O55: =IF(Q54="maïs fourrage",O54,O54+1) -> 1975 | P55: =IF(Q55="maïs fourrage",O55,O55+1) -> 1975 | Q55: =Q52 -> maïs fourrage | R55: =IF(OR(AND(Q55="ray grass d'Italie",Q54="blé tendre"),AND(Q55="maïs fourrage",Q54="ray grass d'Italie"),AND(Q55="blé tendre",Q54="maïs fourrage")),"ok","pb") -> ok | S55: =CONCATENATE(F55,"-",I55,"-",J55,"-",L55,"-",M55,"-",N55) -> 781_1895-562_NGC25-1-2-rgi-ref | T55: =CONCATENATE(F55,"-",I55,"-",J55,"-",L55,"-",M55,"-",N55,"-",P55,"-",VLOOKUP(Q55,Liste_plantes!$A$2:$B$7,2,FALSE)) -> 781_1895-562_NGC25-1-2-rgi-ref-1975-MF | U55: =V54+1 -> 27462 | V55: =IF(Q55="blé tendre",CONCATENATE("15/08/",P55),IF(Q55="ray grass d'Italie",CONCATENATE("08/03/",P55),IF(Q55="maïs fourrage",CONCATENATE("01/10/",P55),"pb"))) -> 01/10/1975 | W55: =IF(OR(YEAR(U55)=1978,(U55-V54)=1),"OK","!!!") -> OK | X55: =U55-DATE($O55,1,1)+1 -> 68 | Y55: =V55-DATE($O55,1,1)+1 -> 274 | Z55: =IF(AND(Q54="prairie",Q55="prairie"),"prairie_ini.xml","snu_ini.xml") -> snu_ini.xml | AA55: =CONCATENATE(G55,"_",H55) -> 330562_0.1574 | AB55: =CONCATENATE($E55,"_",N55,"_sta.xml") -> 14050_ref_sta.xml | AC55: =CONCATENATE($E55,".",YEAR(U55)) -> 14050.1975 | AD55: =CONCATENATE($E55,".",YEAR(V55)) -> 14050.1975 | AE55: =IF(YEAR(V55)=YEAR(U55),1,2) -> 1 | AF55: 1 | AG55: 0 | AH55: =VLOOKUP(Q55,Liste_plantes!$A$2:$C$7,3,FALSE) -> corn_plt.xml | AI55: =CONCATENATE(J55,"-",L55,"-",VLOOKUP(Q55,Liste_plantes!$A$2:$B$7,2,FALSE),"_tec.xml") -> 1-2-MF_tec.xml | AJ55: null | AK55: null | AL55: null | AM55: null
A56: =A55 -> cnrm-cm5-aladin63 | B56: =B55 -> cca | C56: =C55 -> 8.5 | D56: =D55 -> 1895 | E56: =E55 -> 14050 | F56: =F55 -> 781_1895 | G56: =G55 -> 330562 | H56: =H55 -> 0.1574 | ... N56: =N55 -> ref | O56: =IF(Q55="maïs fourrage",O55,O55+1) -> 1975 | P56: =IF(Q56="maïs fourrage",O56,O56+1) -> 1976 | Q56: =Q53 -> blé tendre | R56: =IF(OR(AND(Q56="ray grass d'Italie",Q55="blé tendre"),AND(Q56="maïs fourrage",Q55="ray grass d'Italie"),AND(Q56="blé tendre",Q55="maïs fourrage")),"ok","pb") -> ok | S56: =CONCATENATE(F56,"-",I56,"-",J56,"-",L56,"-",M56,"-",N56) -> 781_1895-562_NGC25-1-2-rgi-ref | T56: =CONCATENATE(F56,"-",I56,"-",J56,"-",L56,"-",M56,"-",N56,"-",P56,"-",VLOOKUP(Q56,Liste_plantes!$A$2:$B$7,2,FALSE)) -> 781_1895-562_NGC25-1-2-rgi-ref-1976-BT | U56: =V55+1 -> 27669 | V56: =IF(Q56="blé tendre",CONCATENATE("15/08/",P56),IF(Q56="ray grass d'Italie",CONCATENATE("08/03/",P56),IF(Q56="maïs fourrage",CONCATENATE("01/10/",P56),"pb"))) -> 15/08/1976 | W56: =IF(OR(YEAR(U56)=1978,(U56-V55)=1),"OK","!!!") -> OK | X56: =U56-DATE($O56,1,1)+1 -> 275 | Y56: =V56-DATE($O56,1,1)+1 -> 593 | Z56: =IF(AND(Q55="prairie",Q56="prairie"),"prairie_ini.xml","snu_ini.xml") -> snu_ini.xml | AA56: =CONCATENATE(G56,"_",H56) -> 330562_0.1574 | AB56: =CONCATENATE($E56,"_",N56,"_sta.xml") -> 14050_ref_sta.xml | AC56: =CONCATENATE($E56,".",YEAR(U56)) -> 14050.1975 | AD56: =CONCATENATE($E56,".",YEAR(V56)) -> 14050.1976 | AE56: =IF(YEAR(V56)=YEAR(U56),1,2) -> 2 | AF56: 1 | AG56: 0 | AH56: =VLOOKUP(Q56,Liste_plantes!$A$2:$C$7,3,FALSE) -> wheat_plt.xml | AI56: =CONCATENATE(J56,"-",L56,"-",VLOOKUP(Q56,Liste_plantes!$A$2:$B$7,2,FALSE),"_tec.xml") -> 1-2-BT_tec.xml | AJ56: null | AK56: null | AL56: null | AM56: null
A57: =A56 -> cnrm-cm5-aladin63 | B57: =B56 -> cca | C57: =C56 -> 8.5 | D57: =D56 -> 1895 | E57: =E56 -> 14050 | F57: =F56 -> 781_1895 | G57: =G56 -> 330562 | H57: =H56 -> 0.1574 | ... N57: =N56 -> ref | O57: =IF(Q56="maïs fourrage",O56,O56+1) -> 1976 | P57: =IF(Q57="maïs fourrage",O57,O57+1) -> 1977 | Q57: =Q54 -> ray grass d'Italie | R57: =IF(OR(AND(Q57="ray grass d'Italie",Q56="blé tendre"),AND(Q57="maïs fourrage",Q56="ray grass d'Italie"),AND(Q57="blé tendre",Q56="maïs fourrage")),"ok","pb") -> ok | S57: =CONCATENATE(F57,"-",I57,"-",J57,"-",L57,"-",M57,"-",N57) -> 781_1895-562_NGC25-1-2-rgi-ref | T57: =CONCATENATE(F57,"-",I57,"-",J57,"-",L57,"-",M57,"-",N57,"-",P57,"-",VLOOKUP(Q57,Liste_plantes!$A$2:$B$7,2,FALSE)) -> 781_1895-562_NGC25-1-2-rgi-ref-1977-rgi | U57: =V56+1 -> 27988 | V57: =IF(Q57="blé tendre",CONCATENATE("15/08/",P57),IF(Q57="ray grass d'Italie",CONCATENATE("08/03/",P57),IF(Q57="maïs fourrage",CONCATENATE("01/10/",P57),"pb"))) -> 08/03/1977 | W57: =IF(OR(YEAR(U57)=1978,(U57-V56)=1),"OK","!!!") -> OK | X57: =U57-DATE($O57,1,1)+1 -> 229 | Y57: =V57-DATE($O57,1,1)+1 -> 433 | Z57: =IF(AND(Q56="prairie",Q57="prairie"),"prairie_ini.xml","snu_ini.xml") -> snu_ini.xml | AA57: =CONCATENATE(G57,"_",H57) -> 330562_0.1574 | AB57: =CONCATENATE($E57,"_",N57,"_sta.xml") -> 14050_ref_sta.xml | AC57: =CONCATENATE($E57,".",YEAR(U57)) -> 14050.1976 | AD57: =CONCATENATE($E57,".",YEAR(V57)) -> 14050.1977 | AE57: =IF(YEAR(V57)=YEAR(U57),1,2) -> 2 | AF57: 1 | AG57: 0 | AH57: =VLOOKUP(Q57,Liste_plantes!$A$2:$C$7,3,FALSE) -> ItalianRyegrass_CoverCrop_plt.xml | AI57: =CONCATENATE(J57,"-",L57,"-",VLOOKUP(Q57,Liste_plantes!$A$2:$B$7,2,FALSE),"_tec.xml") -> 1-2-rgi_tec.xml | AJ57: null | AK57: null | AL57: null | AM57: null
A58: =A57 -> cnrm-cm5-aladin63 | B58: =B57 -> cca | C58: =C57 -> 8.5 | D58: =D57 -> 1895 | E58: =E57 -> 14050 | F58: =F57 -> 781_1895 | G58: =G57 -> 330562 | H58: =H57 -> 0.1574 | ... N58: =N57 -> ref | O58: =IF(Q57="maïs fourrage",O57,O57+1) -> 1977 | P58: =IF(Q58="maïs fourrage",O58,O58+1) -> 1977 | Q58: =Q55 -> maïs fourrage | R58: =IF(OR(AND(Q58="ray grass d'Italie",Q57="blé tendre"),AND(Q58="maïs fourrage",Q57="ray grass d'Italie"),AND(Q58="blé tendre",Q57="maïs fourrage")),"ok","pb") -> ok | S58: =CONCATENATE(F58,"-",I58,"-",J58,"-",L58,"-",M58,"-",N58) -> 781_1895-562_NGC25-1-2-rgi-ref | T58: =CONCATENATE(F58,"-",I58,"-",J58,"-",L58,"-",M58,"-",N58,"-",P58,"-",VLOOKUP(Q58,Liste_plantes!$A$2:$B$7,2,FALSE)) -> 781_1895-562_NGC25-1-2-rgi-ref-1977-MF | U58: =V57+1 -> 28193 | V58: =IF(Q58="blé tendre",CONCATENATE("15/08/",P58),IF(Q58="ray grass d'Italie",CONCATENATE("08/03/",P58),IF(Q58="maïs fourrage",CONCATENATE("01/10/",P58),"pb"))) -> 01/10/1977 | W58: =IF(OR(YEAR(U58)=1978,(U58-V57)=1),"OK","!!!") -> OK | X58: =U58-DATE($O58,1,1)+1 -> 68 | Y58: =V58-DATE($O58,1,1)+1 -> 274 | Z58: =IF(AND(Q57="prairie",Q58="prairie"),"prairie_ini.xml","snu_ini.xml") -> snu_ini.xml | AA58: =CONCATENATE(G58,"_",H58) -> 330562_0.1574 | AB58: =CONCATENATE($E58,"_",N58,"_sta.xml") -> 14050_ref_sta.xml | AC58: =CONCATENATE($E58,".",YEAR(U58)) -> 14050.1977 | AD58: =CONCATENATE($E58,".",YEAR(V58)) -> 14050.1977 | AE58: =IF(YEAR(V58)=YEAR(U58),1,2) -> 1 | AF58: 1 | AG58: 0 | AH58: =VLOOKUP(Q58,Liste_plantes!$A$2:$C$7,3,FALSE) -> corn_plt.xml | AI58: =CONCATENATE(J58,"-",L58,"-",VLOOKUP(Q58,Liste_plantes!$A$2:$B$7,2,FALSE),"_tec.xml") -> 1-2-MF_tec.xml | AJ58: null | AK58: null | AL58: null | AM58: null
A59: =A58 -> cnrm-cm5-aladin63 | B59: =B58 -> cca | C59: =C58 -> 8.5 | D59: =D58 -> 1895 | E59: =E58 -> 14050 | F59: =F58 -> 781_1895 | G59: =G58 -> 330562 | H59: =H58 -> 0.1574 | ... N59: =N58 -> ref | O59: =IF(Q58="maïs fourrage",O58,O58+1) -> 1977 | P59: =IF(Q59="maïs fourrage",O59,O59+1) -> 1978 | Q59: =Q56 -> blé tendre | R59: =IF(OR(AND(Q59="ray grass d'Italie",Q58="blé tendre"),AND(Q59="maïs fourrage",Q58="ray grass d'Italie"),AND(Q59="blé tendre",Q58="maïs fourrage")),"ok","pb") -> ok | S59: =CONCATENATE(F59,"-",I59,"-",J59,"-",L59,"-",M59,"-",N59) -> 781_1895-562_NGC25-1-2-rgi-ref | T59: =CONCATENATE(F59,"-",I59,"-",J59,"-",L59,"-",M59,"-",N59,"-",P59,"-",VLOOKUP(Q59,Liste_plantes!$A$2:$B$7,2,FALSE)) -> 781_1895-562_NGC25-1-2-rgi-ref-1978-BT | U59: =V58+1 -> 28400 | V59: =IF(Q59="blé tendre",CONCATENATE("15/08/",P59),IF(Q59="ray grass d'Italie",CONCATENATE("08/03/",P59),IF(Q59="maïs fourrage",CONCATENATE("01/10/",P59),"pb"))) -> 15/08/1978 | W59: =IF(OR(YEAR(U59)=1978,(U59-V58)=1),"OK","!!!") -> OK | X59: =U59-DATE($O59,1,1)+1 -> 275 | Y59: =V59-DATE($O59,1,1)+1 -> 592 | Z59: =IF(AND(Q58="prairie",Q59="prairie"),"prairie_ini.xml","snu_ini.xml") -> snu_ini.xml | AA59: =CONCATENATE(G59,"_",H59) -> 330562_0.1574 | AB59: =CONCATENATE($E59,"_",N59,"_sta.xml") -> 14050_ref_sta.xml | AC59: =CONCATENATE($E59,".",YEAR(U59)) -> 14050.1977 | AD59: =CONCATENATE($E59,".",YEAR(V59)) -> 14050.1978 | AE59: =IF(YEAR(V59)=YEAR(U59),1,2) -> 2 | AF59: 1 | AG59: 0 | AH59: =VLOOKUP(Q59,Liste_plantes!$A$2:$C$7,3,FALSE) -> wheat_plt.xml | AI59: =CONCATENATE(J59,"-",L59,"-",VLOOKUP(Q59,Liste_plantes!$A$2:$B$7,2,FALSE),"_tec.xml") -> 1-2-BT_tec.xml | AJ59: null | AK59: null | AL59: null | AM59: null
A60: =A59 -> cnrm-cm5-aladin63 | B60: =B59 -> cca | C60: =C59 -> 8.5 | D60: =D59 -> 1895 | E60: =E59 -> 14050 | F60: =F59 -> 781_1895 | G60: =G59 -> 330562 | H60: =H59 -> 0.1574 | ... N60: =N59 -> ref | O60: =IF(Q59="maïs fourrage",O59,O59+1) -> 1978 | P60: =IF(Q60="maïs fourrage",O60,O60+1) -> 1979 | Q60: =Q57 -> ray grass d'Italie | R60: =IF(OR(AND(Q60="ray grass d'Italie",Q59="blé tendre"),AND(Q60="maïs fourrage",Q59="ray grass d'Italie"),AND(Q60="blé tendre",Q59="maïs fourrage")),"ok","pb") -> ok | S60: =CONCATENATE(F60,"-",I60,"-",J60,"-",L60,"-",M60,"-",N60) -> 781_1895-562_NGC25-1-2-rgi-ref | T60: =CONCATENATE(F60,"-",I60,"-",J60,"-",L60,"-",M60,"-",N60,"-",P60,"-",VLOOKUP(Q60,Liste_plantes!$A$2:$B$7,2,FALSE)) -> 781_1895-562_NGC25-1-2-rgi-ref-1979-rgi | U60: =V59+1 -> 28718 | V60: =IF(Q60="blé tendre",CONCATENATE("15/08/",P60),IF(Q60="ray grass d'Italie",CONCATENATE("08/03/",P60),IF(Q60="maïs fourrage",CONCATENATE("01/10/",P60),"pb"))) -> 08/03/1979 | W60: =IF(OR(YEAR(U60)=1978,(U60-V59)=1),"OK","!!!") -> OK | X60: =U60-DATE($O60,1,1)+1 -> 228 | Y60: =V60-DATE($O60,1,1)+1 -> 432 | Z60: =IF(AND(Q59="prairie",Q60="prairie"),"prairie_ini.xml","snu_ini.xml") -> snu_ini.xml | AA60: =CONCATENATE(G60,"_",H60) -> 330562_0.1574 | AB60: =CONCATENATE($E60,"_",N60,"_sta.xml") -> 14050_ref_sta.xml | AC60: =CONCATENATE($E60,".",YEAR(U60)) -> 14050.1978 | AD60: =CONCATENATE($E60,".",YEAR(V60)) -> 14050.1979 | AE60: =IF(YEAR(V60)=YEAR(U60),1,2) -> 2 | AF60: 1 | AG60: 0 | AH60: =VLOOKUP(Q60,Liste_plantes!$A$2:$C$7,3,FALSE) -> ItalianRyegrass_CoverCrop_plt.xml | AI60: =CONCATENATE(J60,"-",L60,"-",VLOOKUP(Q60,Liste_plantes!$A$2:$B$7,2,FALSE),"_tec.xml") -> 1-2-rgi_tec.xml | AJ60: null | AK60: null | AL60: null | AM60: null
A61: =A60 -> cnrm-cm5-aladin63 | B61: =B60 -> cca | C61: =C60 -> 8.5 | D61: =D60 -> 1895 | E61: =E60 -> 14050 | F61: =F60 -> 781_1895 | G61: =G60 -> 330562 | H61: =H60 -> 0.1574 | ... N61: =N60 -> ref | O61: =IF(Q60="maïs fourrage",O60,O60+1) -> 1979 | P61: =IF(Q61="maïs fourrage",O61,O61+1) -> 1979 | Q61: =Q58 -> maïs fourrage | R61: =IF(OR(AND(Q61="ray grass d'Italie",Q60="blé tendre"),AND(Q61="maïs fourrage",Q60="ray grass d'Italie"),AND(Q61="blé tendre",Q60="maïs fourrage")),"ok","pb") -> ok | S61: =CONCATENATE(F61,"-",I61,"-",J61,"-",L61,"-",M61,"-",N61) -> 781_1895-562_NGC25-1-2-rgi-ref | T61: =CONCATENATE(F61,"-",I61,"-",J61,"-",L61,"-",M61,"-",N61,"-",P61,"-",VLOOKUP(Q61,Liste_plantes!$A$2:$B$7,2,FALSE)) -> 781_1895-562_NGC25-1-2-rgi-ref-1979-MF | U61: =V60+1 -> 28923 | V61: =IF(Q61="blé tendre",CONCATENATE("15/08/",P61),IF(Q61="ray grass d'Italie",CONCATENATE("08/03/",P61),IF(Q61="maïs fourrage",CONCATENATE("01/10/",P61),"pb"))) -> 01/10/1979 | W61: =IF(OR(YEAR(U61)=1978,(U61-V60)=1),"OK","!!!") -> OK | X61: =U61-DATE($O61,1,1)+1 -> 68 | Y61: =V61-DATE($O61,1,1)+1 -> 274 | Z61: =IF(AND(Q60="prairie",Q61="prairie"),"prairie_ini.xml","snu_ini.xml") -> snu_ini.xml | AA61: =CONCATENATE(G61,"_",H61) -> 330562_0.1574 | AB61: =CONCATENATE($E61,"_",N61,"_sta.xml") -> 14050_ref_sta.xml | AC61: =CONCATENATE($E61,".",YEAR(U61)) -> 14050.1979 | AD61: =CONCATENATE($E61,".",YEAR(V61)) -> 14050.1979 | AE61: =IF(YEAR(V61)=YEAR(U61),1,2) -> 1 | AF61: 1 | AG61: 0 | AH61: =VLOOKUP(Q61,Liste_plantes!$A$2:$C$7,3,FALSE) -> corn_plt.xml | AI61: =CONCATENATE(J61,"-",L61,"-",VLOOKUP(Q61,Liste_plantes!$A$2:$B$7,2,FALSE),"_tec.xml") -> 1-2-MF_tec.xml | AJ61: null | AK61: null | AL61: null | AM61: null
A62: =A61 -> cnrm-cm5-aladin63 | B62: =B61 -> cca | C62: =C61 -> 8.5 | D62: =D61 -> 1895 | E62: =E61 -> 14050 | F62: =F61 -> 781_1895 | G62: =G61 -> 330562 | H62: =H61 -> 0.1574 | ... N62: =N61 -> ref | O62: =IF(Q61="maïs fourrage",O61,O61+1) -> 1979 | P62: =IF(Q62="maïs fourrage",O62,O62+1) -> 1980 | Q62: =Q59 -> blé tendre | R62: =IF(OR(AND(Q62="ray grass d'Italie",Q61="blé tendre"),AND(Q62="maïs fourrage",Q61="ray grass d'Italie"),AND(Q62="blé tendre",Q61="maïs fourrage")),"ok","pb") -> ok | S62: =CONCATENATE(F62,"-",I62,"-",J62,"-",L62,"-",M62,"-",N62) -> 781_1895-562_NGC25-1-2-rgi-ref | T62: =CONCATENATE(F62,"-",I62,"-",J62,"-",L62,"-",M62,"-",N62,"-",P62,"-",VLOOKUP(Q62,Liste_plantes!$A$2:$B$7,2,FALSE)) -> 781_1895-562_NGC25-1-2-rgi-ref-1980-BT | U62: =V61+1 -> 29130 | V62: =IF(Q62="blé tendre",CONCATENATE("15/08/",P62),IF(Q62="ray grass d'Italie",CONCATENATE("08/03/",P62),IF(Q62="maïs fourrage",CONCATENATE("01/10/",P62),"pb"))) -> 15/08/1980 | W62: =IF(OR(YEAR(U62)=1978,(U62-V61)=1),"OK","!!!") -> OK | X62: =U62-DATE($O62,1,1)+1 -> 275 | Y62: =V62-DATE($O62,1,1)+1 -> 593 | Z62: =IF(AND(Q61="prairie",Q62="prairie"),"prairie_ini.xml","snu_ini.xml") -> snu_ini.xml | AA62: =CONCATENATE(G62,"_",H62) -> 330562_0.1574 | AB62: =CONCATENATE($E62,"_",N62,"_sta.xml") -> 14050_ref_sta.xml | AC62: =CONCATENATE($E62,".",YEAR(U62)) -> 14050.1979 | AD62: =CONCATENATE($E62,".",YEAR(V62)) -> 14050.1980 | AE62: =IF(YEAR(V62)=YEAR(U62),1,2) -> 2 | AF62: 1 | AG62: 0 | AH62: =VLOOKUP(Q62,Liste_plantes!$A$2:$C$7,3,FALSE) -> wheat_plt.xml | AI62: =CONCATENATE(J62,"-",L62,"-",VLOOKUP(Q62,Liste_plantes!$A$2:$B$7,2,FALSE),"_tec.xml") -> 1-2-BT_tec.xml | AJ62: null | AK62: null | AL62: null | AM62: null
A63: =A62 -> cnrm-cm5-aladin63 | B63: =B62 -> cca | C63: =C62 -> 8.5 | D63: =D62 -> 1895 | E63: =E62 -> 14050 | F63: =F62 -> 781_1895 | G63: =G62 -> 330562 | H63: =H62 -> 0.1574 | ... N63: =N62 -> ref | O63: =IF(Q62="maïs fourrage",O62,O62+1) -> 1980 | P63: =IF(Q63="maïs fourrage",O63,O63+1) -> 1981 | Q63: =Q60 -> ray grass d'Italie | R63: =IF(OR(AND(Q63="ray grass d'Italie",Q62="blé tendre"),AND(Q63="maïs fourrage",Q62="ray grass d'Italie"),AND(Q63="blé tendre",Q62="maïs fourrage")),"ok","pb") -> ok | S63: =CONCATENATE(F63,"-",I63,"-",J63,"-",L63,"-",M63,"-",N63) -> 781_1895-562_NGC25-1-2-rgi-ref | T63: =CONCATENATE(F63,"-",I63,"-",J63,"-",L63,"-",M63,"-",N63,"-",P63,"-",VLOOKUP(Q63,Liste_plantes!$A$2:$B$7,2,FALSE)) -> 781_1895-562_NGC25-1-2-rgi-ref-1981-rgi | U63: =V62+1 -> 29449 | V63: =IF(Q63="blé tendre",CONCATENATE("15/08/",P63),IF(Q63="ray grass d'Italie",CONCATENATE("08/03/",P63),IF(Q63="maïs fourrage",CONCATENATE("01/10/",P63),"pb"))) -> 08/03/1981 | W63: =IF(OR(YEAR(U63)=1978,(U63-V62)=1),"OK","!!!") -> OK | X63: =U63-DATE($O63,1,1)+1 -> 229 | Y63: =V63-DATE($O63,1,1)+1 -> 433 | Z63: =IF(AND(Q62="prairie",Q63="prairie"),"prairie_ini.xml","snu_ini.xml") -> snu_ini.xml | AA63: =CONCATENATE(G63,"_",H63) -> 330562_0.1574 | AB63: =CONCATENATE($E63,"_",N63,"_sta.xml") -> 14050_ref_sta.xml | AC63: =CONCATENATE($E63,".",YEAR(U63)) -> 14050.1980 | AD63: =CONCATENATE($E63,".",YEAR(V63)) -> 14050.1981 | AE63: =IF(YEAR(V63)=YEAR(U63),1,2) -> 2 | AF63: 1 | AG63: 0 | AH63: =VLOOKUP(Q63,Liste_plantes!$A$2:$C$7,3,FALSE) -> ItalianRyegrass_CoverCrop_plt.xml | AI63: =CONCATENATE(J63,"-",L63,"-",VLOOKUP(Q63,Liste_plantes!$A$2:$B$7,2,FALSE),"_tec.xml") -> 1-2-rgi_tec.xml | AJ63: null | AK63: null | AL63: null | AM63: null
A64: =A63 -> cnrm-cm5-aladin63 | B64: =B63 -> cca | C64: =C63 -> 8.5 | D64: =D63 -> 1895 | E64: =E63 -> 14050 | F64: =F63 -> 781_1895 | G64: =G63 -> 330562 | H64: =H63 -> 0.1574 | ... N64: =N63 -> ref | O64: =IF(Q63="maïs fourrage",O63,O63+1) -> 1981 | P64: =IF(Q64="maïs fourrage",O64,O64+1) -> 1981 | Q64: =Q61 -> maïs fourrage | R64: =IF(OR(AND(Q64="ray grass d'Italie",Q63="blé tendre"),AND(Q64="maïs fourrage",Q63="ray grass d'Italie"),AND(Q64="blé tendre",Q63="maïs fourrage")),"ok","pb") -> ok | S64: =CONCATENATE(F64,"-",I64,"-",J64,"-",L64,"-",M64,"-",N64) -> 781_1895-562_NGC25-1-2-rgi-ref | T64: =CONCATENATE(F64,"-",I64,"-",J64,"-",L64,"-",M64,"-",N64,"-",P64,"-",VLOOKUP(Q64,Liste_plantes!$A$2:$B$7,2,FALSE)) -> 781_1895-562_NGC25-1-2-rgi-ref-1981-MF | U64: =V63+1 -> 29654 | V64: =IF(Q64="blé tendre",CONCATENATE("15/08/",P64),IF(Q64="ray grass d'Italie",CONCATENATE("08/03/",P64),IF(Q64="maïs fourrage",CONCATENATE("01/10/",P64),"pb"))) -> 01/10/1981 | W64: =IF(OR(YEAR(U64)=1978,(U64-V63)=1),"OK","!!!") -> OK | X64: =U64-DATE($O64,1,1)+1 -> 68 | Y64: =V64-DATE($O64,1,1)+1 -> 274 | Z64: =IF(AND(Q63="prairie",Q64="prairie"),"prairie_ini.xml","snu_ini.xml") -> snu_ini.xml | AA64: =CONCATENATE(G64,"_",H64) -> 330562_0.1574 | AB64: =CONCATENATE($E64,"_",N64,"_sta.xml") -> 14050_ref_sta.xml | AC64: =CONCATENATE($E64,".",YEAR(U64)) -> 14050.1981 | AD64: =CONCATENATE($E64,".",YEAR(V64)) -> 14050.1981 | AE64: =IF(YEAR(V64)=YEAR(U64),1,2) -> 1 | AF64: 1 | AG64: 0 | AH64: =VLOOKUP(Q64,Liste_plantes!$A$2:$C$7,3,FALSE) -> corn_plt.xml | AI64: =CONCATENATE(J64,"-",L64,"-",VLOOKUP(Q64,Liste_plantes!$A$2:$B$7,2,FALSE),"_tec.xml") -> 1-2-MF_tec.xml | AJ64: null | AK64: null | AL64: null | AM64: null
A65: =A64 -> cnrm-cm5-aladin63 | B65: =B64 -> cca | C65: =C64 -> 8.5 | D65: =D64 -> 1895 | E65: =E64 -> 14050 | F65: =F64 -> 781_1895 | G65: =G64 -> 330562 | H65: =H64 -> 0.1574 | ... N65: =N64 -> ref | O65: =IF(Q64="maïs fourrage",O64,O64+1) -> 1981 | P65: =IF(Q65="maïs fourrage",O65,O65+1) -> 1982 | Q65: =Q62 -> blé tendre | R65: =IF(OR(AND(Q65="ray grass d'Italie",Q64="blé tendre"),AND(Q65="maïs fourrage",Q64="ray grass d'Italie"),AND(Q65="blé tendre",Q64="maïs fourrage")),"ok","pb") -> ok | S65: =CONCATENATE(F65,"-",I65,"-",J65,"-",L65,"-",M65,"-",N65) -> 781_1895-562_NGC25-1-2-rgi-ref | T65: =CONCATENATE(F65,"-",I65,"-",J65,"-",L65,"-",M65,"-",N65,"-",P65,"-",VLOOKUP(Q65,Liste_plantes!$A$2:$B$7,2,FALSE)) -> 781_1895-562_NGC25-1-2-rgi-ref-1982-BT | U65: =V64+1 -> 29861 | V65: =IF(Q65="blé tendre",CONCATENATE("15/08/",P65),IF(Q65="ray grass d'Italie",CONCATENATE("08/03/",P65),IF(Q65="maïs fourrage",CONCATENATE("01/10/",P65),"pb"))) -> 15/08/1982 | W65: =IF(OR(YEAR(U65)=1978,(U65-V64)=1),"OK","!!!") -> OK | X65: =U65-DATE($O65,1,1)+1 -> 275 | Y65: =V65-DATE($O65,1,1)+1 -> 592 | Z65: =IF(AND(Q64="prairie",Q65="prairie"),"prairie_ini.xml","snu_ini.xml") -> snu_ini.xml | AA65: =CONCATENATE(G65,"_",H65) -> 330562_0.1574 | AB65: =CONCATENATE($E65,"_",N65,"_sta.xml") -> 14050_ref_sta.xml | AC65: =CONCATENATE($E65,".",YEAR(U65)) -> 14050.1981 | AD65: =CONCATENATE($E65,".",YEAR(V65)) -> 14050.1982 | AE65: =IF(YEAR(V65)=YEAR(U65),1,2) -> 2 | AF65: 1 | AG65: 0 | AH65: =VLOOKUP(Q65,Liste_plantes!$A$2:$C$7,3,FALSE) -> wheat_plt.xml | AI65: =CONCATENATE(J65,"-",L65,"-",VLOOKUP(Q65,Liste_plantes!$A$2:$B$7,2,FALSE),"_tec.xml") -> 1-2-BT_tec.xml | AJ65: null | AK65: null | AL65: null | AM65: null
A66: =A65 -> cnrm-cm5-aladin63 | B66: =B65 -> cca | C66: =C65 -> 8.5 | D66: =D65 -> 1895 | E66: =E65 -> 14050 | F66: =F65 -> 781_1895 | G66: =G65 -> 330562 | H66: =H65 -> 0.1574 | ... N66: =N65 -> ref | O66: =IF(Q65="maïs fourrage",O65,O65+1) -> 1982 | P66: =IF(Q66="maïs fourrage",O66,O66+1) -> 1983 | Q66: =Q63 -> ray grass d'Italie | R66: =IF(OR(AND(Q66="ray grass d'Italie",Q65="blé tendre"),AND(Q66="maïs fourrage",Q65="ray grass d'Italie"),AND(Q66="blé tendre",Q65="maïs fourrage")),"ok","pb") -> ok | S66: =CONCATENATE(F66,"-",I66,"-",J66,"-",L66,"-",M66,"-",N66) -> 781_1895-562_NGC25-1-2-rgi-ref | T66: =CONCATENATE(F66,"-",I66,"-",J66,"-",L66,"-",M66,"-",N66,"-",P66,"-",VLOOKUP(Q66,Liste_plantes!$A$2:$B$7,2,FALSE)) -> 781_1895-562_NGC25-1-2-rgi-ref-1983-rgi | U66: =V65+1 -> 30179 | V66: =IF(Q66="blé tendre",CONCATENATE("15/08/",P66),IF(Q66="ray grass d'Italie",CONCATENATE("08/03/",P66),IF(Q66="maïs fourrage",CONCATENATE("01/10/",P66),"pb"))) -> 08/03/1983 | W66: =IF(OR(YEAR(U66)=1978,(U66-V65)=1),"OK","!!!") -> OK | X66: =U66-DATE($O66,1,1)+1 -> 228 | Y66: =V66-DATE($O66,1,1)+1 -> 432 | Z66: =IF(AND(Q65="prairie",Q66="prairie"),"prairie_ini.xml","snu_ini.xml") -> snu_ini.xml | AA66: =CONCATENATE(G66,"_",H66) -> 330562_0.1574 | AB66: =CONCATENATE($E66,"_",N66,"_sta.xml") -> 14050_ref_sta.xml | AC66: =CONCATENATE($E66,".",YEAR(U66)) -> 14050.1982 | AD66: =CONCATENATE($E66,".",YEAR(V66)) -> 14050.1983 | AE66: =IF(YEAR(V66)=YEAR(U66),1,2) -> 2 | AF66: 1 | AG66: 0 | AH66: =VLOOKUP(Q66,Liste_plantes!$A$2:$C$7,3,FALSE) -> ItalianRyegrass_CoverCrop_plt.xml | AI66: =CONCATENATE(J66,"-",L66,"-",VLOOKUP(Q66,Liste_plantes!$A$2:$B$7,2,FALSE),"_tec.xml") -> 1-2-rgi_tec.xml | AJ66: null | AK66: null | AL66: null | AM66: null
A67: =A66 -> cnrm-cm5-aladin63 | B67: =B66 -> cca | C67: =C66 -> 8.5 | D67: =D66 -> 1895 | E67: =E66 -> 14050 | F67: =F66 -> 781_1895 | G67: =G66 -> 330562 | H67: =H66 -> 0.1574 | ... N67: =N66 -> ref | O67: =IF(Q66="maïs fourrage",O66,O66+1) -> 1983 | P67: =IF(Q67="maïs fourrage",O67,O67+1) -> 1983 | Q67: =Q64 -> maïs fourrage | R67: =IF(OR(AND(Q67="ray grass d'Italie",Q66="blé tendre"),AND(Q67="maïs fourrage",Q66="ray grass d'Italie"),AND(Q67="blé tendre",Q66="maïs fourrage")),"ok","pb") -> ok | S67: =CONCATENATE(F67,"-",I67,"-",J67,"-",L67,"-",M67,"-",N67) -> 781_1895-562_NGC25-1-2-rgi-ref | T67: =CONCATENATE(F67,"-",I67,"-",J67,"-",L67,"-",M67,"-",N67,"-",P67,"-",VLOOKUP(Q67,Liste_plantes!$A$2:$B$7,2,FALSE)) -> 781_1895-562_NGC25-1-2-rgi-ref-1983-MF | U67: =V66+1 -> 30384 | V67: =IF(Q67="blé tendre",CONCATENATE("15/08/",P67),IF(Q67="ray grass d'Italie",CONCATENATE("08/03/",P67),IF(Q67="maïs fourrage",CONCATENATE("01/10/",P67),"pb"))) -> 01/10/1983 | W67: =IF(OR(YEAR(U67)=1978,(U67-V66)=1),"OK","!!!") -> OK | X67: =U67-DATE($O67,1,1)+1 -> 68 | Y67: =V67-DATE($O67,1,1)+1 -> 274 | Z67: =IF(AND(Q66="prairie",Q67="prairie"),"prairie_ini.xml","snu_ini.xml") -> snu_ini.xml | AA67: =CONCATENATE(G67,"_",H67) -> 330562_0.1574 | AB67: =CONCATENATE($E67,"_",N67,"_sta.xml") -> 14050_ref_sta.xml | AC67: =CONCATENATE($E67,".",YEAR(U67)) -> 14050.1983 | AD67: =CONCATENATE($E67,".",YEAR(V67)) -> 14050.1983 | AE67: =IF(YEAR(V67)=YEAR(U67),1,2) -> 1 | AF67: 1 | AG67: 0 | AH67: =VLOOKUP(Q67,Liste_plantes!$A$2:$C$7,3,FALSE) -> corn_plt.xml | AI67: =CONCATENATE(J67,"-",L67,"-",VLOOKUP(Q67,Liste_plantes!$A$2:$B$7,2,FALSE),"_tec.xml") -> 1-2-MF_tec.xml | AJ67: null | AK67: null | AL67: null | AM67: null
... A99: =A98 -> cnrm-cm5-aladin63 | B99: =B98 -> cca | C99: =C98 -> 8.5 | D99: =D98 -> 1895 | E99: =E98 -> 14050 | F99: =F98 -> 781_1895 | G99: =G98 -> 330562 | H99: =H98 -> 0.1574 | ... N99: =N98 -> ref | O99: =IF(Q98="maïs fourrage",O98,O98+1) -> 2004 | P99: =IF(Q99="maïs fourrage",O99,O99+1) -> 2005 | Q99: =Q96 -> ray grass d'Italie | R99: =IF(OR(AND(Q99="ray grass d'Italie",Q98="blé tendre"),AND(Q99="maïs fourrage",Q98="ray grass d'Italie"),AND(Q99="blé tendre",Q98="maïs fourrage")),"ok","pb") -> ok | S99: =CONCATENATE(F99,"-",I99,"-",J99,"-",L99,"-",M99,"-",N99) -> 781_1895-562_NGC25-1-2-rgi-ref | T99: =CONCATENATE(F99,"-",I99,"-",J99,"-",L99,"-",M99,"-",N99,"-",P99,"-",VLOOKUP(Q99,Liste_plantes!$A$2:$B$7,2,FALSE)) -> 781_1895-562_NGC25-1-2-rgi-ref-2005-rgi | U99: =V98+1 -> 38215 | V99: =IF(Q99="blé tendre",CONCATENATE("15/08/",P99),IF(Q99="ray grass d'Italie",CONCATENATE("08/03/",P99),IF(Q99="maïs fourrage",CONCATENATE("01/10/",P99),"pb"))) -> 08/03/2005 | W99: =IF(OR(YEAR(U99)=1978,(U99-V98)=1),"OK","!!!") -> OK | X99: =U99-DATE($O99,1,1)+1 -> 229 | Y99: =V99-DATE($O99,1,1)+1 -> 433 | Z99: =IF(AND(Q98="prairie",Q99="prairie"),"prairie_ini.xml","snu_ini.xml") -> snu_ini.xml | AA99: =CONCATENATE(G99,"_",H99) -> 330562_0.1574 | AB99: =CONCATENATE($E99,"_",N99,"_sta.xml") -> 14050_ref_sta.xml | AC99: =CONCATENATE($E99,".",YEAR(U99)) -> 14050.2004 | AD99: =CONCATENATE($E99,".",YEAR(V99)) -> 14050.2005 | AE99: =IF(YEAR(V99)=YEAR(U99),1,2) -> 2 | AF99: 1 | AG99: 0 | AH99: =VLOOKUP(Q99,Liste_plantes!$A$2:$C$7,3,FALSE) -> ItalianRyegrass_CoverCrop_plt.xml | AI99: =CONCATENATE(J99,"-",L99,"-",VLOOKUP(Q99,Liste_plantes!$A$2:$B$7,2,FALSE),"_tec.xml") -> 1-2-rgi_tec.xml | AJ99: null | AK99: null | AL99: null | AM99: null
A100: cnrm-cm5-aladin63 | B100: cca | C100: 8.5 | D100: 1895 | E100: 14050 | F100: 781_1895 | G100: 330562 | H100: 0.1574 | I100: =I99 -> 562_NGC25 | J100: 1 | K100: BT_ci_MF | L100: 2 | M100: BT | N100: NA | O100: 2017 | P100: =IF(Q100="maïs fourrage",O100,O100+1) -> 2018 | Q100: blé tendre | S100: =CONCATENATE(F100,"-",I100,"-",J100,"-",L100,"-",M100,"-",N100) -> 781_1895-562_NGC25-1-2-BT-NA | T100: =CONCATENATE(F100,"-",I100,"-",J100,"-",L100,"-",M100,"-",N100,"-",P100,"-",VLOOKUP(Q100,Liste_plantes!$A$2:$B$7,2,FALSE)) -> 781_1895-562_NGC25-1-2-BT-NA-2018-BT | U100: 43010 | V100: =IF(Q100="blé tendre",CONCATENATE("15/08/",P100),IF(Q100="ray grass d'Italie",CONCATENATE("08/03/",P100),IF(Q100="maïs fourrage",CONCATENATE("01/10/",P100),"pb"))) -> 15/08/2018 | X100: =U100-DATE($O100,1,1)+1 -> 275 | Y100: =V100-DATE($O100,1,1)+1 -> 592 | Z100: snu_ini.xml | AA100: =CONCATENATE(G100,"_",H100) -> 330562_0.1574 | AB100: =AB101 -> 14050_h1_sta.xml | AC100: =CONCATENATE($E100,".",YEAR(U100)) -> 14050.2017 | AD100: =CONCATENATE($E100,".",YEAR(V100)) -> 14050.2018 | AE100: =IF(YEAR(V100)=YEAR(U100),1,2) -> 2 | AF100: 1 | AG100: 0 | AH100: =VLOOKUP(Q100,Liste_plantes!$A$2:$C$7,3,FALSE) -> wheat_plt.xml | AI100: =CONCATENATE(J100,"-",L100,"-",VLOOKUP(Q100,Liste_plantes!$A$2:$B$7,2,FALSE),"_tec.xml") -> 1-2-BT_tec.xml | AJ100: null | AK100: null | AL100: null | AM100: null
A101: =A100 -> cnrm-cm5-aladin63 | B101: =B100 -> cca | C101: =C100 -> 8.5 | D101: =D100 -> 1895 | E101: =E100 -> 14050 | F101: =F100 -> 781_1895 | G101: =G100 -> 330562 | H101: =H100 -> 0.1574 | ... N101: =N100 -> NA | O101: =IF(Q100="maïs fourrage",O100,O100+1) -> 2018 | P101: =IF(Q101="maïs fourrage",O101,O101+1) -> 2019 | Q101: ray grass d'Italie | R101: =IF(OR(AND(Q101="ray grass d'Italie",Q100="blé tendre"),AND(Q101="maïs fourrage",Q100="ray grass d'Italie"),AND(Q101="blé tendre",Q100="maïs fourrage")),"ok","pb") -> ok | S101: =CONCATENATE(F101,"-",I101,"-",J101,"-",L101,"-",M101,"-",N101) -> 781_1895-562_NGC25-1-2-BT-NA | T101: =CONCATENATE(F101,"-",I101,"-",J101,"-",L101,"-",M101,"-",N101,"-",P101,"-",VLOOKUP(Q101,Liste_plantes!$A$2:$B$7,2,FALSE)) -> 781_1895-562_NGC25-1-2-BT-NA-2019-rgi | U101: =V100+1 -> 43328 | V101: =IF(Q101="blé tendre",CONCATENATE("15/08/",P101),IF(Q101="ray grass d'Italie",CONCATENATE("08/03/",P101),IF(Q101="maïs fourrage",CONCATENATE("01/10/",P101),"pb"))) -> 08/03/2019 | W101: =IF(OR(YEAR(U101)=1978,(U101-V100)=1),"OK","!!!") -> OK | X101: =U101-DATE($O101,1,1)+1 -> 228 | Y101: =V101-DATE($O101,1,1)+1 -> 432 | Z101: =IF(AND(Q100="prairie",Q101="prairie"),"prairie_ini.xml","snu_ini.xml") -> snu_ini.xml | AA101: =CONCATENATE(G101,"_",H101) -> 330562_0.1574 | AB101: =AB102 -> 14050_h1_sta.xml | AC101: =CONCATENATE($E101,".",YEAR(U101)) -> 14050.2018 | AD101: =CONCATENATE($E101,".",YEAR(V101)) -> 14050.2019 | AE101: =IF(YEAR(V101)=YEAR(U101),1,2) -> 2 | AF101: 1 | AG101: 0 | AH101: =VLOOKUP(Q101,Liste_plantes!$A$2:$C$7,3,FALSE) -> ItalianRyegrass_CoverCrop_plt.xml | AI101: =CONCATENATE(J101,"-",L101,"-",VLOOKUP(Q101,Liste_plantes!$A$2:$B$7,2,FALSE),"_tec.xml") -> 1-2-rgi_tec.xml | AJ101: null | AK101: null | AL101: null | AM101: null
A102: =A101 -> cnrm-cm5-aladin63 | B102: =B101 -> cca | C102: =C101 -> 8.5 | D102: =D101 -> 1895 | E102: =E101 -> 14050 | F102: =F101 -> 781_1895 | G102: =G101 -> 330562 | H102: =H101 -> 0.1574 | ... N102: =N101 -> NA | O102: =IF(Q101="maïs fourrage",O101,O101+1) -> 2019 | P102: =IF(Q102="maïs fourrage",O102,O102+1) -> 2019 | Q102: maïs fourrage | R102: =IF(OR(AND(Q102="ray grass d'Italie",Q101="blé tendre"),AND(Q102="maïs fourrage",Q101="ray grass d'Italie"),AND(Q102="blé tendre",Q101="maïs fourrage")),"ok","pb") -> ok | S102: =CONCATENATE(F102,"-",I102,"-",J102,"-",L102,"-",M102,"-",N102) -> 781_1895-562_NGC25-1-2-BT-NA | T102: =CONCATENATE(F102,"-",I102,"-",J102,"-",L102,"-",M102,"-",N102,"-",P102,"-",VLOOKUP(Q102,Liste_plantes!$A$2:$B$7,2,FALSE)) -> 781_1895-562_NGC25-1-2-BT-NA-2019-MF | U102: =V101+1 -> 43533 | V102: =IF(Q102="blé tendre",CONCATENATE("15/08/",P102),IF(Q102="ray grass d'Italie",CONCATENATE("08/03/",P102),IF(Q102="maïs fourrage",CONCATENATE("01/10/",P102),"pb"))) -> 01/10/2019 | W102: =IF(OR(YEAR(U102)=1978,(U102-V101)=1),"OK","!!!") -> OK | X102: =U102-DATE($O102,1,1)+1 -> 68 | Y102: =V102-DATE($O102,1,1)+1 -> 274 | Z102: =IF(AND(Q101="prairie",Q102="prairie"),"prairie_ini.xml","snu_ini.xml") -> snu_ini.xml | AA102: =CONCATENATE(G102,"_",H102) -> 330562_0.1574 | AB102: =AB103 -> 14050_h1_sta.xml | AC102: =CONCATENATE($E102,".",YEAR(U102)) -> 14050.2019 | AD102: =CONCATENATE($E102,".",YEAR(V102)) -> 14050.2019 | AE102: =IF(YEAR(V102)=YEAR(U102),1,2) -> 1 | AF102: 1 | AG102: 0 | AH102: =VLOOKUP(Q102,Liste_plantes!$A$2:$C$7,3,FALSE) -> corn_plt.xml | AI102: =CONCATENATE(J102,"-",L102,"-",VLOOKUP(Q102,Liste_plantes!$A$2:$B$7,2,FALSE),"_tec.xml") -> 1-2-MF_tec.xml | AJ102: null | AK102: null | AL102: null | AM102: null
A103: =A102 -> cnrm-cm5-aladin63 | B103: =B102 -> cca | C103: =C102 -> 8.5 | D103: =D102 -> 1895 | E103: =E102 -> 14050 | F103: =F102 -> 781_1895 | G103: =G102 -> 330562 | H103: =H102 -> 0.1574 | ... M103: =M102 -> BT | N103: NA | O103: =IF(Q102="maïs fourrage",O102,O102+1) -> 2019 | P103: =IF(Q103="maïs fourrage",O103,O103+1) -> 2020 | Q103: =Q100 -> blé tendre | R103: =IF(OR(AND(Q103="ray grass d'Italie",Q102="blé tendre"),AND(Q103="maïs fourrage",Q102="ray grass d'Italie"),AND(Q103="blé tendre",Q102="maïs fourrage")),"ok","pb") -> ok | S103: =CONCATENATE(F103,"-",I103,"-",J103,"-",L103,"-",M103,"-",N103) -> 781_1895-562_NGC25-1-2-BT-NA | T103: =CONCATENATE(F103,"-",I103,"-",J103,"-",L103,"-",M103,"-",N103,"-",P103,"-",VLOOKUP(Q103,Liste_plantes!$A$2:$B$7,2,FALSE)) -> 781_1895-562_NGC25-1-2-BT-NA-2020-BT | U103: =V102+1 -> 43740 | V103: =IF(Q103="blé tendre",CONCATENATE("15/08/",P103),IF(Q103="ray grass d'Italie",CONCATENATE("08/03/",P103),IF(Q103="maïs fourrage",CONCATENATE("01/10/",P103),"pb"))) -> 15/08/2020 | W103: =IF(OR(YEAR(U103)=1978,(U103-V102)=1),"OK","!!!") -> OK | X103: =U103-DATE($O103,1,1)+1 -> 275 | Y103: =V103-DATE($O103,1,1)+1 -> 593 | Z103: =IF(AND(Q102="prairie",Q103="prairie"),"prairie_ini.xml","snu_ini.xml") -> snu_ini.xml | AA103: =CONCATENATE(G103,"_",H103) -> 330562_0.1574 | AB103: =CONCATENATE($E103,"_",N104,"_sta.xml") -> 14050_h1_sta.xml | AC103: =CONCATENATE($E103,".",YEAR(U103)) -> 14050.2019 | AD103: =CONCATENATE($E103,".",YEAR(V103)) -> 14050.2020 | AE103: =IF(YEAR(V103)=YEAR(U103),1,2) -> 2 | AF103: 1 | AG103: 0 | AH103: =VLOOKUP(Q103,Liste_plantes!$A$2:$C$7,3,FALSE) -> wheat_plt.xml | AI103: =CONCATENATE(J103,"-",L103,"-",VLOOKUP(Q103,Liste_plantes!$A$2:$B$7,2,FALSE),"_tec.xml") -> 1-2-BT_tec.xml | AJ103: null | AK103: null | AL103: null | AM103: null
A104: =A103 -> cnrm-cm5-aladin63 | B104: =B103 -> cca | C104: =C103 -> 8.5 | D104: =D103 -> 1895 | E104: =E103 -> 14050 | F104: =F103 -> 781_1895 | G104: =G103 -> 330562 | H104: =H103 -> 0.1574 | ... M104: =M103 -> BT | N104: h1 | O104: =IF(Q103="maïs fourrage",O103,O103+1) -> 2020 | P104: =IF(Q104="maïs fourrage",O104,O104+1) -> 2021 | Q104: =Q101 -> ray grass d'Italie | R104: =IF(OR(AND(Q104="ray grass d'Italie",Q103="blé tendre"),AND(Q104="maïs fourrage",Q103="ray grass d'Italie"),AND(Q104="blé tendre",Q103="maïs fourrage")),"ok","pb") -> ok | S104: =CONCATENATE(F104,"-",I104,"-",J104,"-",L104,"-",M104,"-",N104) -> 781_1895-562_NGC25-1-2-BT-h1 | T104: =CONCATENATE(F104,"-",I104,"-",J104,"-",L104,"-",M104,"-",N104,"-",P104,"-",VLOOKUP(Q104,Liste_plantes!$A$2:$B$7,2,FALSE)) -> 781_1895-562_NGC25-1-2-BT-h1-2021-rgi | U104: =V103+1 -> 44059 | V104: =IF(Q104="blé tendre",CONCATENATE("15/08/",P104),IF(Q104="ray grass d'Italie",CONCATENATE("08/03/",P104),IF(Q104="maïs fourrage",CONCATENATE("01/10/",P104),"pb"))) -> 08/03/2021 | W104: =IF(OR(YEAR(U104)=1978,(U104-V103)=1),"OK","!!!") -> OK | X104: =U104-DATE($O104,1,1)+1 -> 229 | Y104: =V104-DATE($O104,1,1)+1 -> 433 | Z104: =IF(AND(Q103="prairie",Q104="prairie"),"prairie_ini.xml","snu_ini.xml") -> snu_ini.xml | AA104: =CONCATENATE(G104,"_",H104) -> 330562_0.1574 | AB104: =AB105 -> 14050_h1_sta.xml | AC104: =CONCATENATE($E104,".",YEAR(U104)) -> 14050.2020 | AD104: =CONCATENATE($E104,".",YEAR(V104)) -> 14050.2021 | AE104: =IF(YEAR(V104)=YEAR(U104),1,2) -> 2 | AF104: 1 | AG104: 0 | AH104: =VLOOKUP(Q104,Liste_plantes!$A$2:$C$7,3,FALSE) -> ItalianRyegrass_CoverCrop_plt.xml | AI104: =CONCATENATE(J104,"-",L104,"-",VLOOKUP(Q104,Liste_plantes!$A$2:$B$7,2,FALSE),"_tec.xml") -> 1-2-rgi_tec.xml | AJ104: null | AK104: null | AL104: null | AM104: null
A105: =A104 -> cnrm-cm5-aladin63 | B105: =B104 -> cca | C105: =C104 -> 8.5 | D105: =D104 -> 1895 | E105: =E104 -> 14050 | F105: =F104 -> 781_1895 | G105: =G104 -> 330562 | H105: =H104 -> 0.1574 | ... N105: =N104 -> h1 | O105: =IF(Q104="maïs fourrage",O104,O104+1) -> 2021 | P105: =IF(Q105="maïs fourrage",O105,O105+1) -> 2021 | Q105: =Q102 -> maïs fourrage | R105: =IF(OR(AND(Q105="ray grass d'Italie",Q104="blé tendre"),AND(Q105="maïs fourrage",Q104="ray grass d'Italie"),AND(Q105="blé tendre",Q104="maïs fourrage")),"ok","pb") -> ok | S105: =CONCATENATE(F105,"-",I105,"-",J105,"-",L105,"-",M105,"-",N105) -> 781_1895-562_NGC25-1-2-BT-h1 | T105: =CONCATENATE(F105,"-",I105,"-",J105,"-",L105,"-",M105,"-",N105,"-",P105,"-",VLOOKUP(Q105,Liste_plantes!$A$2:$B$7,2,FALSE)) -> 781_1895-562_NGC25-1-2-BT-h1-2021-MF | U105: =V104+1 -> 44264 | V105: =IF(Q105="blé tendre",CONCATENATE("15/08/",P105),IF(Q105="ray grass d'Italie",CONCATENATE("08/03/",P105),IF(Q105="maïs fourrage",CONCATENATE("01/10/",P105),"pb"))) -> 01/10/2021 | W105: =IF(OR(YEAR(U105)=1978,(U105-V104)=1),"OK","!!!") -> OK | X105: =U105-DATE($O105,1,1)+1 -> 68 | Y105: =V105-DATE($O105,1,1)+1 -> 274 | Z105: =IF(AND(Q104="prairie",Q105="prairie"),"prairie_ini.xml","snu_ini.xml") -> snu_ini.xml | AA105: =CONCATENATE(G105,"_",H105) -> 330562_0.1574 | AB105: =AB106 -> 14050_h1_sta.xml | AC105: =CONCATENATE($E105,".",YEAR(U105)) -> 14050.2021 | AD105: =CONCATENATE($E105,".",YEAR(V105)) -> 14050.2021 | AE105: =IF(YEAR(V105)=YEAR(U105),1,2) -> 1 | AF105: 1 | AG105: 0 | AH105: =VLOOKUP(Q105,Liste_plantes!$A$2:$C$7,3,FALSE) -> corn_plt.xml | AI105: =CONCATENATE(J105,"-",L105,"-",VLOOKUP(Q105,Liste_plantes!$A$2:$B$7,2,FALSE),"_tec.xml") -> 1-2-MF_tec.xml | AJ105: null | AK105: null | AL105: null | AM105: null
A106: =A105 -> cnrm-cm5-aladin63 | B106: =B105 -> cca | C106: =C105 -> 8.5 | D106: =D105 -> 1895 | E106: =E105 -> 14050 | F106: =F105 -> 781_1895 | G106: =G105 -> 330562 | H106: =H105 -> 0.1574 | ... N106: =N105 -> h1 | O106: =IF(Q105="maïs fourrage",O105,O105+1) -> 2021 | P106: =IF(Q106="maïs fourrage",O106,O106+1) -> 2022 | Q106: =Q103 -> blé tendre | R106: =IF(OR(AND(Q106="ray grass d'Italie",Q105="blé tendre"),AND(Q106="maïs fourrage",Q105="ray grass d'Italie"),AND(Q106="blé tendre",Q105="maïs fourrage")),"ok","pb") -> ok | S106: =CONCATENATE(F106,"-",I106,"-",J106,"-",L106,"-",M106,"-",N106) -> 781_1895-562_NGC25-1-2-BT-h1 | T106: =CONCATENATE(F106,"-",I106,"-",J106,"-",L106,"-",M106,"-",N106,"-",P106,"-",VLOOKUP(Q106,Liste_plantes!$A$2:$B$7,2,FALSE)) -> 781_1895-562_NGC25-1-2-BT-h1-2022-BT | U106: =V105+1 -> 44471 | V106: =IF(Q106="blé tendre",CONCATENATE("15/08/",P106),IF(Q106="ray grass d'Italie",CONCATENATE("08/03/",P106),IF(Q106="maïs fourrage",CONCATENATE("01/10/",P106),"pb"))) -> 15/08/2022 | W106: =IF(OR(YEAR(U106)=1978,(U106-V105)=1),"OK","!!!") -> OK | X106: =U106-DATE($O106,1,1)+1 -> 275 | Y106: =V106-DATE($O106,1,1)+1 -> 592 | Z106: =IF(AND(Q105="prairie",Q106="prairie"),"prairie_ini.xml","snu_ini.xml") -> snu_ini.xml | AA106: =CONCATENATE(G106,"_",H106) -> 330562_0.1574 | AB106: =AB107 -> 14050_h1_sta.xml | AC106: =CONCATENATE($E106,".",YEAR(U106)) -> 14050.2021 | AD106: =CONCATENATE($E106,".",YEAR(V106)) -> 14050.2022 | AE106: =IF(YEAR(V106)=YEAR(U106),1,2) -> 2 | AF106: 1 | AG106: 0 | AH106: =VLOOKUP(Q106,Liste_plantes!$A$2:$C$7,3,FALSE) -> wheat_plt.xml | AI106: =CONCATENATE(J106,"-",L106,"-",VLOOKUP(Q106,Liste_plantes!$A$2:$B$7,2,FALSE),"_tec.xml") -> 1-2-BT_tec.xml | AJ106: null | AK106: null | AL106: null | AM106: null
A107: =A106 -> cnrm-cm5-aladin63 | B107: =B106 -> cca | C107: =C106 -> 8.5 | D107: =D106 -> 1895 | E107: =E106 -> 14050 | F107: =F106 -> 781_1895 | G107: =G106 -> 330562 | H107: =H106 -> 0.1574 | ... N107: =N106 -> h1 | O107: =IF(Q106="maïs fourrage",O106,O106+1) -> 2022 | P107: =IF(Q107="maïs fourrage",O107,O107+1) -> 2023 | Q107: =Q104 -> ray grass d'Italie | R107: =IF(OR(AND(Q107="ray grass d'Italie",Q106="blé tendre"),AND(Q107="maïs fourrage",Q106="ray grass d'Italie"),AND(Q107="blé tendre",Q106="maïs fourrage")),"ok","pb") -> ok | S107: =CONCATENATE(F107,"-",I107,"-",J107,"-",L107,"-",M107,"-",N107) -> 781_1895-562_NGC25-1-2-BT-h1 | T107: =CONCATENATE(F107,"-",I107,"-",J107,"-",L107,"-",M107,"-",N107,"-",P107,"-",VLOOKUP(Q107,Liste_plantes!$A$2:$B$7,2,FALSE)) -> 781_1895-562_NGC25-1-2-BT-h1-2023-rgi | U107: =V106+1 -> 44789 | V107: =IF(Q107="blé tendre",CONCATENATE("15/08/",P107),IF(Q107="ray grass d'Italie",CONCATENATE("08/03/",P107),IF(Q107="maïs fourrage",CONCATENATE("01/10/",P107),"pb"))) -> 08/03/2023 | W107: =IF(OR(YEAR(U107)=1978,(U107-V106)=1),"OK","!!!") -> OK | X107: =U107-DATE($O107,1,1)+1 -> 228 | Y107: =V107-DATE($O107,1,1)+1 -> 432 | Z107: =IF(AND(Q106="prairie",Q107="prairie"),"prairie_ini.xml","snu_ini.xml") -> snu_ini.xml | AA107: =CONCATENATE(G107,"_",H107) -> 330562_0.1574 | AB107: =CONCATENATE($E107,"_",N107,"_sta.xml") -> 14050_h1_sta.xml | AC107: =CONCATENATE($E107,".",YEAR(U107)) -> 14050.2022 | AD107: =CONCATENATE($E107,".",YEAR(V107)) -> 14050.2023 | AE107: =IF(YEAR(V107)=YEAR(U107),1,2) -> 2 | AF107: 1 | AG107: 0 | AH107: =VLOOKUP(Q107,Liste_plantes!$A$2:$C$7,3,FALSE) -> ItalianRyegrass_CoverCrop_plt.xml | AI107: =CONCATENATE(J107,"-",L107,"-",VLOOKUP(Q107,Liste_plantes!$A$2:$B$7,2,FALSE),"_tec.xml") -> 1-2-rgi_tec.xml | AJ107: null | AK107: null | AL107: null | AM107: null
A108: =A107 -> cnrm-cm5-aladin63 | B108: =B107 -> cca | C108: =C107 -> 8.5 | D108: =D107 -> 1895 | E108: =E107 -> 14050 | F108: =F107 -> 781_1895 | G108: =G107 -> 330562 | H108: =H107 -> 0.1574 | ... N108: =N107 -> h1 | O108: =IF(Q107="maïs fourrage",O107,O107+1) -> 2023 | P108: =IF(Q108="maïs fourrage",O108,O108+1) -> 2023 | Q108: =Q105 -> maïs fourrage | R108: =IF(OR(AND(Q108="ray grass d'Italie",Q107="blé tendre"),AND(Q108="maïs fourrage",Q107="ray grass d'Italie"),AND(Q108="blé tendre",Q107="maïs fourrage")),"ok","pb") -> ok | S108: =CONCATENATE(F108,"-",I108,"-",J108,"-",L108,"-",M108,"-",N108) -> 781_1895-562_NGC25-1-2-BT-h1 | T108: =CONCATENATE(F108,"-",I108,"-",J108,"-",L108,"-",M108,"-",N108,"-",P108,"-",VLOOKUP(Q108,Liste_plantes!$A$2:$B$7,2,FALSE)) -> 781_1895-562_NGC25-1-2-BT-h1-2023-MF | U108: =V107+1 -> 44994 | V108: =IF(Q108="blé tendre",CONCATENATE("15/08/",P108),IF(Q108="ray grass d'Italie",CONCATENATE("08/03/",P108),IF(Q108="maïs fourrage",CONCATENATE("01/10/",P108),"pb"))) -> 01/10/2023 | W108: =IF(OR(YEAR(U108)=1978,(U108-V107)=1),"OK","!!!") -> OK | X108: =U108-DATE($O108,1,1)+1 -> 68 | Y108: =V108-DATE($O108,1,1)+1 -> 274 | Z108: =IF(AND(Q107="prairie",Q108="prairie"),"prairie_ini.xml","snu_ini.xml") -> snu_ini.xml | AA108: =CONCATENATE(G108,"_",H108) -> 330562_0.1574 | AB108: =CONCATENATE($E108,"_",N108,"_sta.xml") -> 14050_h1_sta.xml | AC108: =CONCATENATE($E108,".",YEAR(U108)) -> 14050.2023 | AD108: =CONCATENATE($E108,".",YEAR(V108)) -> 14050.2023 | AE108: =IF(YEAR(V108)=YEAR(U108),1,2) -> 1 | AF108: 1 | AG108: 0 | AH108: =VLOOKUP(Q108,Liste_plantes!$A$2:$C$7,3,FALSE) -> corn_plt.xml | AI108: =CONCATENATE(J108,"-",L108,"-",VLOOKUP(Q108,Liste_plantes!$A$2:$B$7,2,FALSE),"_tec.xml") -> 1-2-MF_tec.xml | AJ108: null | AK108: null | AL108: null | AM108: null
A109: =A108 -> cnrm-cm5-aladin63 | B109: =B108 -> cca | C109: =C108 -> 8.5 | D109: =D108 -> 1895 | E109: =E108 -> 14050 | F109: =F108 -> 781_1895 | G109: =G108 -> 330562 | H109: =H108 -> 0.1574 | ... N109: =N108 -> h1 | O109: =IF(Q108="maïs fourrage",O108,O108+1) -> 2023 | P109: =IF(Q109="maïs fourrage",O109,O109+1) -> 2024 | Q109: =Q106 -> blé tendre | R109: =IF(OR(AND(Q109="ray grass d'Italie",Q108="blé tendre"),AND(Q109="maïs fourrage",Q108="ray grass d'Italie"),AND(Q109="blé tendre",Q108="maïs fourrage")),"ok","pb") -> ok | S109: =CONCATENATE(F109,"-",I109,"-",J109,"-",L109,"-",M109,"-",N109) -> 781_1895-562_NGC25-1-2-BT-h1 | T109: =CONCATENATE(F109,"-",I109,"-",J109,"-",L109,"-",M109,"-",N109,"-",P109,"-",VLOOKUP(Q109,Liste_plantes!$A$2:$B$7,2,FALSE)) -> 781_1895-562_NGC25-1-2-BT-h1-2024-BT | U109: =V108+1 -> 45201 | V109: =IF(Q109="blé tendre",CONCATENATE("15/08/",P109),IF(Q109="ray grass d'Italie",CONCATENATE("08/03/",P109),IF(Q109="maïs fourrage",CONCATENATE("01/10/",P109),"pb"))) -> 15/08/2024 | W109: =IF(OR(YEAR(U109)=1978,(U109-V108)=1),"OK","!!!") -> OK | X109: =U109-DATE($O109,1,1)+1 -> 275 | Y109: =V109-DATE($O109,1,1)+1 -> 593 | Z109: =IF(AND(Q108="prairie",Q109="prairie"),"prairie_ini.xml","snu_ini.xml") -> snu_ini.xml | AA109: =CONCATENATE(G109,"_",H109) -> 330562_0.1574 | AB109: =CONCATENATE($E109,"_",N109,"_sta.xml") -> 14050_h1_sta.xml | AC109: =CONCATENATE($E109,".",YEAR(U109)) -> 14050.2023 | AD109: =CONCATENATE($E109,".",YEAR(V109)) -> 14050.2024 | AE109: =IF(YEAR(V109)=YEAR(U109),1,2) -> 2 | AF109: 1 | AG109: 0 | AH109: =VLOOKUP(Q109,Liste_plantes!$A$2:$C$7,3,FALSE) -> wheat_plt.xml | AI109: =CONCATENATE(J109,"-",L109,"-",VLOOKUP(Q109,Liste_plantes!$A$2:$B$7,2,FALSE),"_tec.xml") -> 1-2-BT_tec.xml | AJ109: null | AK109: null | AL109: null | AM109: null
A110: =A109 -> cnrm-cm5-aladin63 | B110: =B109 -> cca | C110: =C109 -> 8.5 | D110: =D109 -> 1895 | E110: =E109 -> 14050 | F110: =F109 -> 781_1895 | G110: =G109 -> 330562 | H110: =H109 -> 0.1574 | ... N110: =N109 -> h1 | O110: =IF(Q109="maïs fourrage",O109,O109+1) -> 2024 | P110: =IF(Q110="maïs fourrage",O110,O110+1) -> 2025 | Q110: =Q107 -> ray grass d'Italie | R110: =IF(OR(AND(Q110="ray grass d'Italie",Q109="blé tendre"),AND(Q110="maïs fourrage",Q109="ray grass d'Italie"),AND(Q110="blé tendre",Q109="maïs fourrage")),"ok","pb") -> ok | S110: =CONCATENATE(F110,"-",I110,"-",J110,"-",L110,"-",M110,"-",N110) -> 781_1895-562_NGC25-1-2-BT-h1 | T110: =CONCATENATE(F110,"-",I110,"-",J110,"-",L110,"-",M110,"-",N110,"-",P110,"-",VLOOKUP(Q110,Liste_plantes!$A$2:$B$7,2,FALSE)) -> 781_1895-562_NGC25-1-2-BT-h1-2025-rgi | U110: =V109+1 -> 45520 | V110: =IF(Q110="blé tendre",CONCATENATE("15/08/",P110),IF(Q110="ray grass d'Italie",CONCATENATE("08/03/",P110),IF(Q110="maïs fourrage",CONCATENATE("01/10/",P110),"pb"))) -> 08/03/2025 | W110: =IF(OR(YEAR(U110)=1978,(U110-V109)=1),"OK","!!!") -> OK | X110: =U110-DATE($O110,1,1)+1 -> 229 | Y110: =V110-DATE($O110,1,1)+1 -> 433 | Z110: =IF(AND(Q109="prairie",Q110="prairie"),"prairie_ini.xml","snu_ini.xml") -> snu_ini.xml | AA110: =CONCATENATE(G110,"_",H110) -> 330562_0.1574 | AB110: =CONCATENATE($E110,"_",N110,"_sta.xml") -> 14050_h1_sta.xml | AC110: =CONCATENATE($E110,".",YEAR(U110)) -> 14050.2024 | AD110: =CONCATENATE($E110,".",YEAR(V110)) -> 14050.2025 | AE110: =IF(YEAR(V110)=YEAR(U110),1,2) -> 2 | AF110: 1 | AG110: 0 | AH110: =VLOOKUP(Q110,Liste_plantes!$A$2:$C$7,3,FALSE) -> ItalianRyegrass_CoverCrop_plt.xml | AI110: =CONCATENATE(J110,"-",L110,"-",VLOOKUP(Q110,Liste_plantes!$A$2:$B$7,2,FALSE),"_tec.xml") -> 1-2-rgi_tec.xml | AJ110: null | AK110: null | AL110: null | AM110: null
A111: =A110 -> cnrm-cm5-aladin63 | B111: =B110 -> cca | C111: =C110 -> 8.5 | D111: =D110 -> 1895 | E111: =E110 -> 14050 | F111: =F110 -> 781_1895 | G111: =G110 -> 330562 | H111: =H110 -> 0.1574 | ... N111: =N110 -> h1 | O111: =IF(Q110="maïs fourrage",O110,O110+1) -> 2025 | P111: =IF(Q111="maïs fourrage",O111,O111+1) -> 2025 | Q111: =Q108 -> maïs fourrage | R111: =IF(OR(AND(Q111="ray grass d'Italie",Q110="blé tendre"),AND(Q111="maïs fourrage",Q110="ray grass d'Italie"),AND(Q111="blé tendre",Q110="maïs fourrage")),"ok","pb") -> ok | S111: =CONCATENATE(F111,"-",I111,"-",J111,"-",L111,"-",M111,"-",N111) -> 781_1895-562_NGC25-1-2-BT-h1 | T111: =CONCATENATE(F111,"-",I111,"-",J111,"-",L111,"-",M111,"-",N111,"-",P111,"-",VLOOKUP(Q111,Liste_plantes!$A$2:$B$7,2,FALSE)) -> 781_1895-562_NGC25-1-2-BT-h1-2025-MF | U111: =V110+1 -> 45725 | V111: =IF(Q111="blé tendre",CONCATENATE("15/08/",P111),IF(Q111="ray grass d'Italie",CONCATENATE("08/03/",P111),IF(Q111="maïs fourrage",CONCATENATE("01/10/",P111),"pb"))) -> 01/10/2025 | W111: =IF(OR(YEAR(U111)=1978,(U111-V110)=1),"OK","!!!") -> OK | X111: =U111-DATE($O111,1,1)+1 -> 68 | Y111: =V111-DATE($O111,1,1)+1 -> 274 | Z111: =IF(AND(Q110="prairie",Q111="prairie"),"prairie_ini.xml","snu_ini.xml") -> snu_ini.xml | AA111: =CONCATENATE(G111,"_",H111) -> 330562_0.1574 | AB111: =CONCATENATE($E111,"_",N111,"_sta.xml") -> 14050_h1_sta.xml | AC111: =CONCATENATE($E111,".",YEAR(U111)) -> 14050.2025 | AD111: =CONCATENATE($E111,".",YEAR(V111)) -> 14050.2025 | AE111: =IF(YEAR(V111)=YEAR(U111),1,2) -> 1 | AF111: 1 | AG111: 0 | AH111: =VLOOKUP(Q111,Liste_plantes!$A$2:$C$7,3,FALSE) -> corn_plt.xml | AI111: =CONCATENATE(J111,"-",L111,"-",VLOOKUP(Q111,Liste_plantes!$A$2:$B$7,2,FALSE),"_tec.xml") -> 1-2-MF_tec.xml | AJ111: null | AK111: null | AL111: null | AM111: null
A112: =A111 -> cnrm-cm5-aladin63 | B112: =B111 -> cca | C112: =C111 -> 8.5 | D112: =D111 -> 1895 | E112: =E111 -> 14050 | F112: =F111 -> 781_1895 | G112: =G111 -> 330562 | H112: =H111 -> 0.1574 | ... N112: =N111 -> h1 | O112: =IF(Q111="maïs fourrage",O111,O111+1) -> 2025 | P112: =IF(Q112="maïs fourrage",O112,O112+1) -> 2026 | Q112: =Q109 -> blé tendre | R112: =IF(OR(AND(Q112="ray grass d'Italie",Q111="blé tendre"),AND(Q112="maïs fourrage",Q111="ray grass d'Italie"),AND(Q112="blé tendre",Q111="maïs fourrage")),"ok","pb") -> ok | S112: =CONCATENATE(F112,"-",I112,"-",J112,"-",L112,"-",M112,"-",N112) -> 781_1895-562_NGC25-1-2-BT-h1 | T112: =CONCATENATE(F112,"-",I112,"-",J112,"-",L112,"-",M112,"-",N112,"-",P112,"-",VLOOKUP(Q112,Liste_plantes!$A$2:$B$7,2,FALSE)) -> 781_1895-562_NGC25-1-2-BT-h1-2026-BT | U112: =V111+1 -> 45932 | V112: =IF(Q112="blé tendre",CONCATENATE("15/08/",P112),IF(Q112="ray grass d'Italie",CONCATENATE("08/03/",P112),IF(Q112="maïs fourrage",CONCATENATE("01/10/",P112),"pb"))) -> 15/08/2026 | W112: =IF(OR(YEAR(U112)=1978,(U112-V111)=1),"OK","!!!") -> OK | X112: =U112-DATE($O112,1,1)+1 -> 275 | Y112: =V112-DATE($O112,1,1)+1 -> 592 | Z112: =IF(AND(Q111="prairie",Q112="prairie"),"prairie_ini.xml","snu_ini.xml") -> snu_ini.xml | AA112: =CONCATENATE(G112,"_",H112) -> 330562_0.1574 | AB112: =CONCATENATE($E112,"_",N112,"_sta.xml") -> 14050_h1_sta.xml | AC112: =CONCATENATE($E112,".",YEAR(U112)) -> 14050.2025 | AD112: =CONCATENATE($E112,".",YEAR(V112)) -> 14050.2026 | AE112: =IF(YEAR(V112)=YEAR(U112),1,2) -> 2 | AF112: 1 | AG112: 0 | AH112: =VLOOKUP(Q112,Liste_plantes!$A$2:$C$7,3,FALSE) -> wheat_plt.xml | AI112: =CONCATENATE(J112,"-",L112,"-",VLOOKUP(Q112,Liste_plantes!$A$2:$B$7,2,FALSE),"_tec.xml") -> 1-2-BT_tec.xml | AJ112: null | AK112: null | AL112: null | AM112: null
A113: =A112 -> cnrm-cm5-aladin63 | B113: =B112 -> cca | C113: =C112 -> 8.5 | D113: =D112 -> 1895 | E113: =E112 -> 14050 | F113: =F112 -> 781_1895 | G113: =G112 -> 330562 | H113: =H112 -> 0.1574 | ... N113: =N112 -> h1 | O113: =IF(Q112="maïs fourrage",O112,O112+1) -> 2026 | P113: =IF(Q113="maïs fourrage",O113,O113+1) -> 2027 | Q113: =Q110 -> ray grass d'Italie | R113: =IF(OR(AND(Q113="ray grass d'Italie",Q112="blé tendre"),AND(Q113="maïs fourrage",Q112="ray grass d'Italie"),AND(Q113="blé tendre",Q112="maïs fourrage")),"ok","pb") -> ok | S113: =CONCATENATE(F113,"-",I113,"-",J113,"-",L113,"-",M113,"-",N113) -> 781_1895-562_NGC25-1-2-BT-h1 | T113: =CONCATENATE(F113,"-",I113,"-",J113,"-",L113,"-",M113,"-",N113,"-",P113,"-",VLOOKUP(Q113,Liste_plantes!$A$2:$B$7,2,FALSE)) -> 781_1895-562_NGC25-1-2-BT-h1-2027-rgi | U113: =V112+1 -> 46250 | V113: =IF(Q113="blé tendre",CONCATENATE("15/08/",P113),IF(Q113="ray grass d'Italie",CONCATENATE("08/03/",P113),IF(Q113="maïs fourrage",CONCATENATE("01/10/",P113),"pb"))) -> 08/03/2027 | W113: =IF(OR(YEAR(U113)=1978,(U113-V112)=1),"OK","!!!") -> OK | X113: =U113-DATE($O113,1,1)+1 -> 228 | Y113: =V113-DATE($O113,1,1)+1 -> 432 | Z113: =IF(AND(Q112="prairie",Q113="prairie"),"prairie_ini.xml","snu_ini.xml") -> snu_ini.xml | AA113: =CONCATENATE(G113,"_",H113) -> 330562_0.1574 | AB113: =CONCATENATE($E113,"_",N113,"_sta.xml") -> 14050_h1_sta.xml | AC113: =CONCATENATE($E113,".",YEAR(U113)) -> 14050.2026 | AD113: =CONCATENATE($E113,".",YEAR(V113)) -> 14050.2027 | AE113: =IF(YEAR(V113)=YEAR(U113),1,2) -> 2 | AF113: 1 | AG113: 0 | AH113: =VLOOKUP(Q113,Liste_plantes!$A$2:$C$7,3,FALSE) -> ItalianRyegrass_CoverCrop_plt.xml | AI113: =CONCATENATE(J113,"-",L113,"-",VLOOKUP(Q113,Liste_plantes!$A$2:$B$7,2,FALSE),"_tec.xml") -> 1-2-rgi_tec.xml | AJ113: null | AK113: null | AL113: null | AM113: null
A114: =A113 -> cnrm-cm5-aladin63 | B114: =B113 -> cca | C114: =C113 -> 8.5 | D114: =D113 -> 1895 | E114: =E113 -> 14050 | F114: =F113 -> 781_1895 | G114: =G113 -> 330562 | H114: =H113 -> 0.1574 | ... N114: =N113 -> h1 | O114: =IF(Q113="maïs fourrage",O113,O113+1) -> 2027 | P114: =IF(Q114="maïs fourrage",O114,O114+1) -> 2027 | Q114: =Q111 -> maïs fourrage | R114: =IF(OR(AND(Q114="ray grass d'Italie",Q113="blé tendre"),AND(Q114="maïs fourrage",Q113="ray grass d'Italie"),AND(Q114="blé tendre",Q113="maïs fourrage")),"ok","pb") -> ok | S114: =CONCATENATE(F114,"-",I114,"-",J114,"-",L114,"-",M114,"-",N114) -> 781_1895-562_NGC25-1-2-BT-h1 | T114: =CONCATENATE(F114,"-",I114,"-",J114,"-",L114,"-",M114,"-",N114,"-",P114,"-",VLOOKUP(Q114,Liste_plantes!$A$2:$B$7,2,FALSE)) -> 781_1895-562_NGC25-1-2-BT-h1-2027-MF | U114: =V113+1 -> 46455 | V114: =IF(Q114="blé tendre",CONCATENATE("15/08/",P114),IF(Q114="ray grass d'Italie",CONCATENATE("08/03/",P114),IF(Q114="maïs fourrage",CONCATENATE("01/10/",P114),"pb"))) -> 01/10/2027 | W114: =IF(OR(YEAR(U114)=1978,(U114-V113)=1),"OK","!!!") -> OK | X114: =U114-DATE($O114,1,1)+1 -> 68 | Y114: =V114-DATE($O114,1,1)+1 -> 274 | Z114: =IF(AND(Q113="prairie",Q114="prairie"),"prairie_ini.xml","snu_ini.xml") -> snu_ini.xml | AA114: =CONCATENATE(G114,"_",H114) -> 330562_0.1574 | AB114: =CONCATENATE($E114,"_",N114,"_sta.xml") -> 14050_h1_sta.xml | AC114: =CONCATENATE($E114,".",YEAR(U114)) -> 14050.2027 | AD114: =CONCATENATE($E114,".",YEAR(V114)) -> 14050.2027 | AE114: =IF(YEAR(V114)=YEAR(U114),1,2) -> 1 | AF114: 1 | AG114: 0 | AH114: =VLOOKUP(Q114,Liste_plantes!$A$2:$C$7,3,FALSE) -> corn_plt.xml | AI114: =CONCATENATE(J114,"-",L114,"-",VLOOKUP(Q114,Liste_plantes!$A$2:$B$7,2,FALSE),"_tec.xml") -> 1-2-MF_tec.xml | AJ114: null | AK114: null | AL114: null | AM114: null
A115: =A114 -> cnrm-cm5-aladin63 | B115: =B114 -> cca | C115: =C114 -> 8.5 | D115: =D114 -> 1895 | E115: =E114 -> 14050 | F115: =F114 -> 781_1895 | G115: =G114 -> 330562 | H115: =H114 -> 0.1574 | ... N115: =N114 -> h1 | O115: =IF(Q114="maïs fourrage",O114,O114+1) -> 2027 | P115: =IF(Q115="maïs fourrage",O115,O115+1) -> 2028 | Q115: =Q112 -> blé tendre | R115: =IF(OR(AND(Q115="ray grass d'Italie",Q114="blé tendre"),AND(Q115="maïs fourrage",Q114="ray grass d'Italie"),AND(Q115="blé tendre",Q114="maïs fourrage")),"ok","pb") -> ok | S115: =CONCATENATE(F115,"-",I115,"-",J115,"-",L115,"-",M115,"-",N115) -> 781_1895-562_NGC25-1-2-BT-h1 | T115: =CONCATENATE(F115,"-",I115,"-",J115,"-",L115,"-",M115,"-",N115,"-",P115,"-",VLOOKUP(Q115,Liste_plantes!$A$2:$B$7,2,FALSE)) -> 781_1895-562_NGC25-1-2-BT-h1-2028-BT | U115: =V114+1 -> 46662 | V115: =IF(Q115="blé tendre",CONCATENATE("15/08/",P115),IF(Q115="ray grass d'Italie",CONCATENATE("08/03/",P115),IF(Q115="maïs fourrage",CONCATENATE("01/10/",P115),"pb"))) -> 15/08/2028 | W115: =IF(OR(YEAR(U115)=1978,(U115-V114)=1),"OK","!!!") -> OK | X115: =U115-DATE($O115,1,1)+1 -> 275 | Y115: =V115-DATE($O115,1,1)+1 -> 593 | Z115: =IF(AND(Q114="prairie",Q115="prairie"),"prairie_ini.xml","snu_ini.xml") -> snu_ini.xml | AA115: =CONCATENATE(G115,"_",H115) -> 330562_0.1574 | AB115: =CONCATENATE($E115,"_",N115,"_sta.xml") -> 14050_h1_sta.xml | AC115: =CONCATENATE($E115,".",YEAR(U115)) -> 14050.2027 | AD115: =CONCATENATE($E115,".",YEAR(V115)) -> 14050.2028 | AE115: =IF(YEAR(V115)=YEAR(U115),1,2) -> 2 | AF115: 1 | AG115: 0 | AH115: =VLOOKUP(Q115,Liste_plantes!$A$2:$C$7,3,FALSE) -> wheat_plt.xml | AI115: =CONCATENATE(J115,"-",L115,"-",VLOOKUP(Q115,Liste_plantes!$A$2:$B$7,2,FALSE),"_tec.xml") -> 1-2-BT_tec.xml | AJ115: null | AK115: null | AL115: null | AM115: null
A116: =A115 -> cnrm-cm5-aladin63 | B116: =B115 -> cca | C116: =C115 -> 8.5 | D116: =D115 -> 1895 | E116: =E115 -> 14050 | F116: =F115 -> 781_1895 | G116: =G115 -> 330562 | H116: =H115 -> 0.1574 | ... N116: =N115 -> h1 | O116: =IF(Q115="maïs fourrage",O115,O115+1) -> 2028 | P116: =IF(Q116="maïs fourrage",O116,O116+1) -> 2029 | Q116: =Q113 -> ray grass d'Italie | R116: =IF(OR(AND(Q116="ray grass d'Italie",Q115="blé tendre"),AND(Q116="maïs fourrage",Q115="ray grass d'Italie"),AND(Q116="blé tendre",Q115="maïs fourrage")),"ok","pb") -> ok | S116: =CONCATENATE(F116,"-",I116,"-",J116,"-",L116,"-",M116,"-",N116) -> 781_1895-562_NGC25-1-2-BT-h1 | T116: =CONCATENATE(F116,"-",I116,"-",J116,"-",L116,"-",M116,"-",N116,"-",P116,"-",VLOOKUP(Q116,Liste_plantes!$A$2:$B$7,2,FALSE)) -> 781_1895-562_NGC25-1-2-BT-h1-2029-rgi | U116: =V115+1 -> 46981 | V116: =IF(Q116="blé tendre",CONCATENATE("15/08/",P116),IF(Q116="ray grass d'Italie",CONCATENATE("08/03/",P116),IF(Q116="maïs fourrage",CONCATENATE("01/10/",P116),"pb"))) -> 08/03/2029 | W116: =IF(OR(YEAR(U116)=1978,(U116-V115)=1),"OK","!!!") -> OK | X116: =U116-DATE($O116,1,1)+1 -> 229 | Y116: =V116-DATE($O116,1,1)+1 -> 433 | Z116: =IF(AND(Q115="prairie",Q116="prairie"),"prairie_ini.xml","snu_ini.xml") -> snu_ini.xml | AA116: =CONCATENATE(G116,"_",H116) -> 330562_0.1574 | AB116: =CONCATENATE($E116,"_",N116,"_sta.xml") -> 14050_h1_sta.xml | AC116: =CONCATENATE($E116,".",YEAR(U116)) -> 14050.2028 | AD116: =CONCATENATE($E116,".",YEAR(V116)) -> 14050.2029 | AE116: =IF(YEAR(V116)=YEAR(U116),1,2) -> 2 | AF116: 1 | AG116: 0 | AH116: =VLOOKUP(Q116,Liste_plantes!$A$2:$C$7,3,FALSE) -> ItalianRyegrass_CoverCrop_plt.xml | AI116: =CONCATENATE(J116,"-",L116,"-",VLOOKUP(Q116,Liste_plantes!$A$2:$B$7,2,FALSE),"_tec.xml") -> 1-2-rgi_tec.xml | AJ116: null | AK116: null | AL116: null | AM116: null
A117: =A116 -> cnrm-cm5-aladin63 | B117: =B116 -> cca | C117: =C116 -> 8.5 | D117: =D116 -> 1895 | E117: =E116 -> 14050 | F117: =F116 -> 781_1895 | G117: =G116 -> 330562 | H117: =H116 -> 0.1574 | ... N117: =N116 -> h1 | O117: =IF(Q116="maïs fourrage",O116,O116+1) -> 2029 | P117: =IF(Q117="maïs fourrage",O117,O117+1) -> 2029 | Q117: =Q114 -> maïs fourrage | R117: =IF(OR(AND(Q117="ray grass d'Italie",Q116="blé tendre"),AND(Q117="maïs fourrage",Q116="ray grass d'Italie"),AND(Q117="blé tendre",Q116="maïs fourrage")),"ok","pb") -> ok | S117: =CONCATENATE(F117,"-",I117,"-",J117,"-",L117,"-",M117,"-",N117) -> 781_1895-562_NGC25-1-2-BT-h1 | T117: =CONCATENATE(F117,"-",I117,"-",J117,"-",L117,"-",M117,"-",N117,"-",P117,"-",VLOOKUP(Q117,Liste_plantes!$A$2:$B$7,2,FALSE)) -> 781_1895-562_NGC25-1-2-BT-h1-2029-MF | U117: =V116+1 -> 47186 | V117: =IF(Q117="blé tendre",CONCATENATE("15/08/",P117),IF(Q117="ray grass d'Italie",CONCATENATE("08/03/",P117),IF(Q117="maïs fourrage",CONCATENATE("01/10/",P117),"pb"))) -> 01/10/2029 | W117: =IF(OR(YEAR(U117)=1978,(U117-V116)=1),"OK","!!!") -> OK | X117: =U117-DATE($O117,1,1)+1 -> 68 | Y117: =V117-DATE($O117,1,1)+1 -> 274 | Z117: =IF(AND(Q116="prairie",Q117="prairie"),"prairie_ini.xml","snu_ini.xml") -> snu_ini.xml | AA117: =CONCATENATE(G117,"_",H117) -> 330562_0.1574 | AB117: =CONCATENATE($E117,"_",N117,"_sta.xml") -> 14050_h1_sta.xml | AC117: =CONCATENATE($E117,".",YEAR(U117)) -> 14050.2029 | AD117: =CONCATENATE($E117,".",YEAR(V117)) -> 14050.2029 | AE117: =IF(YEAR(V117)=YEAR(U117),1,2) -> 1 | AF117: 1 | AG117: 0 | AH117: =VLOOKUP(Q117,Liste_plantes!$A$2:$C$7,3,FALSE) -> corn_plt.xml | AI117: =CONCATENATE(J117,"-",L117,"-",VLOOKUP(Q117,Liste_plantes!$A$2:$B$7,2,FALSE),"_tec.xml") -> 1-2-MF_tec.xml | AJ117: null | AK117: null | AL117: null | AM117: null
A118: =A117 -> cnrm-cm5-aladin63 | B118: =B117 -> cca | C118: =C117 -> 8.5 | D118: =D117 -> 1895 | E118: =E117 -> 14050 | F118: =F117 -> 781_1895 | G118: =G117 -> 330562 | H118: =H117 -> 0.1574 | ... N118: =N117 -> h1 | O118: =IF(Q117="maïs fourrage",O117,O117+1) -> 2029 | P118: =IF(Q118="maïs fourrage",O118,O118+1) -> 2030 | Q118: =Q115 -> blé tendre | R118: =IF(OR(AND(Q118="ray grass d'Italie",Q117="blé tendre"),AND(Q118="maïs fourrage",Q117="ray grass d'Italie"),AND(Q118="blé tendre",Q117="maïs fourrage")),"ok","pb") -> ok | S118: =CONCATENATE(F118,"-",I118,"-",J118,"-",L118,"-",M118,"-",N118) -> 781_1895-562_NGC25-1-2-BT-h1 | T118: =CONCATENATE(F118,"-",I118,"-",J118,"-",L118,"-",M118,"-",N118,"-",P118,"-",VLOOKUP(Q118,Liste_plantes!$A$2:$B$7,2,FALSE)) -> 781_1895-562_NGC25-1-2-BT-h1-2030-BT | U118: =V117+1 -> 47393 | V118: =IF(Q118="blé tendre",CONCATENATE("15/08/",P118),IF(Q118="ray grass d'Italie",CONCATENATE("08/03/",P118),IF(Q118="maïs fourrage",CONCATENATE("01/10/",P118),"pb"))) -> 15/08/2030 | W118: =IF(OR(YEAR(U118)=1978,(U118-V117)=1),"OK","!!!") -> OK | X118: =U118-DATE($O118,1,1)+1 -> 275 | Y118: =V118-DATE($O118,1,1)+1 -> 592 | Z118: =IF(AND(Q117="prairie",Q118="prairie"),"prairie_ini.xml","snu_ini.xml") -> snu_ini.xml | AA118: =CONCATENATE(G118,"_",H118) -> 330562_0.1574 | AB118: =CONCATENATE($E118,"_",N118,"_sta.xml") -> 14050_h1_sta.xml | AC118: =CONCATENATE($E118,".",YEAR(U118)) -> 14050.2029 | AD118: =CONCATENATE($E118,".",YEAR(V118)) -> 14050.2030 | AE118: =IF(YEAR(V118)=YEAR(U118),1,2) -> 2 | AF118: 1 | AG118: 0 | AH118: =VLOOKUP(Q118,Liste_plantes!$A$2:$C$7,3,FALSE) -> wheat_plt.xml | AI118: =CONCATENATE(J118,"-",L118,"-",VLOOKUP(Q118,Liste_plantes!$A$2:$B$7,2,FALSE),"_tec.xml") -> 1-2-BT_tec.xml | AJ118: null | AK118: null | AL118: null | AM118: null
... A147: =A146 -> cnrm-cm5-aladin63 | B147: =B146 -> cca | C147: =C146 -> 8.5 | D147: =D146 -> 1895 | E147: =E146 -> 14050 | F147: =F146 -> 781_1895 | G147: =G146 -> 330562 | H147: =H146 -> 0.1574 | ... N147: =N146 -> h1 | O147: =IF(Q146="maïs fourrage",O146,O146+1) -> 2049 | P147: =IF(Q147="maïs fourrage",O147,O147+1) -> 2049 | Q147: =Q144 -> maïs fourrage | R147: =IF(OR(AND(Q147="ray grass d'Italie",Q146="blé tendre"),AND(Q147="maïs fourrage",Q146="ray grass d'Italie"),AND(Q147="blé tendre",Q146="maïs fourrage")),"ok","pb") -> ok | S147: =CONCATENATE(F147,"-",I147,"-",J147,"-",L147,"-",M147,"-",N147) -> 781_1895-562_NGC25-1-2-BT-h1 | T147: =CONCATENATE(F147,"-",I147,"-",J147,"-",L147,"-",M147,"-",N147,"-",P147,"-",VLOOKUP(Q147,Liste_plantes!$A$2:$B$7,2,FALSE)) -> 781_1895-562_NGC25-1-2-BT-h1-2049-MF | U147: =V146+1 -> 54491 | V147: =IF(Q147="blé tendre",CONCATENATE("15/08/",P147),IF(Q147="ray grass d'Italie",CONCATENATE("08/03/",P147),IF(Q147="maïs fourrage",CONCATENATE("01/10/",P147),"pb"))) -> 01/10/2049 | W147: =IF(OR(YEAR(U147)=1978,(U147-V146)=1),"OK","!!!") -> OK | X147: =U147-DATE($O147,1,1)+1 -> 68 | Y147: =V147-DATE($O147,1,1)+1 -> 274 | Z147: =IF(AND(Q146="prairie",Q147="prairie"),"prairie_ini.xml","snu_ini.xml") -> snu_ini.xml | AA147: =CONCATENATE(G147,"_",H147) -> 330562_0.1574 | AB147: =CONCATENATE($E147,"_",N147,"_sta.xml") -> 14050_h1_sta.xml | AC147: =CONCATENATE($E147,".",YEAR(U147)) -> 14050.2049 | AD147: =CONCATENATE($E147,".",YEAR(V147)) -> 14050.2049 | AE147: =IF(YEAR(V147)=YEAR(U147),1,2) -> 1 | AF147: 1 | AG147: 0 | AH147: =VLOOKUP(Q147,Liste_plantes!$A$2:$C$7,3,FALSE) -> corn_plt.xml | AI147: =CONCATENATE(J147,"-",L147,"-",VLOOKUP(Q147,Liste_plantes!$A$2:$B$7,2,FALSE),"_tec.xml") -> 1-2-MF_tec.xml | AJ147: null | AK147: null | AL147: null | AM147: null
A148: =A147 -> cnrm-cm5-aladin63 | B148: =B147 -> cca | C148: =C147 -> 8.5 | D148: =D147 -> 1895 | E148: =E147 -> 14050 | F148: =F147 -> 781_1895 | G148: =G147 -> 330562 | H148: =H147 -> 0.1574 | ... N148: =N147 -> h1 | O148: =IF(Q147="maïs fourrage",O147,O147+1) -> 2049 | P148: =IF(Q148="maïs fourrage",O148,O148+1) -> 2050 | Q148: blé tendre | R148: =IF(OR(AND(Q148="ray grass d'Italie",Q147="blé tendre"),AND(Q148="maïs fourrage",Q147="ray grass d'Italie"),AND(Q148="blé tendre",Q147="maïs fourrage")),"ok","pb") -> ok | S148: =CONCATENATE(F148,"-",I148,"-",J148,"-",L148,"-",M148,"-",N148) -> 781_1895-562_NGC25-1-2-BT-h1 | T148: =CONCATENATE(F148,"-",I148,"-",J148,"-",L148,"-",M148,"-",N148,"-",P148,"-",VLOOKUP(Q148,Liste_plantes!$A$2:$B$7,2,FALSE)) -> 781_1895-562_NGC25-1-2-BT-h1-2050-BT | U148: =V147+1 -> 54698 | V148: =IF(Q148="blé tendre",CONCATENATE("15/08/",P148),IF(Q148="ray grass d'Italie",CONCATENATE("08/03/",P148),IF(Q148="maïs fourrage",CONCATENATE("01/10/",P148),"pb"))) -> 15/08/2050 | W148: =IF(OR(YEAR(U148)=1978,(U148-V147)=1),"OK","!!!") -> OK | X148: =U148-DATE($O148,1,1)+1 -> 275 | Y148: =V148-DATE($O148,1,1)+1 -> 592 | Z148: =IF(AND(Q147="prairie",Q148="prairie"),"prairie_ini.xml","snu_ini.xml") -> snu_ini.xml | AA148: =CONCATENATE(G148,"_",H148) -> 330562_0.1574 | AB148: =CONCATENATE($E148,"_",N148,"_sta.xml") -> 14050_h1_sta.xml | AC148: =CONCATENATE($E148,".",YEAR(U148)) -> 14050.2049 | AD148: =CONCATENATE($E148,".",YEAR(V148)) -> 14050.2050 | AE148: =IF(YEAR(V148)=YEAR(U148),1,2) -> 2 | AF148: 1 | AG148: 0 | AH148: =VLOOKUP(Q148,Liste_plantes!$A$2:$C$7,3,FALSE) -> wheat_plt.xml | AI148: =CONCATENATE(J148,"-",L148,"-",VLOOKUP(Q148,Liste_plantes!$A$2:$B$7,2,FALSE),"_tec.xml") -> 1-2-BT_tec.xml | AJ148: null | AK148: null | AL148: null | AM148: null
A149: cnrm-cm5-aladin63 | B149: cca | C149: 8.5 | D149: 1895 | E149: 14050 | F149: 781_1895 | G149: 330562 | H149: 0.1574 | I149: =I148 -> 562_NGC25 | J149: 1 | K149: BT_ci_MF | L149: 2 | M149: rgi | N149: NA | O149: 2017 | P149: =IF(Q149="maïs fourrage",O149,O149+1) -> 2018 | Q149: ray grass d'Italie | S149: =CONCATENATE(F149,"-",I149,"-",J149,"-",L149,"-",M149,"-",N149) -> 781_1895-562_NGC25-1-2-rgi-NA | T149: =CONCATENATE(F149,"-",I149,"-",J149,"-",L149,"-",M149,"-",N149,"-",P149,"-",VLOOKUP(Q149,Liste_plantes!$A$2:$B$7,2,FALSE)) -> 781_1895-562_NGC25-1-2-rgi-NA-2018-rgi | U149: 42983 | V149: =IF(Q149="blé tendre",CONCATENATE("15/08/",P149),IF(Q149="ray grass d'Italie",CONCATENATE("08/03/",P149),IF(Q149="maïs fourrage",CONCATENATE("01/10/",P149),"pb"))) -> 08/03/2018 | X149: =U149-DATE($O149,1,1)+1 -> 248 | Y149: =V149-DATE($O149,1,1)+1 -> 432 | Z149: snu_ini.xml | AA149: =CONCATENATE(G149,"_",H149) -> 330562_0.1574 | AB149: =AB150 -> 14050_h1_sta.xml | AC149: =CONCATENATE($E149,".",YEAR(U149)) -> 14050.2017 | AD149: =CONCATENATE($E149,".",YEAR(V149)) -> 14050.2018 | AE149: =IF(YEAR(V149)=YEAR(U149),1,2) -> 2 | AF149: 1 | AG149: 0 | AH149: =VLOOKUP(Q149,Liste_plantes!$A$2:$C$7,3,FALSE) -> ItalianRyegrass_CoverCrop_plt.xml | AI149: =CONCATENATE(J149,"-",L149,"-",VLOOKUP(Q149,Liste_plantes!$A$2:$B$7,2,FALSE),"_tec.xml") -> 1-2-rgi_tec.xml | AJ149: null | AK149: null | AL149: null | AM149: null
A150: =A149 -> cnrm-cm5-aladin63 | B150: =B149 -> cca | C150: =C149 -> 8.5 | D150: =D149 -> 1895 | E150: =E149 -> 14050 | F150: =F149 -> 781_1895 | G150: =G149 -> 330562 | H150: =H149 -> 0.1574 | ... N150: =N149 -> NA | O150: =IF(Q149="maïs fourrage",O149,O149+1) -> 2018 | P150: =IF(Q150="maïs fourrage",O150,O150+1) -> 2018 | Q150: maïs fourrage | R150: =IF(OR(AND(Q150="ray grass d'Italie",Q149="blé tendre"),AND(Q150="maïs fourrage",Q149="ray grass d'Italie"),AND(Q150="blé tendre",Q149="maïs fourrage")),"ok","pb") -> ok | S150: =CONCATENATE(F150,"-",I150,"-",J150,"-",L150,"-",M150,"-",N150) -> 781_1895-562_NGC25-1-2-rgi-NA | T150: =CONCATENATE(F150,"-",I150,"-",J150,"-",L150,"-",M150,"-",N150,"-",P150,"-",VLOOKUP(Q150,Liste_plantes!$A$2:$B$7,2,FALSE)) -> 781_1895-562_NGC25-1-2-rgi-NA-2018-MF | U150: =V149+1 -> 43168 | V150: =IF(Q150="blé tendre",CONCATENATE("15/08/",P150),IF(Q150="ray grass d'Italie",CONCATENATE("08/03/",P150),IF(Q150="maïs fourrage",CONCATENATE("01/10/",P150),"pb"))) -> 01/10/2018 | W150: =IF(OR(YEAR(U150)=1978,(U150-V149)=1),"OK","!!!") -> OK | X150: =U150-DATE($O150,1,1)+1 -> 68 | Y150: =V150-DATE($O150,1,1)+1 -> 274 | Z150: =IF(AND(Q149="prairie",Q150="prairie"),"prairie_ini.xml","snu_ini.xml") -> snu_ini.xml | AA150: =CONCATENATE(G150,"_",H150) -> 330562_0.1574 | AB150: =AB151 -> 14050_h1_sta.xml | AC150: =CONCATENATE($E150,".",YEAR(U150)) -> 14050.2018 | AD150: =CONCATENATE($E150,".",YEAR(V150)) -> 14050.2018 | AE150: =IF(YEAR(V150)=YEAR(U150),1,2) -> 1 | AF150: 1 | AG150: 0 | AH150: =VLOOKUP(Q150,Liste_plantes!$A$2:$C$7,3,FALSE) -> corn_plt.xml | AI150: =CONCATENATE(J150,"-",L150,"-",VLOOKUP(Q150,Liste_plantes!$A$2:$B$7,2,FALSE),"_tec.xml") -> 1-2-MF_tec.xml | AJ150: null | AK150: null | AL150: null | AM150: null
A151: =A150 -> cnrm-cm5-aladin63 | B151: =B150 -> cca | C151: =C150 -> 8.5 | D151: =D150 -> 1895 | E151: =E150 -> 14050 | F151: =F150 -> 781_1895 | G151: =G150 -> 330562 | H151: =H150 -> 0.1574 | ... N151: =N150 -> NA | O151: =IF(Q150="maïs fourrage",O150,O150+1) -> 2018 | P151: =IF(Q151="maïs fourrage",O151,O151+1) -> 2019 | Q151: blé tendre | R151: =IF(OR(AND(Q151="ray grass d'Italie",Q150="blé tendre"),AND(Q151="maïs fourrage",Q150="ray grass d'Italie"),AND(Q151="blé tendre",Q150="maïs fourrage")),"ok","pb") -> ok | S151: =CONCATENATE(F151,"-",I151,"-",J151,"-",L151,"-",M151,"-",N151) -> 781_1895-562_NGC25-1-2-rgi-NA | T151: =CONCATENATE(F151,"-",I151,"-",J151,"-",L151,"-",M151,"-",N151,"-",P151,"-",VLOOKUP(Q151,Liste_plantes!$A$2:$B$7,2,FALSE)) -> 781_1895-562_NGC25-1-2-rgi-NA-2019-BT | U151: =V150+1 -> 43375 | V151: =IF(Q151="blé tendre",CONCATENATE("15/08/",P151),IF(Q151="ray grass d'Italie",CONCATENATE("08/03/",P151),IF(Q151="maïs fourrage",CONCATENATE("01/10/",P151),"pb"))) -> 15/08/2019 | W151: =IF(OR(YEAR(U151)=1978,(U151-V150)=1),"OK","!!!") -> OK | X151: =U151-DATE($O151,1,1)+1 -> 275 | Y151: =V151-DATE($O151,1,1)+1 -> 592 | Z151: =IF(AND(Q150="prairie",Q151="prairie"),"prairie_ini.xml","snu_ini.xml") -> snu_ini.xml | AA151: =CONCATENATE(G151,"_",H151) -> 330562_0.1574 | AB151: =AB152 -> 14050_h1_sta.xml | AC151: =CONCATENATE($E151,".",YEAR(U151)) -> 14050.2018 | AD151: =CONCATENATE($E151,".",YEAR(V151)) -> 14050.2019 | AE151: =IF(YEAR(V151)=YEAR(U151),1,2) -> 2 | AF151: 1 | AG151: 0 | AH151: =VLOOKUP(Q151,Liste_plantes!$A$2:$C$7,3,FALSE) -> wheat_plt.xml | AI151: =CONCATENATE(J151,"-",L151,"-",VLOOKUP(Q151,Liste_plantes!$A$2:$B$7,2,FALSE),"_tec.xml") -> 1-2-BT_tec.xml | AJ151: null | AK151: null | AL151: null | AM151: null
A152: =A151 -> cnrm-cm5-aladin63 | B152: =B151 -> cca | C152: =C151 -> 8.5 | D152: =D151 -> 1895 | E152: =E151 -> 14050 | F152: =F151 -> 781_1895 | G152: =G151 -> 330562 | H152: =H151 -> 0.1574 | ... M152: =M151 -> rgi | N152: NA | O152: =IF(Q151="maïs fourrage",O151,O151+1) -> 2019 | P152: =IF(Q152="maïs fourrage",O152,O152+1) -> 2020 | Q152: =Q149 -> ray grass d'Italie | R152: =IF(OR(AND(Q152="ray grass d'Italie",Q151="blé tendre"),AND(Q152="maïs fourrage",Q151="ray grass d'Italie"),AND(Q152="blé tendre",Q151="maïs fourrage")),"ok","pb") -> ok | S152: =CONCATENATE(F152,"-",I152,"-",J152,"-",L152,"-",M152,"-",N152) -> 781_1895-562_NGC25-1-2-rgi-NA | T152: =CONCATENATE(F152,"-",I152,"-",J152,"-",L152,"-",M152,"-",N152,"-",P152,"-",VLOOKUP(Q152,Liste_plantes!$A$2:$B$7,2,FALSE)) -> 781_1895-562_NGC25-1-2-rgi-NA-2020-rgi | U152: =V151+1 -> 43693 | V152: =IF(Q152="blé tendre",CONCATENATE("15/08/",P152),IF(Q152="ray grass d'Italie",CONCATENATE("08/03/",P152),IF(Q152="maïs fourrage",CONCATENATE("01/10/",P152),"pb"))) -> 08/03/2020 | W152: =IF(OR(YEAR(U152)=1978,(U152-V151)=1),"OK","!!!") -> OK | X152: =U152-DATE($O152,1,1)+1 -> 228 | Y152: =V152-DATE($O152,1,1)+1 -> 433 | Z152: =IF(AND(Q151="prairie",Q152="prairie"),"prairie_ini.xml","snu_ini.xml") -> snu_ini.xml | AA152: =CONCATENATE(G152,"_",H152) -> 330562_0.1574 | AB152: =AB153 -> 14050_h1_sta.xml | AC152: =CONCATENATE($E152,".",YEAR(U152)) -> 14050.2019 | AD152: =CONCATENATE($E152,".",YEAR(V152)) -> 14050.2020 | AE152: =IF(YEAR(V152)=YEAR(U152),1,2) -> 2 | AF152: 1 | AG152: 0 | AH152: =VLOOKUP(Q152,Liste_plantes!$A$2:$C$7,3,FALSE) -> ItalianRyegrass_CoverCrop_plt.xml | AI152: =CONCATENATE(J152,"-",L152,"-",VLOOKUP(Q152,Liste_plantes!$A$2:$B$7,2,FALSE),"_tec.xml") -> 1-2-rgi_tec.xml | AJ152: null | AK152: null | AL152: null | AM152: null
A153: =A152 -> cnrm-cm5-aladin63 | B153: =B152 -> cca | C153: =C152 -> 8.5 | D153: =D152 -> 1895 | E153: =E152 -> 14050 | F153: =F152 -> 781_1895 | G153: =G152 -> 330562 | H153: =H152 -> 0.1574 | ... M153: =M152 -> rgi | N153: h1 | O153: =IF(Q152="maïs fourrage",O152,O152+1) -> 2020 | P153: =IF(Q153="maïs fourrage",O153,O153+1) -> 2020 | Q153: =Q150 -> maïs fourrage | R153: =IF(OR(AND(Q153="ray grass d'Italie",Q152="blé tendre"),AND(Q153="maïs fourrage",Q152="ray grass d'Italie"),AND(Q153="blé tendre",Q152="maïs fourrage")),"ok","pb") -> ok | S153: =CONCATENATE(F153,"-",I153,"-",J153,"-",L153,"-",M153,"-",N153) -> 781_1895-562_NGC25-1-2-rgi-h1 | T153: =CONCATENATE(F153,"-",I153,"-",J153,"-",L153,"-",M153,"-",N153,"-",P153,"-",VLOOKUP(Q153,Liste_plantes!$A$2:$B$7,2,FALSE)) -> 781_1895-562_NGC25-1-2-rgi-h1-2020-MF | U153: =V152+1 -> 43899 | V153: =IF(Q153="blé tendre",CONCATENATE("15/08/",P153),IF(Q153="ray grass d'Italie",CONCATENATE("08/03/",P153),IF(Q153="maïs fourrage",CONCATENATE("01/10/",P153),"pb"))) -> 01/10/2020 | W153: =IF(OR(YEAR(U153)=1978,(U153-V152)=1),"OK","!!!") -> OK | X153: =U153-DATE($O153,1,1)+1 -> 69 | Y153: =V153-DATE($O153,1,1)+1 -> 275 | Z153: =IF(AND(Q152="prairie",Q153="prairie"),"prairie_ini.xml","snu_ini.xml") -> snu_ini.xml | AA153: =CONCATENATE(G153,"_",H153) -> 330562_0.1574 | AB153: =CONCATENATE($E153,"_",N153,"_sta.xml") -> 14050_h1_sta.xml | AC153: =CONCATENATE($E153,".",YEAR(U153)) -> 14050.2020 | AD153: =CONCATENATE($E153,".",YEAR(V153)) -> 14050.2020 | AE153: =IF(YEAR(V153)=YEAR(U153),1,2) -> 1 | AF153: 1 | AG153: 0 | AH153: =VLOOKUP(Q153,Liste_plantes!$A$2:$C$7,3,FALSE) -> corn_plt.xml | AI153: =CONCATENATE(J153,"-",L153,"-",VLOOKUP(Q153,Liste_plantes!$A$2:$B$7,2,FALSE),"_tec.xml") -> 1-2-MF_tec.xml | AJ153: null | AK153: null | AL153: null | AM153: null
A154: =A153 -> cnrm-cm5-aladin63 | B154: =B153 -> cca | C154: =C153 -> 8.5 | D154: =D153 -> 1895 | E154: =E153 -> 14050 | F154: =F153 -> 781_1895 | G154: =G153 -> 330562 | H154: =H153 -> 0.1574 | ... N154: =N153 -> h1 | O154: =IF(Q153="maïs fourrage",O153,O153+1) -> 2020 | P154: =IF(Q154="maïs fourrage",O154,O154+1) -> 2021 | Q154: =Q151 -> blé tendre | R154: =IF(OR(AND(Q154="ray grass d'Italie",Q153="blé tendre"),AND(Q154="maïs fourrage",Q153="ray grass d'Italie"),AND(Q154="blé tendre",Q153="maïs fourrage")),"ok","pb") -> ok | S154: =CONCATENATE(F154,"-",I154,"-",J154,"-",L154,"-",M154,"-",N154) -> 781_1895-562_NGC25-1-2-rgi-h1 | T154: =CONCATENATE(F154,"-",I154,"-",J154,"-",L154,"-",M154,"-",N154,"-",P154,"-",VLOOKUP(Q154,Liste_plantes!$A$2:$B$7,2,FALSE)) -> 781_1895-562_NGC25-1-2-rgi-h1-2021-BT | U154: =V153+1 -> 44106 | V154: =IF(Q154="blé tendre",CONCATENATE("15/08/",P154),IF(Q154="ray grass d'Italie",CONCATENATE("08/03/",P154),IF(Q154="maïs fourrage",CONCATENATE("01/10/",P154),"pb"))) -> 15/08/2021 | W154: =IF(OR(YEAR(U154)=1978,(U154-V153)=1),"OK","!!!") -> OK | X154: =U154-DATE($O154,1,1)+1 -> 276 | Y154: =V154-DATE($O154,1,1)+1 -> 593 | Z154: =IF(AND(Q153="prairie",Q154="prairie"),"prairie_ini.xml","snu_ini.xml") -> snu_ini.xml | AA154: =CONCATENATE(G154,"_",H154) -> 330562_0.1574 | AB154: =AB155 -> 14050_h1_sta.xml | AC154: =CONCATENATE($E154,".",YEAR(U154)) -> 14050.2020 | AD154: =CONCATENATE($E154,".",YEAR(V154)) -> 14050.2021 | AE154: =IF(YEAR(V154)=YEAR(U154),1,2) -> 2 | AF154: 1 | AG154: 0 | AH154: =VLOOKUP(Q154,Liste_plantes!$A$2:$C$7,3,FALSE) -> wheat_plt.xml | AI154: =CONCATENATE(J154,"-",L154,"-",VLOOKUP(Q154,Liste_plantes!$A$2:$B$7,2,FALSE),"_tec.xml") -> 1-2-BT_tec.xml | AJ154: null | AK154: null | AL154: null | AM154: null
A155: =A154 -> cnrm-cm5-aladin63 | B155: =B154 -> cca | C155: =C154 -> 8.5 | D155: =D154 -> 1895 | E155: =E154 -> 14050 | F155: =F154 -> 781_1895 | G155: =G154 -> 330562 | H155: =H154 -> 0.1574 | ... N155: =N154 -> h1 | O155: =IF(Q154="maïs fourrage",O154,O154+1) -> 2021 | P155: =IF(Q155="maïs fourrage",O155,O155+1) -> 2022 | Q155: =Q152 -> ray grass d'Italie | R155: =IF(OR(AND(Q155="ray grass d'Italie",Q154="blé tendre"),AND(Q155="maïs fourrage",Q154="ray grass d'Italie"),AND(Q155="blé tendre",Q154="maïs fourrage")),"ok","pb") -> ok | S155: =CONCATENATE(F155,"-",I155,"-",J155,"-",L155,"-",M155,"-",N155) -> 781_1895-562_NGC25-1-2-rgi-h1 | T155: =CONCATENATE(F155,"-",I155,"-",J155,"-",L155,"-",M155,"-",N155,"-",P155,"-",VLOOKUP(Q155,Liste_plantes!$A$2:$B$7,2,FALSE)) -> 781_1895-562_NGC25-1-2-rgi-h1-2022-rgi | U155: =V154+1 -> 44424 | V155: =IF(Q155="blé tendre",CONCATENATE("15/08/",P155),IF(Q155="ray grass d'Italie",CONCATENATE("08/03/",P155),IF(Q155="maïs fourrage",CONCATENATE("01/10/",P155),"pb"))) -> 08/03/2022 | W155: =IF(OR(YEAR(U155)=1978,(U155-V154)=1),"OK","!!!") -> OK | X155: =U155-DATE($O155,1,1)+1 -> 228 | Y155: =V155-DATE($O155,1,1)+1 -> 432 | Z155: =IF(AND(Q154="prairie",Q155="prairie"),"prairie_ini.xml","snu_ini.xml") -> snu_ini.xml | AA155: =CONCATENATE(G155,"_",H155) -> 330562_0.1574 | AB155: =AB156 -> 14050_h1_sta.xml | AC155: =CONCATENATE($E155,".",YEAR(U155)) -> 14050.2021 | AD155: =CONCATENATE($E155,".",YEAR(V155)) -> 14050.2022 | AE155: =IF(YEAR(V155)=YEAR(U155),1,2) -> 2 | AF155: 1 | AG155: 0 | AH155: =VLOOKUP(Q155,Liste_plantes!$A$2:$C$7,3,FALSE) -> ItalianRyegrass_CoverCrop_plt.xml | AI155: =CONCATENATE(J155,"-",L155,"-",VLOOKUP(Q155,Liste_plantes!$A$2:$B$7,2,FALSE),"_tec.xml") -> 1-2-rgi_tec.xml | AJ155: null | AK155: null | AL155: null | AM155: null
A156: =A155 -> cnrm-cm5-aladin63 | B156: =B155 -> cca | C156: =C155 -> 8.5 | D156: =D155 -> 1895 | E156: =E155 -> 14050 | F156: =F155 -> 781_1895 | G156: =G155 -> 330562 | H156: =H155 -> 0.1574 | ... N156: =N155 -> h1 | O156: =IF(Q155="maïs fourrage",O155,O155+1) -> 2022 | P156: =IF(Q156="maïs fourrage",O156,O156+1) -> 2022 | Q156: =Q153 -> maïs fourrage | R156: =IF(OR(AND(Q156="ray grass d'Italie",Q155="blé tendre"),AND(Q156="maïs fourrage",Q155="ray grass d'Italie"),AND(Q156="blé tendre",Q155="maïs fourrage")),"ok","pb") -> ok | S156: =CONCATENATE(F156,"-",I156,"-",J156,"-",L156,"-",M156,"-",N156) -> 781_1895-562_NGC25-1-2-rgi-h1 | T156: =CONCATENATE(F156,"-",I156,"-",J156,"-",L156,"-",M156,"-",N156,"-",P156,"-",VLOOKUP(Q156,Liste_plantes!$A$2:$B$7,2,FALSE)) -> 781_1895-562_NGC25-1-2-rgi-h1-2022-MF | U156: =V155+1 -> 44629 | V156: =IF(Q156="blé tendre",CONCATENATE("15/08/",P156),IF(Q156="ray grass d'Italie",CONCATENATE("08/03/",P156),IF(Q156="maïs fourrage",CONCATENATE("01/10/",P156),"pb"))) -> 01/10/2022 | W156: =IF(OR(YEAR(U156)=1978,(U156-V155)=1),"OK","!!!") -> OK | X156: =U156-DATE($O156,1,1)+1 -> 68 | Y156: =V156-DATE($O156,1,1)+1 -> 274 | Z156: =IF(AND(Q155="prairie",Q156="prairie"),"prairie_ini.xml","snu_ini.xml") -> snu_ini.xml | AA156: =CONCATENATE(G156,"_",H156) -> 330562_0.1574 | AB156: =AB157 -> 14050_h1_sta.xml | AC156: =CONCATENATE($E156,".",YEAR(U156)) -> 14050.2022 | AD156: =CONCATENATE($E156,".",YEAR(V156)) -> 14050.2022 | AE156: =IF(YEAR(V156)=YEAR(U156),1,2) -> 1 | AF156: 1 | AG156: 0 | AH156: =VLOOKUP(Q156,Liste_plantes!$A$2:$C$7,3,FALSE) -> corn_plt.xml | AI156: =CONCATENATE(J156,"-",L156,"-",VLOOKUP(Q156,Liste_plantes!$A$2:$B$7,2,FALSE),"_tec.xml") -> 1-2-MF_tec.xml | AJ156: null | AK156: null | AL156: null | AM156: null
A157: =A156 -> cnrm-cm5-aladin63 | B157: =B156 -> cca | C157: =C156 -> 8.5 | D157: =D156 -> 1895 | E157: =E156 -> 14050 | F157: =F156 -> 781_1895 | G157: =G156 -> 330562 | H157: =H156 -> 0.1574 | ... N157: =N156 -> h1 | O157: =IF(Q156="maïs fourrage",O156,O156+1) -> 2022 | P157: =IF(Q157="maïs fourrage",O157,O157+1) -> 2023 | Q157: =Q154 -> blé tendre | R157: =IF(OR(AND(Q157="ray grass d'Italie",Q156="blé tendre"),AND(Q157="maïs fourrage",Q156="ray grass d'Italie"),AND(Q157="blé tendre",Q156="maïs fourrage")),"ok","pb") -> ok | S157: =CONCATENATE(F157,"-",I157,"-",J157,"-",L157,"-",M157,"-",N157) -> 781_1895-562_NGC25-1-2-rgi-h1 | T157: =CONCATENATE(F157,"-",I157,"-",J157,"-",L157,"-",M157,"-",N157,"-",P157,"-",VLOOKUP(Q157,Liste_plantes!$A$2:$B$7,2,FALSE)) -> 781_1895-562_NGC25-1-2-rgi-h1-2023-BT | U157: =V156+1 -> 44836 | V157: =IF(Q157="blé tendre",CONCATENATE("15/08/",P157),IF(Q157="ray grass d'Italie",CONCATENATE("08/03/",P157),IF(Q157="maïs fourrage",CONCATENATE("01/10/",P157),"pb"))) -> 15/08/2023 | W157: =IF(OR(YEAR(U157)=1978,(U157-V156)=1),"OK","!!!") -> OK | X157: =U157-DATE($O157,1,1)+1 -> 275 | Y157: =V157-DATE($O157,1,1)+1 -> 592 | Z157: =IF(AND(Q156="prairie",Q157="prairie"),"prairie_ini.xml","snu_ini.xml") -> snu_ini.xml | AA157: =CONCATENATE(G157,"_",H157) -> 330562_0.1574 | AB157: =CONCATENATE($E157,"_",N157,"_sta.xml") -> 14050_h1_sta.xml | AC157: =CONCATENATE($E157,".",YEAR(U157)) -> 14050.2022 | AD157: =CONCATENATE($E157,".",YEAR(V157)) -> 14050.2023 | AE157: =IF(YEAR(V157)=YEAR(U157),1,2) -> 2 | AF157: 1 | AG157: 0 | AH157: =VLOOKUP(Q157,Liste_plantes!$A$2:$C$7,3,FALSE) -> wheat_plt.xml | AI157: =CONCATENATE(J157,"-",L157,"-",VLOOKUP(Q157,Liste_plantes!$A$2:$B$7,2,FALSE),"_tec.xml") -> 1-2-BT_tec.xml | AJ157: null | AK157: null | AL157: null | AM157: null
A158: =A157 -> cnrm-cm5-aladin63 | B158: =B157 -> cca | C158: =C157 -> 8.5 | D158: =D157 -> 1895 | E158: =E157 -> 14050 | F158: =F157 -> 781_1895 | G158: =G157 -> 330562 | H158: =H157 -> 0.1574 | ... N158: =N157 -> h1 | O158: =IF(Q157="maïs fourrage",O157,O157+1) -> 2023 | P158: =IF(Q158="maïs fourrage",O158,O158+1) -> 2024 | Q158: =Q155 -> ray grass d'Italie | R158: =IF(OR(AND(Q158="ray grass d'Italie",Q157="blé tendre"),AND(Q158="maïs fourrage",Q157="ray grass d'Italie"),AND(Q158="blé tendre",Q157="maïs fourrage")),"ok","pb") -> ok | S158: =CONCATENATE(F158,"-",I158,"-",J158,"-",L158,"-",M158,"-",N158) -> 781_1895-562_NGC25-1-2-rgi-h1 | T158: =CONCATENATE(F158,"-",I158,"-",J158,"-",L158,"-",M158,"-",N158,"-",P158,"-",VLOOKUP(Q158,Liste_plantes!$A$2:$B$7,2,FALSE)) -> 781_1895-562_NGC25-1-2-rgi-h1-2024-rgi | U158: =V157+1 -> 45154 | V158: =IF(Q158="blé tendre",CONCATENATE("15/08/",P158),IF(Q158="ray grass d'Italie",CONCATENATE("08/03/",P158),IF(Q158="maïs fourrage",CONCATENATE("01/10/",P158),"pb"))) -> 08/03/2024 | W158: =IF(OR(YEAR(U158)=1978,(U158-V157)=1),"OK","!!!") -> OK | X158: =U158-DATE($O158,1,1)+1 -> 228 | Y158: =V158-DATE($O158,1,1)+1 -> 433 | Z158: =IF(AND(Q157="prairie",Q158="prairie"),"prairie_ini.xml","snu_ini.xml") -> snu_ini.xml | AA158: =CONCATENATE(G158,"_",H158) -> 330562_0.1574 | AB158: =CONCATENATE($E158,"_",N158,"_sta.xml") -> 14050_h1_sta.xml | AC158: =CONCATENATE($E158,".",YEAR(U158)) -> 14050.2023 | AD158: =CONCATENATE($E158,".",YEAR(V158)) -> 14050.2024 | AE158: =IF(YEAR(V158)=YEAR(U158),1,2) -> 2 | AF158: 1 | AG158: 0 | AH158: =VLOOKUP(Q158,Liste_plantes!$A$2:$C$7,3,FALSE) -> ItalianRyegrass_CoverCrop_plt.xml | AI158: =CONCATENATE(J158,"-",L158,"-",VLOOKUP(Q158,Liste_plantes!$A$2:$B$7,2,FALSE),"_tec.xml") -> 1-2-rgi_tec.xml | AJ158: null | AK158: null | AL158: null | AM158: null
A159: =A158 -> cnrm-cm5-aladin63 | B159: =B158 -> cca | C159: =C158 -> 8.5 | D159: =D158 -> 1895 | E159: =E158 -> 14050 | F159: =F158 -> 781_1895 | G159: =G158 -> 330562 | H159: =H158 -> 0.1574 | ... N159: =N158 -> h1 | O159: =IF(Q158="maïs fourrage",O158,O158+1) -> 2024 | P159: =IF(Q159="maïs fourrage",O159,O159+1) -> 2024 | Q159: =Q156 -> maïs fourrage | R159: =IF(OR(AND(Q159="ray grass d'Italie",Q158="blé tendre"),AND(Q159="maïs fourrage",Q158="ray grass d'Italie"),AND(Q159="blé tendre",Q158="maïs fourrage")),"ok","pb") -> ok | S159: =CONCATENATE(F159,"-",I159,"-",J159,"-",L159,"-",M159,"-",N159) -> 781_1895-562_NGC25-1-2-rgi-h1 | T159: =CONCATENATE(F159,"-",I159,"-",J159,"-",L159,"-",M159,"-",N159,"-",P159,"-",VLOOKUP(Q159,Liste_plantes!$A$2:$B$7,2,FALSE)) -> 781_1895-562_NGC25-1-2-rgi-h1-2024-MF | U159: =V158+1 -> 45360 | V159: =IF(Q159="blé tendre",CONCATENATE("15/08/",P159),IF(Q159="ray grass d'Italie",CONCATENATE("08/03/",P159),IF(Q159="maïs fourrage",CONCATENATE("01/10/",P159),"pb"))) -> 01/10/2024 | W159: =IF(OR(YEAR(U159)=1978,(U159-V158)=1),"OK","!!!") -> OK | X159: =U159-DATE($O159,1,1)+1 -> 69 | Y159: =V159-DATE($O159,1,1)+1 -> 275 | Z159: =IF(AND(Q158="prairie",Q159="prairie"),"prairie_ini.xml","snu_ini.xml") -> snu_ini.xml | AA159: =CONCATENATE(G159,"_",H159) -> 330562_0.1574 | AB159: =CONCATENATE($E159,"_",N159,"_sta.xml") -> 14050_h1_sta.xml | AC159: =CONCATENATE($E159,".",YEAR(U159)) -> 14050.2024 | AD159: =CONCATENATE($E159,".",YEAR(V159)) -> 14050.2024 | AE159: =IF(YEAR(V159)=YEAR(U159),1,2) -> 1 | AF159: 1 | AG159: 0 | AH159: =VLOOKUP(Q159,Liste_plantes!$A$2:$C$7,3,FALSE) -> corn_plt.xml | AI159: =CONCATENATE(J159,"-",L159,"-",VLOOKUP(Q159,Liste_plantes!$A$2:$B$7,2,FALSE),"_tec.xml") -> 1-2-MF_tec.xml | AJ159: null | AK159: null | AL159: null | AM159: null
A160: =A159 -> cnrm-cm5-aladin63 | B160: =B159 -> cca | C160: =C159 -> 8.5 | D160: =D159 -> 1895 | E160: =E159 -> 14050 | F160: =F159 -> 781_1895 | G160: =G159 -> 330562 | H160: =H159 -> 0.1574 | ... N160: =N159 -> h1 | O160: =IF(Q159="maïs fourrage",O159,O159+1) -> 2024 | P160: =IF(Q160="maïs fourrage",O160,O160+1) -> 2025 | Q160: =Q157 -> blé tendre | R160: =IF(OR(AND(Q160="ray grass d'Italie",Q159="blé tendre"),AND(Q160="maïs fourrage",Q159="ray grass d'Italie"),AND(Q160="blé tendre",Q159="maïs fourrage")),"ok","pb") -> ok | S160: =CONCATENATE(F160,"-",I160,"-",J160,"-",L160,"-",M160,"-",N160) -> 781_1895-562_NGC25-1-2-rgi-h1 | T160: =CONCATENATE(F160,"-",I160,"-",J160,"-",L160,"-",M160,"-",N160,"-",P160,"-",VLOOKUP(Q160,Liste_plantes!$A$2:$B$7,2,FALSE)) -> 781_1895-562_NGC25-1-2-rgi-h1-2025-BT | U160: =V159+1 -> 45567 | V160: =IF(Q160="blé tendre",CONCATENATE("15/08/",P160),IF(Q160="ray grass d'Italie",CONCATENATE("08/03/",P160),IF(Q160="maïs fourrage",CONCATENATE("01/10/",P160),"pb"))) -> 15/08/2025 | W160: =IF(OR(YEAR(U160)=1978,(U160-V159)=1),"OK","!!!") -> OK | X160: =U160-DATE($O160,1,1)+1 -> 276 | Y160: =V160-DATE($O160,1,1)+1 -> 593 | Z160: =IF(AND(Q159="prairie",Q160="prairie"),"prairie_ini.xml","snu_ini.xml") -> snu_ini.xml | AA160: =CONCATENATE(G160,"_",H160) -> 330562_0.1574 | AB160: =CONCATENATE($E160,"_",N160,"_sta.xml") -> 14050_h1_sta.xml | AC160: =CONCATENATE($E160,".",YEAR(U160)) -> 14050.2024 | AD160: =CONCATENATE($E160,".",YEAR(V160)) -> 14050.2025 | AE160: =IF(YEAR(V160)=YEAR(U160),1,2) -> 2 | AF160: 1 | AG160: 0 | AH160: =VLOOKUP(Q160,Liste_plantes!$A$2:$C$7,3,FALSE) -> wheat_plt.xml | AI160: =CONCATENATE(J160,"-",L160,"-",VLOOKUP(Q160,Liste_plantes!$A$2:$B$7,2,FALSE),"_tec.xml") -> 1-2-BT_tec.xml | AJ160: null | AK160: null | AL160: null | AM160: null
A161: =A160 -> cnrm-cm5-aladin63 | B161: =B160 -> cca | C161: =C160 -> 8.5 | D161: =D160 -> 1895 | E161: =E160 -> 14050 | F161: =F160 -> 781_1895 | G161: =G160 -> 330562 | H161: =H160 -> 0.1574 | ... N161: =N160 -> h1 | O161: =IF(Q160="maïs fourrage",O160,O160+1) -> 2025 | P161: =IF(Q161="maïs fourrage",O161,O161+1) -> 2026 | Q161: =Q158 -> ray grass d'Italie | R161: =IF(OR(AND(Q161="ray grass d'Italie",Q160="blé tendre"),AND(Q161="maïs fourrage",Q160="ray grass d'Italie"),AND(Q161="blé tendre",Q160="maïs fourrage")),"ok","pb") -> ok | S161: =CONCATENATE(F161,"-",I161,"-",J161,"-",L161,"-",M161,"-",N161) -> 781_1895-562_NGC25-1-2-rgi-h1 | T161: =CONCATENATE(F161,"-",I161,"-",J161,"-",L161,"-",M161,"-",N161,"-",P161,"-",VLOOKUP(Q161,Liste_plantes!$A$2:$B$7,2,FALSE)) -> 781_1895-562_NGC25-1-2-rgi-h1-2026-rgi | U161: =V160+1 -> 45885 | V161: =IF(Q161="blé tendre",CONCATENATE("15/08/",P161),IF(Q161="ray grass d'Italie",CONCATENATE("08/03/",P161),IF(Q161="maïs fourrage",CONCATENATE("01/10/",P161),"pb"))) -> 08/03/2026 | W161: =IF(OR(YEAR(U161)=1978,(U161-V160)=1),"OK","!!!") -> OK | X161: =U161-DATE($O161,1,1)+1 -> 228 | Y161: =V161-DATE($O161,1,1)+1 -> 432 | Z161: =IF(AND(Q160="prairie",Q161="prairie"),"prairie_ini.xml","snu_ini.xml") -> snu_ini.xml | AA161: =CONCATENATE(G161,"_",H161) -> 330562_0.1574 | AB161: =CONCATENATE($E161,"_",N161,"_sta.xml") -> 14050_h1_sta.xml | AC161: =CONCATENATE($E161,".",YEAR(U161)) -> 14050.2025 | AD161: =CONCATENATE($E161,".",YEAR(V161)) -> 14050.2026 | AE161: =IF(YEAR(V161)=YEAR(U161),1,2) -> 2 | AF161: 1 | AG161: 0 | AH161: =VLOOKUP(Q161,Liste_plantes!$A$2:$C$7,3,FALSE) -> ItalianRyegrass_CoverCrop_plt.xml | AI161: =CONCATENATE(J161,"-",L161,"-",VLOOKUP(Q161,Liste_plantes!$A$2:$B$7,2,FALSE),"_tec.xml") -> 1-2-rgi_tec.xml | AJ161: null | AK161: null | AL161: null | AM161: null
A162: =A161 -> cnrm-cm5-aladin63 | B162: =B161 -> cca | C162: =C161 -> 8.5 | D162: =D161 -> 1895 | E162: =E161 -> 14050 | F162: =F161 -> 781_1895 | G162: =G161 -> 330562 | H162: =H161 -> 0.1574 | ... N162: =N161 -> h1 | O162: =IF(Q161="maïs fourrage",O161,O161+1) -> 2026 | P162: =IF(Q162="maïs fourrage",O162,O162+1) -> 2026 | Q162: =Q159 -> maïs fourrage | R162: =IF(OR(AND(Q162="ray grass d'Italie",Q161="blé tendre"),AND(Q162="maïs fourrage",Q161="ray grass d'Italie"),AND(Q162="blé tendre",Q161="maïs fourrage")),"ok","pb") -> ok | S162: =CONCATENATE(F162,"-",I162,"-",J162,"-",L162,"-",M162,"-",N162) -> 781_1895-562_NGC25-1-2-rgi-h1 | T162: =CONCATENATE(F162,"-",I162,"-",J162,"-",L162,"-",M162,"-",N162,"-",P162,"-",VLOOKUP(Q162,Liste_plantes!$A$2:$B$7,2,FALSE)) -> 781_1895-562_NGC25-1-2-rgi-h1-2026-MF | U162: =V161+1 -> 46090 | V162: =IF(Q162="blé tendre",CONCATENATE("15/08/",P162),IF(Q162="ray grass d'Italie",CONCATENATE("08/03/",P162),IF(Q162="maïs fourrage",CONCATENATE("01/10/",P162),"pb"))) -> 01/10/2026 | W162: =IF(OR(YEAR(U162)=1978,(U162-V161)=1),"OK","!!!") -> OK | X162: =U162-DATE($O162,1,1)+1 -> 68 | Y162: =V162-DATE($O162,1,1)+1 -> 274 | Z162: =IF(AND(Q161="prairie",Q162="prairie"),"prairie_ini.xml","snu_ini.xml") -> snu_ini.xml | AA162: =CONCATENATE(G162,"_",H162) -> 330562_0.1574 | AB162: =CONCATENATE($E162,"_",N162,"_sta.xml") -> 14050_h1_sta.xml | AC162: =CONCATENATE($E162,".",YEAR(U162)) -> 14050.2026 | AD162: =CONCATENATE($E162,".",YEAR(V162)) -> 14050.2026 | AE162: =IF(YEAR(V162)=YEAR(U162),1,2) -> 1 | AF162: 1 | AG162: 0 | AH162: =VLOOKUP(Q162,Liste_plantes!$A$2:$C$7,3,FALSE) -> corn_plt.xml | AI162: =CONCATENATE(J162,"-",L162,"-",VLOOKUP(Q162,Liste_plantes!$A$2:$B$7,2,FALSE),"_tec.xml") -> 1-2-MF_tec.xml | AJ162: null | AK162: null | AL162: null | AM162: null
A163: =A162 -> cnrm-cm5-aladin63 | B163: =B162 -> cca | C163: =C162 -> 8.5 | D163: =D162 -> 1895 | E163: =E162 -> 14050 | F163: =F162 -> 781_1895 | G163: =G162 -> 330562 | H163: =H162 -> 0.1574 | ... N163: =N162 -> h1 | O163: =IF(Q162="maïs fourrage",O162,O162+1) -> 2026 | P163: =IF(Q163="maïs fourrage",O163,O163+1) -> 2027 | Q163: =Q160 -> blé tendre | R163: =IF(OR(AND(Q163="ray grass d'Italie",Q162="blé tendre"),AND(Q163="maïs fourrage",Q162="ray grass d'Italie"),AND(Q163="blé tendre",Q162="maïs fourrage")),"ok","pb") -> ok | S163: =CONCATENATE(F163,"-",I163,"-",J163,"-",L163,"-",M163,"-",N163) -> 781_1895-562_NGC25-1-2-rgi-h1 | T163: =CONCATENATE(F163,"-",I163,"-",J163,"-",L163,"-",M163,"-",N163,"-",P163,"-",VLOOKUP(Q163,Liste_plantes!$A$2:$B$7,2,FALSE)) -> 781_1895-562_NGC25-1-2-rgi-h1-2027-BT | U163: =V162+1 -> 46297 | V163: =IF(Q163="blé tendre",CONCATENATE("15/08/",P163),IF(Q163="ray grass d'Italie",CONCATENATE("08/03/",P163),IF(Q163="maïs fourrage",CONCATENATE("01/10/",P163),"pb"))) -> 15/08/2027 | W163: =IF(OR(YEAR(U163)=1978,(U163-V162)=1),"OK","!!!") -> OK | X163: =U163-DATE($O163,1,1)+1 -> 275 | Y163: =V163-DATE($O163,1,1)+1 -> 592 | Z163: =IF(AND(Q162="prairie",Q163="prairie"),"prairie_ini.xml","snu_ini.xml") -> snu_ini.xml | AA163: =CONCATENATE(G163,"_",H163) -> 330562_0.1574 | AB163: =CONCATENATE($E163,"_",N163,"_sta.xml") -> 14050_h1_sta.xml | AC163: =CONCATENATE($E163,".",YEAR(U163)) -> 14050.2026 | AD163: =CONCATENATE($E163,".",YEAR(V163)) -> 14050.2027 | AE163: =IF(YEAR(V163)=YEAR(U163),1,2) -> 2 | AF163: 1 | AG163: 0 | AH163: =VLOOKUP(Q163,Liste_plantes!$A$2:$C$7,3,FALSE) -> wheat_plt.xml | AI163: =CONCATENATE(J163,"-",L163,"-",VLOOKUP(Q163,Liste_plantes!$A$2:$B$7,2,FALSE),"_tec.xml") -> 1-2-BT_tec.xml | AJ163: null | AK163: null | AL163: null | AM163: null
A164: =A163 -> cnrm-cm5-aladin63 | B164: =B163 -> cca | C164: =C163 -> 8.5 | D164: =D163 -> 1895 | E164: =E163 -> 14050 | F164: =F163 -> 781_1895 | G164: =G163 -> 330562 | H164: =H163 -> 0.1574 | ... N164: =N163 -> h1 | O164: =IF(Q163="maïs fourrage",O163,O163+1) -> 2027 | P164: =IF(Q164="maïs fourrage",O164,O164+1) -> 2028 | Q164: =Q161 -> ray grass d'Italie | R164: =IF(OR(AND(Q164="ray grass d'Italie",Q163="blé tendre"),AND(Q164="maïs fourrage",Q163="ray grass d'Italie"),AND(Q164="blé tendre",Q163="maïs fourrage")),"ok","pb") -> ok | S164: =CONCATENATE(F164,"-",I164,"-",J164,"-",L164,"-",M164,"-",N164) -> 781_1895-562_NGC25-1-2-rgi-h1 | T164: =CONCATENATE(F164,"-",I164,"-",J164,"-",L164,"-",M164,"-",N164,"-",P164,"-",VLOOKUP(Q164,Liste_plantes!$A$2:$B$7,2,FALSE)) -> 781_1895-562_NGC25-1-2-rgi-h1-2028-rgi | U164: =V163+1 -> 46615 | V164: =IF(Q164="blé tendre",CONCATENATE("15/08/",P164),IF(Q164="ray grass d'Italie",CONCATENATE("08/03/",P164),IF(Q164="maïs fourrage",CONCATENATE("01/10/",P164),"pb"))) -> 08/03/2028 | W164: =IF(OR(YEAR(U164)=1978,(U164-V163)=1),"OK","!!!") -> OK | X164: =U164-DATE($O164,1,1)+1 -> 228 | Y164: =V164-DATE($O164,1,1)+1 -> 433 | Z164: =IF(AND(Q163="prairie",Q164="prairie"),"prairie_ini.xml","snu_ini.xml") -> snu_ini.xml | AA164: =CONCATENATE(G164,"_",H164) -> 330562_0.1574 | AB164: =CONCATENATE($E164,"_",N164,"_sta.xml") -> 14050_h1_sta.xml | AC164: =CONCATENATE($E164,".",YEAR(U164)) -> 14050.2027 | AD164: =CONCATENATE($E164,".",YEAR(V164)) -> 14050.2028 | AE164: =IF(YEAR(V164)=YEAR(U164),1,2) -> 2 | AF164: 1 | AG164: 0 | AH164: =VLOOKUP(Q164,Liste_plantes!$A$2:$C$7,3,FALSE) -> ItalianRyegrass_CoverCrop_plt.xml | AI164: =CONCATENATE(J164,"-",L164,"-",VLOOKUP(Q164,Liste_plantes!$A$2:$B$7,2,FALSE),"_tec.xml") -> 1-2-rgi_tec.xml | AJ164: null | AK164: null | AL164: null | AM164: null
A165: =A164 -> cnrm-cm5-aladin63 | B165: =B164 -> cca | C165: =C164 -> 8.5 | D165: =D164 -> 1895 | E165: =E164 -> 14050 | F165: =F164 -> 781_1895 | G165: =G164 -> 330562 | H165: =H164 -> 0.1574 | ... N165: =N164 -> h1 | O165: =IF(Q164="maïs fourrage",O164,O164+1) -> 2028 | P165: =IF(Q165="maïs fourrage",O165,O165+1) -> 2028 | Q165: =Q162 -> maïs fourrage | R165: =IF(OR(AND(Q165="ray grass d'Italie",Q164="blé tendre"),AND(Q165="maïs fourrage",Q164="ray grass d'Italie"),AND(Q165="blé tendre",Q164="maïs fourrage")),"ok","pb") -> ok | S165: =CONCATENATE(F165,"-",I165,"-",J165,"-",L165,"-",M165,"-",N165) -> 781_1895-562_NGC25-1-2-rgi-h1 | T165: =CONCATENATE(F165,"-",I165,"-",J165,"-",L165,"-",M165,"-",N165,"-",P165,"-",VLOOKUP(Q165,Liste_plantes!$A$2:$B$7,2,FALSE)) -> 781_1895-562_NGC25-1-2-rgi-h1-2028-MF | U165: =V164+1 -> 46821 | V165: =IF(Q165="blé tendre",CONCATENATE("15/08/",P165),IF(Q165="ray grass d'Italie",CONCATENATE("08/03/",P165),IF(Q165="maïs fourrage",CONCATENATE("01/10/",P165),"pb"))) -> 01/10/2028 | W165: =IF(OR(YEAR(U165)=1978,(U165-V164)=1),"OK","!!!") -> OK | X165: =U165-DATE($O165,1,1)+1 -> 69 | Y165: =V165-DATE($O165,1,1)+1 -> 275 | Z165: =IF(AND(Q164="prairie",Q165="prairie"),"prairie_ini.xml","snu_ini.xml") -> snu_ini.xml | AA165: =CONCATENATE(G165,"_",H165) -> 330562_0.1574 | AB165: =CONCATENATE($E165,"_",N165,"_sta.xml") -> 14050_h1_sta.xml | AC165: =CONCATENATE($E165,".",YEAR(U165)) -> 14050.2028 | AD165: =CONCATENATE($E165,".",YEAR(V165)) -> 14050.2028 | AE165: =IF(YEAR(V165)=YEAR(U165),1,2) -> 1 | AF165: 1 | AG165: 0 | AH165: =VLOOKUP(Q165,Liste_plantes!$A$2:$C$7,3,FALSE) -> corn_plt.xml | AI165: =CONCATENATE(J165,"-",L165,"-",VLOOKUP(Q165,Liste_plantes!$A$2:$B$7,2,FALSE),"_tec.xml") -> 1-2-MF_tec.xml | AJ165: null | AK165: null | AL165: null | AM165: null
A166: =A165 -> cnrm-cm5-aladin63 | B166: =B165 -> cca | C166: =C165 -> 8.5 | D166: =D165 -> 1895 | E166: =E165 -> 14050 | F166: =F165 -> 781_1895 | G166: =G165 -> 330562 | H166: =H165 -> 0.1574 | ... N166: =N165 -> h1 | O166: =IF(Q165="maïs fourrage",O165,O165+1) -> 2028 | P166: =IF(Q166="maïs fourrage",O166,O166+1) -> 2029 | Q166: =Q163 -> blé tendre | R166: =IF(OR(AND(Q166="ray grass d'Italie",Q165="blé tendre"),AND(Q166="maïs fourrage",Q165="ray grass d'Italie"),AND(Q166="blé tendre",Q165="maïs fourrage")),"ok","pb") -> ok | S166: =CONCATENATE(F166,"-",I166,"-",J166,"-",L166,"-",M166,"-",N166) -> 781_1895-562_NGC25-1-2-rgi-h1 | T166: =CONCATENATE(F166,"-",I166,"-",J166,"-",L166,"-",M166,"-",N166,"-",P166,"-",VLOOKUP(Q166,Liste_plantes!$A$2:$B$7,2,FALSE)) -> 781_1895-562_NGC25-1-2-rgi-h1-2029-BT | U166: =V165+1 -> 47028 | V166: =IF(Q166="blé tendre",CONCATENATE("15/08/",P166),IF(Q166="ray grass d'Italie",CONCATENATE("08/03/",P166),IF(Q166="maïs fourrage",CONCATENATE("01/10/",P166),"pb"))) -> 15/08/2029 | W166: =IF(OR(YEAR(U166)=1978,(U166-V165)=1),"OK","!!!") -> OK | X166: =U166-DATE($O166,1,1)+1 -> 276 | Y166: =V166-DATE($O166,1,1)+1 -> 593 | Z166: =IF(AND(Q165="prairie",Q166="prairie"),"prairie_ini.xml","snu_ini.xml") -> snu_ini.xml | AA166: =CONCATENATE(G166,"_",H166) -> 330562_0.1574 | AB166: =CONCATENATE($E166,"_",N166,"_sta.xml") -> 14050_h1_sta.xml | AC166: =CONCATENATE($E166,".",YEAR(U166)) -> 14050.2028 | AD166: =CONCATENATE($E166,".",YEAR(V166)) -> 14050.2029 | AE166: =IF(YEAR(V166)=YEAR(U166),1,2) -> 2 | AF166: 1 | AG166: 0 | AH166: =VLOOKUP(Q166,Liste_plantes!$A$2:$C$7,3,FALSE) -> wheat_plt.xml | AI166: =CONCATENATE(J166,"-",L166,"-",VLOOKUP(Q166,Liste_plantes!$A$2:$B$7,2,FALSE),"_tec.xml") -> 1-2-BT_tec.xml | AJ166: null | AK166: null | AL166: null | AM166: null
A167: =A166 -> cnrm-cm5-aladin63 | B167: =B166 -> cca | C167: =C166 -> 8.5 | D167: =D166 -> 1895 | E167: =E166 -> 14050 | F167: =F166 -> 781_1895 | G167: =G166 -> 330562 | H167: =H166 -> 0.1574 | ... N167: =N166 -> h1 | O167: =IF(Q166="maïs fourrage",O166,O166+1) -> 2029 | P167: =IF(Q167="maïs fourrage",O167,O167+1) -> 2030 | Q167: =Q164 -> ray grass d'Italie | R167: =IF(OR(AND(Q167="ray grass d'Italie",Q166="blé tendre"),AND(Q167="maïs fourrage",Q166="ray grass d'Italie"),AND(Q167="blé tendre",Q166="maïs fourrage")),"ok","pb") -> ok | S167: =CONCATENATE(F167,"-",I167,"-",J167,"-",L167,"-",M167,"-",N167) -> 781_1895-562_NGC25-1-2-rgi-h1 | T167: =CONCATENATE(F167,"-",I167,"-",J167,"-",L167,"-",M167,"-",N167,"-",P167,"-",VLOOKUP(Q167,Liste_plantes!$A$2:$B$7,2,FALSE)) -> 781_1895-562_NGC25-1-2-rgi-h1-2030-rgi | U167: =V166+1 -> 47346 | V167: =IF(Q167="blé tendre",CONCATENATE("15/08/",P167),IF(Q167="ray grass d'Italie",CONCATENATE("08/03/",P167),IF(Q167="maïs fourrage",CONCATENATE("01/10/",P167),"pb"))) -> 08/03/2030 | W167: =IF(OR(YEAR(U167)=1978,(U167-V166)=1),"OK","!!!") -> OK | X167: =U167-DATE($O167,1,1)+1 -> 228 | Y167: =V167-DATE($O167,1,1)+1 -> 432 | Z167: =IF(AND(Q166="prairie",Q167="prairie"),"prairie_ini.xml","snu_ini.xml") -> snu_ini.xml | AA167: =CONCATENATE(G167,"_",H167) -> 330562_0.1574 | AB167: =CONCATENATE($E167,"_",N167,"_sta.xml") -> 14050_h1_sta.xml | AC167: =CONCATENATE($E167,".",YEAR(U167)) -> 14050.2029 | AD167: =CONCATENATE($E167,".",YEAR(V167)) -> 14050.2030 | AE167: =IF(YEAR(V167)=YEAR(U167),1,2) -> 2 | AF167: 1 | AG167: 0 | AH167: =VLOOKUP(Q167,Liste_plantes!$A$2:$C$7,3,FALSE) -> ItalianRyegrass_CoverCrop_plt.xml | AI167: =CONCATENATE(J167,"-",L167,"-",VLOOKUP(Q167,Liste_plantes!$A$2:$B$7,2,FALSE),"_tec.xml") -> 1-2-rgi_tec.xml | AJ167: null | AK167: null | AL167: null | AM167: null
A168: =A167 -> cnrm-cm5-aladin63 | B168: =B167 -> cca | C168: =C167 -> 8.5 | D168: =D167 -> 1895 | E168: =E167 -> 14050 | F168: =F167 -> 781_1895 | G168: =G167 -> 330562 | H168: =H167 -> 0.1574 | ... N168: =N167 -> h1 | O168: =IF(Q167="maïs fourrage",O167,O167+1) -> 2030 | P168: =IF(Q168="maïs fourrage",O168,O168+1) -> 2030 | Q168: =Q165 -> maïs fourrage | R168: =IF(OR(AND(Q168="ray grass d'Italie",Q167="blé tendre"),AND(Q168="maïs fourrage",Q167="ray grass d'Italie"),AND(Q168="blé tendre",Q167="maïs fourrage")),"ok","pb") -> ok | S168: =CONCATENATE(F168,"-",I168,"-",J168,"-",L168,"-",M168,"-",N168) -> 781_1895-562_NGC25-1-2-rgi-h1 | T168: =CONCATENATE(F168,"-",I168,"-",J168,"-",L168,"-",M168,"-",N168,"-",P168,"-",VLOOKUP(Q168,Liste_plantes!$A$2:$B$7,2,FALSE)) -> 781_1895-562_NGC25-1-2-rgi-h1-2030-MF | U168: =V167+1 -> 47551 | V168: =IF(Q168="blé tendre",CONCATENATE("15/08/",P168),IF(Q168="ray grass d'Italie",CONCATENATE("08/03/",P168),IF(Q168="maïs fourrage",CONCATENATE("01/10/",P168),"pb"))) -> 01/10/2030 | W168: =IF(OR(YEAR(U168)=1978,(U168-V167)=1),"OK","!!!") -> OK | X168: =U168-DATE($O168,1,1)+1 -> 68 | Y168: =V168-DATE($O168,1,1)+1 -> 274 | Z168: =IF(AND(Q167="prairie",Q168="prairie"),"prairie_ini.xml","snu_ini.xml") -> snu_ini.xml | AA168: =CONCATENATE(G168,"_",H168) -> 330562_0.1574 | AB168: =CONCATENATE($E168,"_",N168,"_sta.xml") -> 14050_h1_sta.xml | AC168: =CONCATENATE($E168,".",YEAR(U168)) -> 14050.2030 | AD168: =CONCATENATE($E168,".",YEAR(V168)) -> 14050.2030 | AE168: =IF(YEAR(V168)=YEAR(U168),1,2) -> 1 | AF168: 1 | AG168: 0 | AH168: =VLOOKUP(Q168,Liste_plantes!$A$2:$C$7,3,FALSE) -> corn_plt.xml | AI168: =CONCATENATE(J168,"-",L168,"-",VLOOKUP(Q168,Liste_plantes!$A$2:$B$7,2,FALSE),"_tec.xml") -> 1-2-MF_tec.xml | AJ168: null | AK168: null | AL168: null | AM168: null
... A197: =A196 -> cnrm-cm5-aladin63 | B197: =B196 -> cca | C197: =C196 -> 8.5 | D197: =D196 -> 1895 | E197: =E196 -> 14050 | F197: =F196 -> 781_1895 | G197: =G196 -> 330562 | H197: =H196 -> 0.1574 | ... N197: =N196 -> h1 | O197: =IF(Q196="maïs fourrage",O196,O196+1) -> 2049 | P197: =IF(Q197="maïs fourrage",O197,O197+1) -> 2050 | Q197: =Q194 -> ray grass d'Italie | R197: =IF(OR(AND(Q197="ray grass d'Italie",Q196="blé tendre"),AND(Q197="maïs fourrage",Q196="ray grass d'Italie"),AND(Q197="blé tendre",Q196="maïs fourrage")),"ok","pb") -> ok | S197: =CONCATENATE(F197,"-",I197,"-",J197,"-",L197,"-",M197,"-",N197) -> 781_1895-562_NGC25-1-2-rgi-h1 | T197: =CONCATENATE(F197,"-",I197,"-",J197,"-",L197,"-",M197,"-",N197,"-",P197,"-",VLOOKUP(Q197,Liste_plantes!$A$2:$B$7,2,FALSE)) -> 781_1895-562_NGC25-1-2-rgi-h1-2050-rgi | U197: =V196+1 -> 54651 | V197: =IF(Q197="blé tendre",CONCATENATE("15/08/",P197),IF(Q197="ray grass d'Italie",CONCATENATE("08/03/",P197),IF(Q197="maïs fourrage",CONCATENATE("01/10/",P197),"pb"))) -> 08/03/2050 | W197: =IF(OR(YEAR(U197)=1978,(U197-V196)=1),"OK","!!!") -> OK | X197: =U197-DATE($O197,1,1)+1 -> 228 | Y197: =V197-DATE($O197,1,1)+1 -> 432 | Z197: =IF(AND(Q196="prairie",Q197="prairie"),"prairie_ini.xml","snu_ini.xml") -> snu_ini.xml | AA197: =CONCATENATE(G197,"_",H197) -> 330562_0.1574 | AB197: =CONCATENATE($E197,"_",N197,"_sta.xml") -> 14050_h1_sta.xml | AC197: =CONCATENATE($E197,".",YEAR(U197)) -> 14050.2049 | AD197: =CONCATENATE($E197,".",YEAR(V197)) -> 14050.2050 | AE197: =IF(YEAR(V197)=YEAR(U197),1,2) -> 2 | AF197: 1 | AG197: 0 | AH197: =VLOOKUP(Q197,Liste_plantes!$A$2:$C$7,3,FALSE) -> ItalianRyegrass_CoverCrop_plt.xml | AI197: =CONCATENATE(J197,"-",L197,"-",VLOOKUP(Q197,Liste_plantes!$A$2:$B$7,2,FALSE),"_tec.xml") -> 1-2-rgi_tec.xml | AJ197: null | AK197: null | AL197: null | AM197: null
A198: cnrm-cm5-aladin63 | B198: cca | C198: 8.5 | D198: 1895 | E198: 14050 | F198: 781_1895 | G198: 330562 | H198: 0.1574 | I198: =I197 -> 562_NGC25 | J198: 1 | K198: BT_ci_MF | L198: 2 | M198: BT | N198: NA | O198: 2037 | P198: =IF(Q198="maïs fourrage",O198,O198+1) -> 2038 | Q198: blé tendre | S198: =CONCATENATE(F198,"-",I198,"-",J198,"-",L198,"-",M198,"-",N198) -> 781_1895-562_NGC25-1-2-BT-NA | T198: =CONCATENATE(F198,"-",I198,"-",J198,"-",L198,"-",M198,"-",N198,"-",P198,"-",VLOOKUP(Q198,Liste_plantes!$A$2:$B$7,2,FALSE)) -> 781_1895-562_NGC25-1-2-BT-NA-2038-BT | U198: =CONCATENATE("02/10/",O198) -> 02/10/2037 | V198: =IF(Q198="blé tendre",CONCATENATE("15/08/",P198),IF(Q198="ray grass d'Italie",CONCATENATE("08/03/",P198),IF(Q198="maïs fourrage",CONCATENATE("01/10/",P198),"pb"))) -> 15/08/2038 | X198: =U198-DATE($O198,1,1)+1 -> 275 | Y198: =V198-DATE($O198,1,1)+1 -> 592 | Z198: snu_ini.xml | AA198: =CONCATENATE(G198,"_",H198) -> 330562_0.1574 | AB198: =AB199 -> 14050_h2_sta.xml | AC198: =CONCATENATE($E198,".",YEAR(U198)) -> 14050.2037 | AD198: =CONCATENATE($E198,".",YEAR(V198)) -> 14050.2038 | AE198: =IF(YEAR(V198)=YEAR(U198),1,2) -> 2 | AF198: 1 | AG198: 0 | AH198: =VLOOKUP(Q198,Liste_plantes!$A$2:$C$7,3,FALSE) -> wheat_plt.xml | AI198: =CONCATENATE(J198,"-",L198,"-",VLOOKUP(Q198,Liste_plantes!$A$2:$B$7,2,FALSE),"_tec.xml") -> 1-2-BT_tec.xml | AJ198: null | AK198: null | AL198: null | AM198: null
A199: =A198 -> cnrm-cm5-aladin63 | B199: =B198 -> cca | C199: =C198 -> 8.5 | D199: =D198 -> 1895 | E199: =E198 -> 14050 | F199: =F198 -> 781_1895 | G199: =G198 -> 330562 | H199: =H198 -> 0.1574 | ... N199: =N198 -> NA | O199: =IF(Q198="maïs fourrage",O198,O198+1) -> 2038 | P199: =IF(Q199="maïs fourrage",O199,O199+1) -> 2039 | Q199: ray grass d'Italie | R199: =IF(OR(AND(Q199="ray grass d'Italie",Q198="blé tendre"),AND(Q199="maïs fourrage",Q198="ray grass d'Italie"),AND(Q199="blé tendre",Q198="maïs fourrage")),"ok","pb") -> ok | S199: =CONCATENATE(F199,"-",I199,"-",J199,"-",L199,"-",M199,"-",N199) -> 781_1895-562_NGC25-1-2-BT-NA | T199: =CONCATENATE(F199,"-",I199,"-",J199,"-",L199,"-",M199,"-",N199,"-",P199,"-",VLOOKUP(Q199,Liste_plantes!$A$2:$B$7,2,FALSE)) -> 781_1895-562_NGC25-1-2-BT-NA-2039-rgi | U199: =V198+1 -> 50633 | V199: =IF(Q199="blé tendre",CONCATENATE("15/08/",P199),IF(Q199="ray grass d'Italie",CONCATENATE("08/03/",P199),IF(Q199="maïs fourrage",CONCATENATE("01/10/",P199),"pb"))) -> 08/03/2039 | W199: =IF(OR(YEAR(U199)=1978,(U199-V198)=1),"OK","!!!") -> OK | X199: =U199-DATE($O199,1,1)+1 -> 228 | Y199: =V199-DATE($O199,1,1)+1 -> 432 | Z199: =IF(AND(Q198="prairie",Q199="prairie"),"prairie_ini.xml","snu_ini.xml") -> snu_ini.xml | AA199: =CONCATENATE(G199,"_",H199) -> 330562_0.1574 | AB199: =AB200 -> 14050_h2_sta.xml | AC199: =CONCATENATE($E199,".",YEAR(U199)) -> 14050.2038 | AD199: =CONCATENATE($E199,".",YEAR(V199)) -> 14050.2039 | AE199: =IF(YEAR(V199)=YEAR(U199),1,2) -> 2 | AF199: 1 | AG199: 0 | AH199: =VLOOKUP(Q199,Liste_plantes!$A$2:$C$7,3,FALSE) -> ItalianRyegrass_CoverCrop_plt.xml | AI199: =CONCATENATE(J199,"-",L199,"-",VLOOKUP(Q199,Liste_plantes!$A$2:$B$7,2,FALSE),"_tec.xml") -> 1-2-rgi_tec.xml | AJ199: null | AK199: null | AL199: null | AM199: null
A200: =A199 -> cnrm-cm5-aladin63 | B200: =B199 -> cca | C200: =C199 -> 8.5 | D200: =D199 -> 1895 | E200: =E199 -> 14050 | F200: =F199 -> 781_1895 | G200: =G199 -> 330562 | H200: =H199 -> 0.1574 | ... N200: =N199 -> NA | O200: =IF(Q199="maïs fourrage",O199,O199+1) -> 2039 | P200: =IF(Q200="maïs fourrage",O200,O200+1) -> 2039 | Q200: maïs fourrage | R200: =IF(OR(AND(Q200="ray grass d'Italie",Q199="blé tendre"),AND(Q200="maïs fourrage",Q199="ray grass d'Italie"),AND(Q200="blé tendre",Q199="maïs fourrage")),"ok","pb") -> ok | S200: =CONCATENATE(F200,"-",I200,"-",J200,"-",L200,"-",M200,"-",N200) -> 781_1895-562_NGC25-1-2-BT-NA | T200: =CONCATENATE(F200,"-",I200,"-",J200,"-",L200,"-",M200,"-",N200,"-",P200,"-",VLOOKUP(Q200,Liste_plantes!$A$2:$B$7,2,FALSE)) -> 781_1895-562_NGC25-1-2-BT-NA-2039-MF | U200: =V199+1 -> 50838 | V200: =IF(Q200="blé tendre",CONCATENATE("15/08/",P200),IF(Q200="ray grass d'Italie",CONCATENATE("08/03/",P200),IF(Q200="maïs fourrage",CONCATENATE("01/10/",P200),"pb"))) -> 01/10/2039 | W200: =IF(OR(YEAR(U200)=1978,(U200-V199)=1),"OK","!!!") -> OK | X200: =U200-DATE($O200,1,1)+1 -> 68 | Y200: =V200-DATE($O200,1,1)+1 -> 274 | Z200: =IF(AND(Q199="prairie",Q200="prairie"),"prairie_ini.xml","snu_ini.xml") -> snu_ini.xml | AA200: =CONCATENATE(G200,"_",H200) -> 330562_0.1574 | AB200: =AB201 -> 14050_h2_sta.xml | AC200: =CONCATENATE($E200,".",YEAR(U200)) -> 14050.2039 | AD200: =CONCATENATE($E200,".",YEAR(V200)) -> 14050.2039 | AE200: =IF(YEAR(V200)=YEAR(U200),1,2) -> 1 | AF200: 1 | AG200: 0 | AH200: =VLOOKUP(Q200,Liste_plantes!$A$2:$C$7,3,FALSE) -> corn_plt.xml | AI200: =CONCATENATE(J200,"-",L200,"-",VLOOKUP(Q200,Liste_plantes!$A$2:$B$7,2,FALSE),"_tec.xml") -> 1-2-MF_tec.xml | AJ200: null | AK200: null | AL200: null | AM200: null
A201: =A200 -> cnrm-cm5-aladin63 | B201: =B200 -> cca | C201: =C200 -> 8.5 | D201: =D200 -> 1895 | E201: =E200 -> 14050 | F201: =F200 -> 781_1895 | G201: =G200 -> 330562 | H201: =H200 -> 0.1574 | ... M201: =M200 -> BT | N201: NA | O201: =IF(Q200="maïs fourrage",O200,O200+1) -> 2039 | P201: =IF(Q201="maïs fourrage",O201,O201+1) -> 2040 | Q201: =Q198 -> blé tendre | R201: =IF(OR(AND(Q201="ray grass d'Italie",Q200="blé tendre"),AND(Q201="maïs fourrage",Q200="ray grass d'Italie"),AND(Q201="blé tendre",Q200="maïs fourrage")),"ok","pb") -> ok | S201: =CONCATENATE(F201,"-",I201,"-",J201,"-",L201,"-",M201,"-",N201) -> 781_1895-562_NGC25-1-2-BT-NA | T201: =CONCATENATE(F201,"-",I201,"-",J201,"-",L201,"-",M201,"-",N201,"-",P201,"-",VLOOKUP(Q201,Liste_plantes!$A$2:$B$7,2,FALSE)) -> 781_1895-562_NGC25-1-2-BT-NA-2040-BT | U201: =V200+1 -> 51045 | V201: =IF(Q201="blé tendre",CONCATENATE("15/08/",P201),IF(Q201="ray grass d'Italie",CONCATENATE("08/03/",P201),IF(Q201="maïs fourrage",CONCATENATE("01/10/",P201),"pb"))) -> 15/08/2040 | W201: =IF(OR(YEAR(U201)=1978,(U201-V200)=1),"OK","!!!") -> OK | X201: =U201-DATE($O201,1,1)+1 -> 275 | Y201: =V201-DATE($O201,1,1)+1 -> 593 | Z201: =IF(AND(Q200="prairie",Q201="prairie"),"prairie_ini.xml","snu_ini.xml") -> snu_ini.xml | AA201: =CONCATENATE(G201,"_",H201) -> 330562_0.1574 | AB201: =CONCATENATE($E201,"_",N202,"_sta.xml") -> 14050_h2_sta.xml | AC201: =CONCATENATE($E201,".",YEAR(U201)) -> 14050.2039 | AD201: =CONCATENATE($E201,".",YEAR(V201)) -> 14050.2040 | AE201: =IF(YEAR(V201)=YEAR(U201),1,2) -> 2 | AF201: 1 | AG201: 0 | AH201: =VLOOKUP(Q201,Liste_plantes!$A$2:$C$7,3,FALSE) -> wheat_plt.xml | AI201: =CONCATENATE(J201,"-",L201,"-",VLOOKUP(Q201,Liste_plantes!$A$2:$B$7,2,FALSE),"_tec.xml") -> 1-2-BT_tec.xml | AJ201: null | AK201: null | AL201: null | AM201: null
A202: =A201 -> cnrm-cm5-aladin63 | B202: =B201 -> cca | C202: =C201 -> 8.5 | D202: =D201 -> 1895 | E202: =E201 -> 14050 | F202: =F201 -> 781_1895 | G202: =G201 -> 330562 | H202: =H201 -> 0.1574 | ... M202: =M201 -> BT | N202: h2 | O202: =IF(Q201="maïs fourrage",O201,O201+1) -> 2040 | P202: =IF(Q202="maïs fourrage",O202,O202+1) -> 2041 | Q202: =Q199 -> ray grass d'Italie | R202: =IF(OR(AND(Q202="ray grass d'Italie",Q201="blé tendre"),AND(Q202="maïs fourrage",Q201="ray grass d'Italie"),AND(Q202="blé tendre",Q201="maïs fourrage")),"ok","pb") -> ok | S202: =CONCATENATE(F202,"-",I202,"-",J202,"-",L202,"-",M202,"-",N202) -> 781_1895-562_NGC25-1-2-BT-h2 | T202: =CONCATENATE(F202,"-",I202,"-",J202,"-",L202,"-",M202,"-",N202,"-",P202,"-",VLOOKUP(Q202,Liste_plantes!$A$2:$B$7,2,FALSE)) -> 781_1895-562_NGC25-1-2-BT-h2-2041-rgi | U202: =V201+1 -> 51364 | V202: =IF(Q202="blé tendre",CONCATENATE("15/08/",P202),IF(Q202="ray grass d'Italie",CONCATENATE("08/03/",P202),IF(Q202="maïs fourrage",CONCATENATE("01/10/",P202),"pb"))) -> 08/03/2041 | W202: =IF(OR(YEAR(U202)=1978,(U202-V201)=1),"OK","!!!") -> OK | X202: =U202-DATE($O202,1,1)+1 -> 229 | Y202: =V202-DATE($O202,1,1)+1 -> 433 | Z202: =IF(AND(Q201="prairie",Q202="prairie"),"prairie_ini.xml","snu_ini.xml") -> snu_ini.xml | AA202: =CONCATENATE(G202,"_",H202) -> 330562_0.1574 | AB202: =AB203 -> 14050_h2_sta.xml | AC202: =CONCATENATE($E202,".",YEAR(U202)) -> 14050.2040 | AD202: =CONCATENATE($E202,".",YEAR(V202)) -> 14050.2041 | AE202: =IF(YEAR(V202)=YEAR(U202),1,2) -> 2 | AF202: 1 | AG202: 0 | AH202: =VLOOKUP(Q202,Liste_plantes!$A$2:$C$7,3,FALSE) -> ItalianRyegrass_CoverCrop_plt.xml | AI202: =CONCATENATE(J202,"-",L202,"-",VLOOKUP(Q202,Liste_plantes!$A$2:$B$7,2,FALSE),"_tec.xml") -> 1-2-rgi_tec.xml | AJ202: null | AK202: null | AL202: null | AM202: null
A203: =A202 -> cnrm-cm5-aladin63 | B203: =B202 -> cca | C203: =C202 -> 8.5 | D203: =D202 -> 1895 | E203: =E202 -> 14050 | F203: =F202 -> 781_1895 | G203: =G202 -> 330562 | H203: =H202 -> 0.1574 | ... N203: =N202 -> h2 | O203: =IF(Q202="maïs fourrage",O202,O202+1) -> 2041 | P203: =IF(Q203="maïs fourrage",O203,O203+1) -> 2041 | Q203: =Q200 -> maïs fourrage | R203: =IF(OR(AND(Q203="ray grass d'Italie",Q202="blé tendre"),AND(Q203="maïs fourrage",Q202="ray grass d'Italie"),AND(Q203="blé tendre",Q202="maïs fourrage")),"ok","pb") -> ok | S203: =CONCATENATE(F203,"-",I203,"-",J203,"-",L203,"-",M203,"-",N203) -> 781_1895-562_NGC25-1-2-BT-h2 | T203: =CONCATENATE(F203,"-",I203,"-",J203,"-",L203,"-",M203,"-",N203,"-",P203,"-",VLOOKUP(Q203,Liste_plantes!$A$2:$B$7,2,FALSE)) -> 781_1895-562_NGC25-1-2-BT-h2-2041-MF | U203: =V202+1 -> 51569 | V203: =IF(Q203="blé tendre",CONCATENATE("15/08/",P203),IF(Q203="ray grass d'Italie",CONCATENATE("08/03/",P203),IF(Q203="maïs fourrage",CONCATENATE("01/10/",P203),"pb"))) -> 01/10/2041 | W203: =IF(OR(YEAR(U203)=1978,(U203-V202)=1),"OK","!!!") -> OK | X203: =U203-DATE($O203,1,1)+1 -> 68 | Y203: =V203-DATE($O203,1,1)+1 -> 274 | Z203: =IF(AND(Q202="prairie",Q203="prairie"),"prairie_ini.xml","snu_ini.xml") -> snu_ini.xml | AA203: =CONCATENATE(G203,"_",H203) -> 330562_0.1574 | AB203: =AB204 -> 14050_h2_sta.xml | AC203: =CONCATENATE($E203,".",YEAR(U203)) -> 14050.2041 | AD203: =CONCATENATE($E203,".",YEAR(V203)) -> 14050.2041 | AE203: =IF(YEAR(V203)=YEAR(U203),1,2) -> 1 | AF203: 1 | AG203: 0 | AH203: =VLOOKUP(Q203,Liste_plantes!$A$2:$C$7,3,FALSE) -> corn_plt.xml | AI203: =CONCATENATE(J203,"-",L203,"-",VLOOKUP(Q203,Liste_plantes!$A$2:$B$7,2,FALSE),"_tec.xml") -> 1-2-MF_tec.xml | AJ203: null | AK203: null | AL203: null | AM203: null
A204: =A203 -> cnrm-cm5-aladin63 | B204: =B203 -> cca | C204: =C203 -> 8.5 | D204: =D203 -> 1895 | E204: =E203 -> 14050 | F204: =F203 -> 781_1895 | G204: =G203 -> 330562 | H204: =H203 -> 0.1574 | ... N204: =N203 -> h2 | O204: =IF(Q203="maïs fourrage",O203,O203+1) -> 2041 | P204: =IF(Q204="maïs fourrage",O204,O204+1) -> 2042 | Q204: =Q201 -> blé tendre | R204: =IF(OR(AND(Q204="ray grass d'Italie",Q203="blé tendre"),AND(Q204="maïs fourrage",Q203="ray grass d'Italie"),AND(Q204="blé tendre",Q203="maïs fourrage")),"ok","pb") -> ok | S204: =CONCATENATE(F204,"-",I204,"-",J204,"-",L204,"-",M204,"-",N204) -> 781_1895-562_NGC25-1-2-BT-h2 | T204: =CONCATENATE(F204,"-",I204,"-",J204,"-",L204,"-",M204,"-",N204,"-",P204,"-",VLOOKUP(Q204,Liste_plantes!$A$2:$B$7,2,FALSE)) -> 781_1895-562_NGC25-1-2-BT-h2-2042-BT | U204: =V203+1 -> 51776 | V204: =IF(Q204="blé tendre",CONCATENATE("15/08/",P204),IF(Q204="ray grass d'Italie",CONCATENATE("08/03/",P204),IF(Q204="maïs fourrage",CONCATENATE("01/10/",P204),"pb"))) -> 15/08/2042 | W204: =IF(OR(YEAR(U204)=1978,(U204-V203)=1),"OK","!!!") -> OK | X204: =U204-DATE($O204,1,1)+1 -> 275 | Y204: =V204-DATE($O204,1,1)+1 -> 592 | Z204: =IF(AND(Q203="prairie",Q204="prairie"),"prairie_ini.xml","snu_ini.xml") -> snu_ini.xml | AA204: =CONCATENATE(G204,"_",H204) -> 330562_0.1574 | AB204: =AB205 -> 14050_h2_sta.xml | AC204: =CONCATENATE($E204,".",YEAR(U204)) -> 14050.2041 | AD204: =CONCATENATE($E204,".",YEAR(V204)) -> 14050.2042 | AE204: =IF(YEAR(V204)=YEAR(U204),1,2) -> 2 | AF204: 1 | AG204: 0 | AH204: =VLOOKUP(Q204,Liste_plantes!$A$2:$C$7,3,FALSE) -> wheat_plt.xml | AI204: =CONCATENATE(J204,"-",L204,"-",VLOOKUP(Q204,Liste_plantes!$A$2:$B$7,2,FALSE),"_tec.xml") -> 1-2-BT_tec.xml | AJ204: null | AK204: null | AL204: null | AM204: null
A205: =A204 -> cnrm-cm5-aladin63 | B205: =B204 -> cca | C205: =C204 -> 8.5 | D205: =D204 -> 1895 | E205: =E204 -> 14050 | F205: =F204 -> 781_1895 | G205: =G204 -> 330562 | H205: =H204 -> 0.1574 | ... N205: =N204 -> h2 | O205: =IF(Q204="maïs fourrage",O204,O204+1) -> 2042 | P205: =IF(Q205="maïs fourrage",O205,O205+1) -> 2043 | Q205: =Q202 -> ray grass d'Italie | R205: =IF(OR(AND(Q205="ray grass d'Italie",Q204="blé tendre"),AND(Q205="maïs fourrage",Q204="ray grass d'Italie"),AND(Q205="blé tendre",Q204="maïs fourrage")),"ok","pb") -> ok | S205: =CONCATENATE(F205,"-",I205,"-",J205,"-",L205,"-",M205,"-",N205) -> 781_1895-562_NGC25-1-2-BT-h2 | T205: =CONCATENATE(F205,"-",I205,"-",J205,"-",L205,"-",M205,"-",N205,"-",P205,"-",VLOOKUP(Q205,Liste_plantes!$A$2:$B$7,2,FALSE)) -> 781_1895-562_NGC25-1-2-BT-h2-2043-rgi | U205: =V204+1 -> 52094 | V205: =IF(Q205="blé tendre",CONCATENATE("15/08/",P205),IF(Q205="ray grass d'Italie",CONCATENATE("08/03/",P205),IF(Q205="maïs fourrage",CONCATENATE("01/10/",P205),"pb"))) -> 08/03/2043 | W205: =IF(OR(YEAR(U205)=1978,(U205-V204)=1),"OK","!!!") -> OK | X205: =U205-DATE($O205,1,1)+1 -> 228 | Y205: =V205-DATE($O205,1,1)+1 -> 432 | Z205: =IF(AND(Q204="prairie",Q205="prairie"),"prairie_ini.xml","snu_ini.xml") -> snu_ini.xml | AA205: =CONCATENATE(G205,"_",H205) -> 330562_0.1574 | AB205: =AB206 -> 14050_h2_sta.xml | AC205: =CONCATENATE($E205,".",YEAR(U205)) -> 14050.2042 | AD205: =CONCATENATE($E205,".",YEAR(V205)) -> 14050.2043 | AE205: =IF(YEAR(V205)=YEAR(U205),1,2) -> 2 | AF205: 1 | AG205: 0 | AH205: =VLOOKUP(Q205,Liste_plantes!$A$2:$C$7,3,FALSE) -> ItalianRyegrass_CoverCrop_plt.xml | AI205: =CONCATENATE(J205,"-",L205,"-",VLOOKUP(Q205,Liste_plantes!$A$2:$B$7,2,FALSE),"_tec.xml") -> 1-2-rgi_tec.xml | AJ205: null | AK205: null | AL205: null | AM205: null
A206: =A205 -> cnrm-cm5-aladin63 | B206: =B205 -> cca | C206: =C205 -> 8.5 | D206: =D205 -> 1895 | E206: =E205 -> 14050 | F206: =F205 -> 781_1895 | G206: =G205 -> 330562 | H206: =H205 -> 0.1574 | ... N206: =N205 -> h2 | O206: =IF(Q205="maïs fourrage",O205,O205+1) -> 2043 | P206: =IF(Q206="maïs fourrage",O206,O206+1) -> 2043 | Q206: =Q203 -> maïs fourrage | R206: =IF(OR(AND(Q206="ray grass d'Italie",Q205="blé tendre"),AND(Q206="maïs fourrage",Q205="ray grass d'Italie"),AND(Q206="blé tendre",Q205="maïs fourrage")),"ok","pb") -> ok | S206: =CONCATENATE(F206,"-",I206,"-",J206,"-",L206,"-",M206,"-",N206) -> 781_1895-562_NGC25-1-2-BT-h2 | T206: =CONCATENATE(F206,"-",I206,"-",J206,"-",L206,"-",M206,"-",N206,"-",P206,"-",VLOOKUP(Q206,Liste_plantes!$A$2:$B$7,2,FALSE)) -> 781_1895-562_NGC25-1-2-BT-h2-2043-MF | U206: =V205+1 -> 52299 | V206: =IF(Q206="blé tendre",CONCATENATE("15/08/",P206),IF(Q206="ray grass d'Italie",CONCATENATE("08/03/",P206),IF(Q206="maïs fourrage",CONCATENATE("01/10/",P206),"pb"))) -> 01/10/2043 | W206: =IF(OR(YEAR(U206)=1978,(U206-V205)=1),"OK","!!!") -> OK | X206: =U206-DATE($O206,1,1)+1 -> 68 | Y206: =V206-DATE($O206,1,1)+1 -> 274 | Z206: =IF(AND(Q205="prairie",Q206="prairie"),"prairie_ini.xml","snu_ini.xml") -> snu_ini.xml | AA206: =CONCATENATE(G206,"_",H206) -> 330562_0.1574 | AB206: =CONCATENATE($E206,"_",N206,"_sta.xml") -> 14050_h2_sta.xml | AC206: =CONCATENATE($E206,".",YEAR(U206)) -> 14050.2043 | AD206: =CONCATENATE($E206,".",YEAR(V206)) -> 14050.2043 | AE206: =IF(YEAR(V206)=YEAR(U206),1,2) -> 1 | AF206: 1 | AG206: 0 | AH206: =VLOOKUP(Q206,Liste_plantes!$A$2:$C$7,3,FALSE) -> corn_plt.xml | AI206: =CONCATENATE(J206,"-",L206,"-",VLOOKUP(Q206,Liste_plantes!$A$2:$B$7,2,FALSE),"_tec.xml") -> 1-2-MF_tec.xml | AJ206: null | AK206: null | AL206: null | AM206: null
A207: =A206 -> cnrm-cm5-aladin63 | B207: =B206 -> cca | C207: =C206 -> 8.5 | D207: =D206 -> 1895 | E207: =E206 -> 14050 | F207: =F206 -> 781_1895 | G207: =G206 -> 330562 | H207: =H206 -> 0.1574 | ... N207: =N206 -> h2 | O207: =IF(Q206="maïs fourrage",O206,O206+1) -> 2043 | P207: =IF(Q207="maïs fourrage",O207,O207+1) -> 2044 | Q207: =Q204 -> blé tendre | R207: =IF(OR(AND(Q207="ray grass d'Italie",Q206="blé tendre"),AND(Q207="maïs fourrage",Q206="ray grass d'Italie"),AND(Q207="blé tendre",Q206="maïs fourrage")),"ok","pb") -> ok | S207: =CONCATENATE(F207,"-",I207,"-",J207,"-",L207,"-",M207,"-",N207) -> 781_1895-562_NGC25-1-2-BT-h2 | T207: =CONCATENATE(F207,"-",I207,"-",J207,"-",L207,"-",M207,"-",N207,"-",P207,"-",VLOOKUP(Q207,Liste_plantes!$A$2:$B$7,2,FALSE)) -> 781_1895-562_NGC25-1-2-BT-h2-2044-BT | U207: =V206+1 -> 52506 | V207: =IF(Q207="blé tendre",CONCATENATE("15/08/",P207),IF(Q207="ray grass d'Italie",CONCATENATE("08/03/",P207),IF(Q207="maïs fourrage",CONCATENATE("01/10/",P207),"pb"))) -> 15/08/2044 | W207: =IF(OR(YEAR(U207)=1978,(U207-V206)=1),"OK","!!!") -> OK | X207: =U207-DATE($O207,1,1)+1 -> 275 | Y207: =V207-DATE($O207,1,1)+1 -> 593 | Z207: =IF(AND(Q206="prairie",Q207="prairie"),"prairie_ini.xml","snu_ini.xml") -> snu_ini.xml | AA207: =CONCATENATE(G207,"_",H207) -> 330562_0.1574 | AB207: =CONCATENATE($E207,"_",N207,"_sta.xml") -> 14050_h2_sta.xml | AC207: =CONCATENATE($E207,".",YEAR(U207)) -> 14050.2043 | AD207: =CONCATENATE($E207,".",YEAR(V207)) -> 14050.2044 | AE207: =IF(YEAR(V207)=YEAR(U207),1,2) -> 2 | AF207: 1 | AG207: 0 | AH207: =VLOOKUP(Q207,Liste_plantes!$A$2:$C$7,3,FALSE) -> wheat_plt.xml | AI207: =CONCATENATE(J207,"-",L207,"-",VLOOKUP(Q207,Liste_plantes!$A$2:$B$7,2,FALSE),"_tec.xml") -> 1-2-BT_tec.xml | AJ207: null | AK207: null | AL207: null | AM207: null
A208: =A207 -> cnrm-cm5-aladin63 | B208: =B207 -> cca | C208: =C207 -> 8.5 | D208: =D207 -> 1895 | E208: =E207 -> 14050 | F208: =F207 -> 781_1895 | G208: =G207 -> 330562 | H208: =H207 -> 0.1574 | ... N208: =N207 -> h2 | O208: =IF(Q207="maïs fourrage",O207,O207+1) -> 2044 | P208: =IF(Q208="maïs fourrage",O208,O208+1) -> 2045 | Q208: =Q205 -> ray grass d'Italie | R208: =IF(OR(AND(Q208="ray grass d'Italie",Q207="blé tendre"),AND(Q208="maïs fourrage",Q207="ray grass d'Italie"),AND(Q208="blé tendre",Q207="maïs fourrage")),"ok","pb") -> ok | S208: =CONCATENATE(F208,"-",I208,"-",J208,"-",L208,"-",M208,"-",N208) -> 781_1895-562_NGC25-1-2-BT-h2 | T208: =CONCATENATE(F208,"-",I208,"-",J208,"-",L208,"-",M208,"-",N208,"-",P208,"-",VLOOKUP(Q208,Liste_plantes!$A$2:$B$7,2,FALSE)) -> 781_1895-562_NGC25-1-2-BT-h2-2045-rgi | U208: =V207+1 -> 52825 | V208: =IF(Q208="blé tendre",CONCATENATE("15/08/",P208),IF(Q208="ray grass d'Italie",CONCATENATE("08/03/",P208),IF(Q208="maïs fourrage",CONCATENATE("01/10/",P208),"pb"))) -> 08/03/2045 | W208: =IF(OR(YEAR(U208)=1978,(U208-V207)=1),"OK","!!!") -> OK | X208: =U208-DATE($O208,1,1)+1 -> 229 | Y208: =V208-DATE($O208,1,1)+1 -> 433 | Z208: =IF(AND(Q207="prairie",Q208="prairie"),"prairie_ini.xml","snu_ini.xml") -> snu_ini.xml | AA208: =CONCATENATE(G208,"_",H208) -> 330562_0.1574 | AB208: =CONCATENATE($E208,"_",N208,"_sta.xml") -> 14050_h2_sta.xml | AC208: =CONCATENATE($E208,".",YEAR(U208)) -> 14050.2044 | AD208: =CONCATENATE($E208,".",YEAR(V208)) -> 14050.2045 | AE208: =IF(YEAR(V208)=YEAR(U208),1,2) -> 2 | AF208: 1 | AG208: 0 | AH208: =VLOOKUP(Q208,Liste_plantes!$A$2:$C$7,3,FALSE) -> ItalianRyegrass_CoverCrop_plt.xml | AI208: =CONCATENATE(J208,"-",L208,"-",VLOOKUP(Q208,Liste_plantes!$A$2:$B$7,2,FALSE),"_tec.xml") -> 1-2-rgi_tec.xml | AJ208: null | AK208: null | AL208: null | AM208: null
A209: =A208 -> cnrm-cm5-aladin63 | B209: =B208 -> cca | C209: =C208 -> 8.5 | D209: =D208 -> 1895 | E209: =E208 -> 14050 | F209: =F208 -> 781_1895 | G209: =G208 -> 330562 | H209: =H208 -> 0.1574 | ... N209: =N208 -> h2 | O209: =IF(Q208="maïs fourrage",O208,O208+1) -> 2045 | P209: =IF(Q209="maïs fourrage",O209,O209+1) -> 2045 | Q209: =Q206 -> maïs fourrage | R209: =IF(OR(AND(Q209="ray grass d'Italie",Q208="blé tendre"),AND(Q209="maïs fourrage",Q208="ray grass d'Italie"),AND(Q209="blé tendre",Q208="maïs fourrage")),"ok","pb") -> ok | S209: =CONCATENATE(F209,"-",I209,"-",J209,"-",L209,"-",M209,"-",N209) -> 781_1895-562_NGC25-1-2-BT-h2 | T209: =CONCATENATE(F209,"-",I209,"-",J209,"-",L209,"-",M209,"-",N209,"-",P209,"-",VLOOKUP(Q209,Liste_plantes!$A$2:$B$7,2,FALSE)) -> 781_1895-562_NGC25-1-2-BT-h2-2045-MF | U209: =V208+1 -> 53030 | V209: =IF(Q209="blé tendre",CONCATENATE("15/08/",P209),IF(Q209="ray grass d'Italie",CONCATENATE("08/03/",P209),IF(Q209="maïs fourrage",CONCATENATE("01/10/",P209),"pb"))) -> 01/10/2045 | W209: =IF(OR(YEAR(U209)=1978,(U209-V208)=1),"OK","!!!") -> OK | X209: =U209-DATE($O209,1,1)+1 -> 68 | Y209: =V209-DATE($O209,1,1)+1 -> 274 | Z209: =IF(AND(Q208="prairie",Q209="prairie"),"prairie_ini.xml","snu_ini.xml") -> snu_ini.xml | AA209: =CONCATENATE(G209,"_",H209) -> 330562_0.1574 | AB209: =CONCATENATE($E209,"_",N209,"_sta.xml") -> 14050_h2_sta.xml | AC209: =CONCATENATE($E209,".",YEAR(U209)) -> 14050.2045 | AD209: =CONCATENATE($E209,".",YEAR(V209)) -> 14050.2045 | AE209: =IF(YEAR(V209)=YEAR(U209),1,2) -> 1 | AF209: 1 | AG209: 0 | AH209: =VLOOKUP(Q209,Liste_plantes!$A$2:$C$7,3,FALSE) -> corn_plt.xml | AI209: =CONCATENATE(J209,"-",L209,"-",VLOOKUP(Q209,Liste_plantes!$A$2:$B$7,2,FALSE),"_tec.xml") -> 1-2-MF_tec.xml | AJ209: null | AK209: null | AL209: null | AM209: null
A210: =A209 -> cnrm-cm5-aladin63 | B210: =B209 -> cca | C210: =C209 -> 8.5 | D210: =D209 -> 1895 | E210: =E209 -> 14050 | F210: =F209 -> 781_1895 | G210: =G209 -> 330562 | H210: =H209 -> 0.1574 | ... N210: =N209 -> h2 | O210: =IF(Q209="maïs fourrage",O209,O209+1) -> 2045 | P210: =IF(Q210="maïs fourrage",O210,O210+1) -> 2046 | Q210: =Q207 -> blé tendre | R210: =IF(OR(AND(Q210="ray grass d'Italie",Q209="blé tendre"),AND(Q210="maïs fourrage",Q209="ray grass d'Italie"),AND(Q210="blé tendre",Q209="maïs fourrage")),"ok","pb") -> ok | S210: =CONCATENATE(F210,"-",I210,"-",J210,"-",L210,"-",M210,"-",N210) -> 781_1895-562_NGC25-1-2-BT-h2 | T210: =CONCATENATE(F210,"-",I210,"-",J210,"-",L210,"-",M210,"-",N210,"-",P210,"-",VLOOKUP(Q210,Liste_plantes!$A$2:$B$7,2,FALSE)) -> 781_1895-562_NGC25-1-2-BT-h2-2046-BT | U210: =V209+1 -> 53237 | V210: =IF(Q210="blé tendre",CONCATENATE("15/08/",P210),IF(Q210="ray grass d'Italie",CONCATENATE("08/03/",P210),IF(Q210="maïs fourrage",CONCATENATE("01/10/",P210),"pb"))) -> 15/08/2046 | W210: =IF(OR(YEAR(U210)=1978,(U210-V209)=1),"OK","!!!") -> OK | X210: =U210-DATE($O210,1,1)+1 -> 275 | Y210: =V210-DATE($O210,1,1)+1 -> 592 | Z210: =IF(AND(Q209="prairie",Q210="prairie"),"prairie_ini.xml","snu_ini.xml") -> snu_ini.xml | AA210: =CONCATENATE(G210,"_",H210) -> 330562_0.1574 | AB210: =CONCATENATE($E210,"_",N210,"_sta.xml") -> 14050_h2_sta.xml | AC210: =CONCATENATE($E210,".",YEAR(U210)) -> 14050.2045 | AD210: =CONCATENATE($E210,".",YEAR(V210)) -> 14050.2046 | AE210: =IF(YEAR(V210)=YEAR(U210),1,2) -> 2 | AF210: 1 | AG210: 0 | AH210: =VLOOKUP(Q210,Liste_plantes!$A$2:$C$7,3,FALSE) -> wheat_plt.xml | AI210: =CONCATENATE(J210,"-",L210,"-",VLOOKUP(Q210,Liste_plantes!$A$2:$B$7,2,FALSE),"_tec.xml") -> 1-2-BT_tec.xml | AJ210: null | AK210: null | AL210: null | AM210: null
A211: =A210 -> cnrm-cm5-aladin63 | B211: =B210 -> cca | C211: =C210 -> 8.5 | D211: =D210 -> 1895 | E211: =E210 -> 14050 | F211: =F210 -> 781_1895 | G211: =G210 -> 330562 | H211: =H210 -> 0.1574 | ... N211: =N210 -> h2 | O211: =IF(Q210="maïs fourrage",O210,O210+1) -> 2046 | P211: =IF(Q211="maïs fourrage",O211,O211+1) -> 2047 | Q211: =Q208 -> ray grass d'Italie | R211: =IF(OR(AND(Q211="ray grass d'Italie",Q210="blé tendre"),AND(Q211="maïs fourrage",Q210="ray grass d'Italie"),AND(Q211="blé tendre",Q210="maïs fourrage")),"ok","pb") -> ok | S211: =CONCATENATE(F211,"-",I211,"-",J211,"-",L211,"-",M211,"-",N211) -> 781_1895-562_NGC25-1-2-BT-h2 | T211: =CONCATENATE(F211,"-",I211,"-",J211,"-",L211,"-",M211,"-",N211,"-",P211,"-",VLOOKUP(Q211,Liste_plantes!$A$2:$B$7,2,FALSE)) -> 781_1895-562_NGC25-1-2-BT-h2-2047-rgi | U211: =V210+1 -> 53555 | V211: =IF(Q211="blé tendre",CONCATENATE("15/08/",P211),IF(Q211="ray grass d'Italie",CONCATENATE("08/03/",P211),IF(Q211="maïs fourrage",CONCATENATE("01/10/",P211),"pb"))) -> 08/03/2047 | W211: =IF(OR(YEAR(U211)=1978,(U211-V210)=1),"OK","!!!") -> OK | X211: =U211-DATE($O211,1,1)+1 -> 228 | Y211: =V211-DATE($O211,1,1)+1 -> 432 | Z211: =IF(AND(Q210="prairie",Q211="prairie"),"prairie_ini.xml","snu_ini.xml") -> snu_ini.xml | AA211: =CONCATENATE(G211,"_",H211) -> 330562_0.1574 | AB211: =CONCATENATE($E211,"_",N211,"_sta.xml") -> 14050_h2_sta.xml | AC211: =CONCATENATE($E211,".",YEAR(U211)) -> 14050.2046 | AD211: =CONCATENATE($E211,".",YEAR(V211)) -> 14050.2047 | AE211: =IF(YEAR(V211)=YEAR(U211),1,2) -> 2 | AF211: 1 | AG211: 0 | AH211: =VLOOKUP(Q211,Liste_plantes!$A$2:$C$7,3,FALSE) -> ItalianRyegrass_CoverCrop_plt.xml | AI211: =CONCATENATE(J211,"-",L211,"-",VLOOKUP(Q211,Liste_plantes!$A$2:$B$7,2,FALSE),"_tec.xml") -> 1-2-rgi_tec.xml | AJ211: null | AK211: null | AL211: null | AM211: null
A212: =A211 -> cnrm-cm5-aladin63 | B212: =B211 -> cca | C212: =C211 -> 8.5 | D212: =D211 -> 1895 | E212: =E211 -> 14050 | F212: =F211 -> 781_1895 | G212: =G211 -> 330562 | H212: =H211 -> 0.1574 | ... N212: =N211 -> h2 | O212: =IF(Q211="maïs fourrage",O211,O211+1) -> 2047 | P212: =IF(Q212="maïs fourrage",O212,O212+1) -> 2047 | Q212: =Q209 -> maïs fourrage | R212: =IF(OR(AND(Q212="ray grass d'Italie",Q211="blé tendre"),AND(Q212="maïs fourrage",Q211="ray grass d'Italie"),AND(Q212="blé tendre",Q211="maïs fourrage")),"ok","pb") -> ok | S212: =CONCATENATE(F212,"-",I212,"-",J212,"-",L212,"-",M212,"-",N212) -> 781_1895-562_NGC25-1-2-BT-h2 | T212: =CONCATENATE(F212,"-",I212,"-",J212,"-",L212,"-",M212,"-",N212,"-",P212,"-",VLOOKUP(Q212,Liste_plantes!$A$2:$B$7,2,FALSE)) -> 781_1895-562_NGC25-1-2-BT-h2-2047-MF | U212: =V211+1 -> 53760 | V212: =IF(Q212="blé tendre",CONCATENATE("15/08/",P212),IF(Q212="ray grass d'Italie",CONCATENATE("08/03/",P212),IF(Q212="maïs fourrage",CONCATENATE("01/10/",P212),"pb"))) -> 01/10/2047 | W212: =IF(OR(YEAR(U212)=1978,(U212-V211)=1),"OK","!!!") -> OK | X212: =U212-DATE($O212,1,1)+1 -> 68 | Y212: =V212-DATE($O212,1,1)+1 -> 274 | Z212: =IF(AND(Q211="prairie",Q212="prairie"),"prairie_ini.xml","snu_ini.xml") -> snu_ini.xml | AA212: =CONCATENATE(G212,"_",H212) -> 330562_0.1574 | AB212: =CONCATENATE($E212,"_",N212,"_sta.xml") -> 14050_h2_sta.xml | AC212: =CONCATENATE($E212,".",YEAR(U212)) -> 14050.2047 | AD212: =CONCATENATE($E212,".",YEAR(V212)) -> 14050.2047 | AE212: =IF(YEAR(V212)=YEAR(U212),1,2) -> 1 | AF212: 1 | AG212: 0 | AH212: =VLOOKUP(Q212,Liste_plantes!$A$2:$C$7,3,FALSE) -> corn_plt.xml | AI212: =CONCATENATE(J212,"-",L212,"-",VLOOKUP(Q212,Liste_plantes!$A$2:$B$7,2,FALSE),"_tec.xml") -> 1-2-MF_tec.xml | AJ212: null | AK212: null | AL212: null | AM212: null
A213: =A212 -> cnrm-cm5-aladin63 | B213: =B212 -> cca | C213: =C212 -> 8.5 | D213: =D212 -> 1895 | E213: =E212 -> 14050 | F213: =F212 -> 781_1895 | G213: =G212 -> 330562 | H213: =H212 -> 0.1574 | ... N213: =N212 -> h2 | O213: =IF(Q212="maïs fourrage",O212,O212+1) -> 2047 | P213: =IF(Q213="maïs fourrage",O213,O213+1) -> 2048 | Q213: =Q210 -> blé tendre | R213: =IF(OR(AND(Q213="ray grass d'Italie",Q212="blé tendre"),AND(Q213="maïs fourrage",Q212="ray grass d'Italie"),AND(Q213="blé tendre",Q212="maïs fourrage")),"ok","pb") -> ok | S213: =CONCATENATE(F213,"-",I213,"-",J213,"-",L213,"-",M213,"-",N213) -> 781_1895-562_NGC25-1-2-BT-h2 | T213: =CONCATENATE(F213,"-",I213,"-",J213,"-",L213,"-",M213,"-",N213,"-",P213,"-",VLOOKUP(Q213,Liste_plantes!$A$2:$B$7,2,FALSE)) -> 781_1895-562_NGC25-1-2-BT-h2-2048-BT | U213: =V212+1 -> 53967 | V213: =IF(Q213="blé tendre",CONCATENATE("15/08/",P213),IF(Q213="ray grass d'Italie",CONCATENATE("08/03/",P213),IF(Q213="maïs fourrage",CONCATENATE("01/10/",P213),"pb"))) -> 15/08/2048 | W213: =IF(OR(YEAR(U213)=1978,(U213-V212)=1),"OK","!!!") -> OK | X213: =U213-DATE($O213,1,1)+1 -> 275 | Y213: =V213-DATE($O213,1,1)+1 -> 593 | Z213: =IF(AND(Q212="prairie",Q213="prairie"),"prairie_ini.xml","snu_ini.xml") -> snu_ini.xml | AA213: =CONCATENATE(G213,"_",H213) -> 330562_0.1574 | AB213: =CONCATENATE($E213,"_",N213,"_sta.xml") -> 14050_h2_sta.xml | AC213: =CONCATENATE($E213,".",YEAR(U213)) -> 14050.2047 | AD213: =CONCATENATE($E213,".",YEAR(V213)) -> 14050.2048 | AE213: =IF(YEAR(V213)=YEAR(U213),1,2) -> 2 | AF213: 1 | AG213: 0 | AH213: =VLOOKUP(Q213,Liste_plantes!$A$2:$C$7,3,FALSE) -> wheat_plt.xml | AI213: =CONCATENATE(J213,"-",L213,"-",VLOOKUP(Q213,Liste_plantes!$A$2:$B$7,2,FALSE),"_tec.xml") -> 1-2-BT_tec.xml | AJ213: null | AK213: null | AL213: null | AM213: null
A214: =A213 -> cnrm-cm5-aladin63 | B214: =B213 -> cca | C214: =C213 -> 8.5 | D214: =D213 -> 1895 | E214: =E213 -> 14050 | F214: =F213 -> 781_1895 | G214: =G213 -> 330562 | H214: =H213 -> 0.1574 | ... N214: =N213 -> h2 | O214: =IF(Q213="maïs fourrage",O213,O213+1) -> 2048 | P214: =IF(Q214="maïs fourrage",O214,O214+1) -> 2049 | Q214: =Q211 -> ray grass d'Italie | R214: =IF(OR(AND(Q214="ray grass d'Italie",Q213="blé tendre"),AND(Q214="maïs fourrage",Q213="ray grass d'Italie"),AND(Q214="blé tendre",Q213="maïs fourrage")),"ok","pb") -> ok | S214: =CONCATENATE(F214,"-",I214,"-",J214,"-",L214,"-",M214,"-",N214) -> 781_1895-562_NGC25-1-2-BT-h2 | T214: =CONCATENATE(F214,"-",I214,"-",J214,"-",L214,"-",M214,"-",N214,"-",P214,"-",VLOOKUP(Q214,Liste_plantes!$A$2:$B$7,2,FALSE)) -> 781_1895-562_NGC25-1-2-BT-h2-2049-rgi | U214: =V213+1 -> 54286 | V214: =IF(Q214="blé tendre",CONCATENATE("15/08/",P214),IF(Q214="ray grass d'Italie",CONCATENATE("08/03/",P214),IF(Q214="maïs fourrage",CONCATENATE("01/10/",P214),"pb"))) -> 08/03/2049 | W214: =IF(OR(YEAR(U214)=1978,(U214-V213)=1),"OK","!!!") -> OK | X214: =U214-DATE($O214,1,1)+1 -> 229 | Y214: =V214-DATE($O214,1,1)+1 -> 433 | Z214: =IF(AND(Q213="prairie",Q214="prairie"),"prairie_ini.xml","snu_ini.xml") -> snu_ini.xml | AA214: =CONCATENATE(G214,"_",H214) -> 330562_0.1574 | AB214: =CONCATENATE($E214,"_",N214,"_sta.xml") -> 14050_h2_sta.xml | AC214: =CONCATENATE($E214,".",YEAR(U214)) -> 14050.2048 | AD214: =CONCATENATE($E214,".",YEAR(V214)) -> 14050.2049 | AE214: =IF(YEAR(V214)=YEAR(U214),1,2) -> 2 | AF214: 1 | AG214: 0 | AH214: =VLOOKUP(Q214,Liste_plantes!$A$2:$C$7,3,FALSE) -> ItalianRyegrass_CoverCrop_plt.xml | AI214: =CONCATENATE(J214,"-",L214,"-",VLOOKUP(Q214,Liste_plantes!$A$2:$B$7,2,FALSE),"_tec.xml") -> 1-2-rgi_tec.xml | AJ214: null | AK214: null | AL214: null | AM214: null
A215: =A214 -> cnrm-cm5-aladin63 | B215: =B214 -> cca | C215: =C214 -> 8.5 | D215: =D214 -> 1895 | E215: =E214 -> 14050 | F215: =F214 -> 781_1895 | G215: =G214 -> 330562 | H215: =H214 -> 0.1574 | ... N215: =N214 -> h2 | O215: =IF(Q214="maïs fourrage",O214,O214+1) -> 2049 | P215: =IF(Q215="maïs fourrage",O215,O215+1) -> 2049 | Q215: =Q212 -> maïs fourrage | R215: =IF(OR(AND(Q215="ray grass d'Italie",Q214="blé tendre"),AND(Q215="maïs fourrage",Q214="ray grass d'Italie"),AND(Q215="blé tendre",Q214="maïs fourrage")),"ok","pb") -> ok | S215: =CONCATENATE(F215,"-",I215,"-",J215,"-",L215,"-",M215,"-",N215) -> 781_1895-562_NGC25-1-2-BT-h2 | T215: =CONCATENATE(F215,"-",I215,"-",J215,"-",L215,"-",M215,"-",N215,"-",P215,"-",VLOOKUP(Q215,Liste_plantes!$A$2:$B$7,2,FALSE)) -> 781_1895-562_NGC25-1-2-BT-h2-2049-MF | U215: =V214+1 -> 54491 | V215: =IF(Q215="blé tendre",CONCATENATE("15/08/",P215),IF(Q215="ray grass d'Italie",CONCATENATE("08/03/",P215),IF(Q215="maïs fourrage",CONCATENATE("01/10/",P215),"pb"))) -> 01/10/2049 | W215: =IF(OR(YEAR(U215)=1978,(U215-V214)=1),"OK","!!!") -> OK | X215: =U215-DATE($O215,1,1)+1 -> 68 | Y215: =V215-DATE($O215,1,1)+1 -> 274 | Z215: =IF(AND(Q214="prairie",Q215="prairie"),"prairie_ini.xml","snu_ini.xml") -> snu_ini.xml | AA215: =CONCATENATE(G215,"_",H215) -> 330562_0.1574 | AB215: =CONCATENATE($E215,"_",N215,"_sta.xml") -> 14050_h2_sta.xml | AC215: =CONCATENATE($E215,".",YEAR(U215)) -> 14050.2049 | AD215: =CONCATENATE($E215,".",YEAR(V215)) -> 14050.2049 | AE215: =IF(YEAR(V215)=YEAR(U215),1,2) -> 1 | AF215: 1 | AG215: 0 | AH215: =VLOOKUP(Q215,Liste_plantes!$A$2:$C$7,3,FALSE) -> corn_plt.xml | AI215: =CONCATENATE(J215,"-",L215,"-",VLOOKUP(Q215,Liste_plantes!$A$2:$B$7,2,FALSE),"_tec.xml") -> 1-2-MF_tec.xml | AJ215: null | AK215: null | AL215: null | AM215: null
A216: =A215 -> cnrm-cm5-aladin63 | B216: =B215 -> cca | C216: =C215 -> 8.5 | D216: =D215 -> 1895 | E216: =E215 -> 14050 | F216: =F215 -> 781_1895 | G216: =G215 -> 330562 | H216: =H215 -> 0.1574 | ... N216: =N215 -> h2 | O216: =IF(Q215="maïs fourrage",O215,O215+1) -> 2049 | P216: =IF(Q216="maïs fourrage",O216,O216+1) -> 2050 | Q216: =Q213 -> blé tendre | R216: =IF(OR(AND(Q216="ray grass d'Italie",Q215="blé tendre"),AND(Q216="maïs fourrage",Q215="ray grass d'Italie"),AND(Q216="blé tendre",Q215="maïs fourrage")),"ok","pb") -> ok | S216: =CONCATENATE(F216,"-",I216,"-",J216,"-",L216,"-",M216,"-",N216) -> 781_1895-562_NGC25-1-2-BT-h2 | T216: =CONCATENATE(F216,"-",I216,"-",J216,"-",L216,"-",M216,"-",N216,"-",P216,"-",VLOOKUP(Q216,Liste_plantes!$A$2:$B$7,2,FALSE)) -> 781_1895-562_NGC25-1-2-BT-h2-2050-BT | U216: =V215+1 -> 54698 | V216: =IF(Q216="blé tendre",CONCATENATE("15/08/",P216),IF(Q216="ray grass d'Italie",CONCATENATE("08/03/",P216),IF(Q216="maïs fourrage",CONCATENATE("01/10/",P216),"pb"))) -> 15/08/2050 | W216: =IF(OR(YEAR(U216)=1978,(U216-V215)=1),"OK","!!!") -> OK | X216: =U216-DATE($O216,1,1)+1 -> 275 | Y216: =V216-DATE($O216,1,1)+1 -> 592 | Z216: =IF(AND(Q215="prairie",Q216="prairie"),"prairie_ini.xml","snu_ini.xml") -> snu_ini.xml | AA216: =CONCATENATE(G216,"_",H216) -> 330562_0.1574 | AB216: =CONCATENATE($E216,"_",N216,"_sta.xml") -> 14050_h2_sta.xml | AC216: =CONCATENATE($E216,".",YEAR(U216)) -> 14050.2049 | AD216: =CONCATENATE($E216,".",YEAR(V216)) -> 14050.2050 | AE216: =IF(YEAR(V216)=YEAR(U216),1,2) -> 2 | AF216: 1 | AG216: 0 | AH216: =VLOOKUP(Q216,Liste_plantes!$A$2:$C$7,3,FALSE) -> wheat_plt.xml | AI216: =CONCATENATE(J216,"-",L216,"-",VLOOKUP(Q216,Liste_plantes!$A$2:$B$7,2,FALSE),"_tec.xml") -> 1-2-BT_tec.xml | AJ216: null | AK216: null | AL216: null | AM216: null
A217: =A216 -> cnrm-cm5-aladin63 | B217: =B216 -> cca | C217: =C216 -> 8.5 | D217: =D216 -> 1895 | E217: =E216 -> 14050 | F217: =F216 -> 781_1895 | G217: =G216 -> 330562 | H217: =H216 -> 0.1574 | ... N217: =N216 -> h2 | O217: =IF(Q216="maïs fourrage",O216,O216+1) -> 2050 | P217: =IF(Q217="maïs fourrage",O217,O217+1) -> 2051 | Q217: =Q214 -> ray grass d'Italie | R217: =IF(OR(AND(Q217="ray grass d'Italie",Q216="blé tendre"),AND(Q217="maïs fourrage",Q216="ray grass d'Italie"),AND(Q217="blé tendre",Q216="maïs fourrage")),"ok","pb") -> ok | S217: =CONCATENATE(F217,"-",I217,"-",J217,"-",L217,"-",M217,"-",N217) -> 781_1895-562_NGC25-1-2-BT-h2 | T217: =CONCATENATE(F217,"-",I217,"-",J217,"-",L217,"-",M217,"-",N217,"-",P217,"-",VLOOKUP(Q217,Liste_plantes!$A$2:$B$7,2,FALSE)) -> 781_1895-562_NGC25-1-2-BT-h2-2051-rgi | U217: =V216+1 -> 55016 | V217: =IF(Q217="blé tendre",CONCATENATE("15/08/",P217),IF(Q217="ray grass d'Italie",CONCATENATE("08/03/",P217),IF(Q217="maïs fourrage",CONCATENATE("01/10/",P217),"pb"))) -> 08/03/2051 | W217: =IF(OR(YEAR(U217)=1978,(U217-V216)=1),"OK","!!!") -> OK | X217: =U217-DATE($O217,1,1)+1 -> 228 | Y217: =V217-DATE($O217,1,1)+1 -> 432 | Z217: =IF(AND(Q216="prairie",Q217="prairie"),"prairie_ini.xml","snu_ini.xml") -> snu_ini.xml | AA217: =CONCATENATE(G217,"_",H217) -> 330562_0.1574 | AB217: =CONCATENATE($E217,"_",N217,"_sta.xml") -> 14050_h2_sta.xml | AC217: =CONCATENATE($E217,".",YEAR(U217)) -> 14050.2050 | AD217: =CONCATENATE($E217,".",YEAR(V217)) -> 14050.2051 | AE217: =IF(YEAR(V217)=YEAR(U217),1,2) -> 2 | AF217: 1 | AG217: 0 | AH217: =VLOOKUP(Q217,Liste_plantes!$A$2:$C$7,3,FALSE) -> ItalianRyegrass_CoverCrop_plt.xml | AI217: =CONCATENATE(J217,"-",L217,"-",VLOOKUP(Q217,Liste_plantes!$A$2:$B$7,2,FALSE),"_tec.xml") -> 1-2-rgi_tec.xml | AJ217: null | AK217: null | AL217: null | AM217: null
...

Sheet Tec
A1: annee | B1: Tec_name | C1: date_min | D1: date_max | E1: Date_res_1 | F1: Type_res_1 | G1: julres_1 | H1: coderes_1 | I1: qres_1 | J1: Crespc_1 | K1: CsurNres_1 | L1: Nminres_1 | M1: eaures_1 | N1: Date_res_2 | O1: Type_res_2 | P1: julres_2 | Q1: coderes_2 | R1: qres_2 | S1: Crespc_2 | T1: CsurNres_2 | U1: Nminres_2 | V1: eaures_2 | W1: code_auto_profres | X1: resk | Y1: resz | Z1: Date_trav_1 | AA1: Type_trav_1 | AB1: jultrav_1 | AC1: profres_1 | AD1: proftrav_1 | AE1: Date_trav_2 | AF1: Type_trav_2 | AG1: jultrav_2 | AH1: profres_2 | AI1: proftrav_2 | AJ1: Date_trav_3 | AK1: Type_trav_3 | AL1: jultrav_3 | AM1: profres_3 | AN1: proftrav_3 | AO1: plante_sem | AP1: date_sem | AQ1: iplt0 | AR1: profsem | AS1: densitesem | AT1: nom_variété | AU1: variete | AV1: codetradtec | AW1: interrang | AX1: orientrang | AY1: codedecisemis | AZ1: nbjmaxapressemis | BA1: nbjseuiltempref | BB1: nbj_pr_apres_semis | BC1: eau_mini_decisemis | BD1: humirac_decisemis | BE1: codestade | BF1: ilev | BG1: iamf | BH1: ilax | BI1: isen | BJ1: ilan | BK1: iflo | BL1: idrp | BM1: imat | BN1: irec | BO1: effirr | BP1: codecalirrig | BQ1: ratiol | BR1: dosimx | BS1: doseirrigmin | BT1: codedate_irrigauto | BU1: datedeb_irrigauto | BV1: datefin_irrigauto | BW1: stage_start_irrigauto | BX1: stage_end_irrigauto | BY1: codedateappH2O | BZ1: codlocirrig | CA1: locirrig | CB1: profmes | CC1: concirr | CD1: codedateappN | CE1: codefracappN | CF1: Qtot_N | CG1: date_ferti_1 | CH1: type_eng_1 | CI1: julapN_1 | CJ1: doseN_1 | CK1: engrais_1 | CL1: date_ferti_2 | CM1: type_eng_2 | CN1: julapN_2 | CO1: doseN_2 | CP1: engrais_2 | CQ1: date_ferti_3 | CR1: type_eng_3 | CS1: julapN_3 | CT1: doseN_3 | CU1: engrais_3 | CV1: codlocferti | CW1: locferti | CX1: date_rec | CY1: irecbutoir | CZ1: ressuite | DA1: code_autoressuite | DB1: Stubblevegratio | DC1: codceuille | DD1: nbceuille | DE1: cadencerec | DF1: codrecolte | DG1: codeaumin | DH1: h2ograinmin | DI1: h2ograinmax | DJ1: sucrerec | DK1: CNgrainrec | DL1: huilerec | DM1: coderecolteassoc | DN1: codedecirecolte | DO1: nbjmaxapresrecolte | DP1: codefauche | DQ1: code_hautfauche_dyn | DR1: codemodfauche | DS1: hautcoupedefaut | DT1: stadecoupedf | DU1: codepaillage | DV1: couvermulchplastique | DW1: albedomulchplastique | DX1: codrognage | DY1: largrogne | DZ1: hautrogne | EA1: biorognem | EB1: codcalrogne | EC1: julrogne | ED1: margerogne | EE1: codeclaircie | EF1: juleclair | EG1: nbinfloecl | EH1: codeffeuil | EI1: codhauteff | EJ1: codcaleffeuil | EK1: laidebeff | EL1: effeuil | EM1: juleffeuil | EN1: laieffeuil | EO1: codetaille | EP1: jultaille | EQ1: codepalissage | ER1: hautmaxtec | ES1: largtec | ET1: codabri | EU1: transplastic | EV1: surfouvre1 | EW1: julouvre2 | EX1: surfouvre2 | EY1: julouvre3 | EZ1: surfouvre3 | FA1: codejourdes | FB1: date_des | FC1: juldes | FD1: codeDST | FE1: dachisel | FF1: dalabour | FG1: rugochisel | FH1: rugolabour | FI1: codeDSTtass | FJ1: profhumsemoir | FK1: dasemis | FL1: profhumrecolteuse | FM1: darecolte | FN1: codeDSTnbcouche
A2: =USMs!O2 -> 1972 | B2: =USMs!AI2 -> 1-2-BT_tec.xml | C2: =MIN(Z2,AE2,AP2,CX2,CG2,CL2,CQ2) -> 26606 | D2: =MAX(Z2,AE2,AP2,CX2,CG2,CL2,CQ2,FB2) -> 26891 | W2: 1 | X2: 0.14 | Y2: 5 | Z2: =IF(AB2<=365,DATE($A2,MONTH(AB2),DAY(AB2)),DATE($A2+1,MONTH(AB2-365),DAY(AB2-365))) -> 26606 | AA2: Labour | AB2: 308 | AC2: 29 | AD2: 30 | AE2: =IF(AG2<=365,DATE($A2,MONTH(AG2),DAY(AG2)),DATE($A2+1,MONTH(AG2-365),DAY(AG2-365))) -> 26891 | AF2: Déchaumage | AG2: 593 | AH2: 7 | AI2: 14 | AO2: =USMs!Q2 -> blé tendre | AP2: =IF(AQ2<=365,DATE($A2,MONTH(AQ2),DAY(AQ2)),DATE($A2+1,MONTH(AQ2-365),DAY(AQ2-365))) -> 26607 | AQ2: 309 | AR2: =IF(AO2="blé tendre",2.5,IF(AO2="ray grass d'Italie",2,IF(AO2="maïs fourrage",4,IF(OR(AO2="prairie",AO2="prairie org"),1,"pb")))) -> 2.5 | AS2: =IF(AO2="blé tendre",350,IF(AO2="ray grass d'Italie",300,IF(AO2="maïs fourrage",8,IF(OR(AO2="prairie",AO2="prairie org"),950,"pb")))) -> 350 | AT2: =IF(AO2="blé tendre","Soissons",IF(AO2="ray grass d'Italie","RGI.cv.SUXYL",IF(AO2="maïs fourrage","Furio",IF(AO2="prairie","fetuque","pb")))) -> Soissons | AU2: =IF(AO2="blé tendre",4,IF(AO2="ray grass d'Italie",1,IF(AO2="maïs fourrage",4,IF(AO2="prairie",1,"pb")))) -> 4 | AV2: 2 | AW2: 0 | AX2: 0 | AY2: 2 | AZ2: 0 | BA2: 0 | BB2: 999 | BC2: 999 | BD2: 999 | BE2: 2 | BF2: 999 | BG2: 999 | BH2: 999 | BI2: 999 | BJ2: 999 | BK2: 999 | BL2: 999 | BM2: 999 | BN2: 999 | BO2: 1 | BP2: 2 | BQ2: 0 | BR2: 0 | BS2: 0 | BT2: 3 | BU2: 999 | BV2: 999 | BW2: 0 | BX2: 0 | BY2: 2 | BZ2: 1 | CA2: 0 | CB2: 200 | CC2: 0.01 | CD2: 2 | CE2: 1 | CF2: 0 | CG2: =IF(CI2<=365,DATE($A2,MONTH(CI2),DAY(CI2)),DATE($A2+1,MONTH(CI2-365),DAY(CI2-365))) -> 26707 | CH2: ammonitrate 33.5% | CI2: 408 | CJ2: 43.3 | CK2: =IF(CH2="","",VLOOKUP(CH2,Liste_engrais!$A$2:$B$6,2,FALSE)) -> 1 | CL2: =IF(CN2<=365,DATE($A2,MONTH(CN2),DAY(CN2)),DATE($A2+1,MONTH(CN2-365),DAY(CN2-365))) -> 26746 | CM2: ammonitrate 33.5% | CN2: 448 | CO2: 43.3 | CP2: =IF(CM2="","",VLOOKUP(CM2,Liste_engrais!$A$2:$B$6,2,FALSE)) -> 1 | CQ2: =IF(CS2<=365,DATE($A2,MONTH(CS2),DAY(CS2)),DATE($A2+1,MONTH(CS2-365),DAY(CS2-365))) -> 26779 | CR2: ammonitrate 33.5% | CS2: 481 | CT2: 43.3 | CU2: =IF(CR2="","",VLOOKUP(CR2,Liste_engrais!$A$2:$B$6,2,FALSE)) -> 1 | CV2: 1 | CW2: 0 | CX2: =IF(CY2<=365,DATE($A2,MONTH(CY2),DAY(CY2)),DATE($A2+1,MONTH(CY2-365),DAY(CY2-365))) -> 26890 | CY2: 592 | CZ2: =IF(AO2="maïs fourrage","stubbleveg",IF(AO2="ray grass d'Italie","whole_crop","stubble+roots")) -> stubble+roots | DA2: =IF(AO2="maïs fourrage",1,2) -> 2 | DB2: =IF(AO2="maïs fourrage",0.1,0) -> 0 | DC2: 1 | DD2: 1 | DE2: 0 | DF2: 1 | DG2: 1 | DH2: 0 | DI2: 0 | DJ2: 0 | DK2: 0 | DL2: 0 | DM2: 1 | DN2: 2 | DO2: 0 | DP2: 2 | DQ2: 2 | DR2: 2 | DS2: 0 | DT2: rec | DU2: 1 | DV2: 0 | DW2: 0 | DX2: 1 | DY2: 0 | DZ2: 0 | EA2: 0 | EB2: 2 | EC2: 999 | ED2: 0 | EE2: 1 | EF2: 999 | EG2: 0 | EH2: 1 | EI2: 1 | EJ2: 1 | EK2: 0 | EL2: 0 | EM2: 999 | EN2: 0 | EO2: 1 | EP2: 999 | EQ2: 1 | ER2: 0 | ES2: 0 | ET2: 1 | EU2: 0 | EV2: 0 | EW2: 999 | EX2: 0 | EY2: 999 | EZ2: 0 | FA2: 2 | FC2: =IF(FB2="",999,FB2-DATE($A2,1,1)+1) -> 999 | FD2: 2 | FE2: 0 | FF2: 0 | FG2: 0 | FH2: 0 | FI2: 2 | FJ2: 0 | FK2: 0 | FL2: 0 | FM2: 0 | FN2: 2
A3: =USMs!O3 -> 1973 | B3: =USMs!AI3 -> 1-2-rgi_tec.xml | C3: =MIN(Z3,AE3,AP3,CX3,CG3,CL3,CQ3) -> 26912 | D3: =MAX(Z3,AE3,AP3,CX3,CG3,CL3,CQ3,FB3) -> 27096 | W3: 1 | X3: 0.14 | Y3: 5 | Z3: =IF(AB3<=365,DATE($A3,MONTH(AB3),DAY(AB3)),DATE($A3+1,MONTH(AB3-365),DAY(AB3-365))) -> 27096 | AA3: Labour | AB3: 433 | AC3: 29 | AD3: 30 | AO3: =USMs!Q3 -> ray grass d'Italie | AP3: =IF(AQ3<=365,DATE($A3,MONTH(AQ3),DAY(AQ3)),DATE($A3+1,MONTH(AQ3-365),DAY(AQ3-365))) -> 26912 | AQ3: 249 | AR3: =IF(AO3="blé tendre",2.5,IF(AO3="ray grass d'Italie",2,IF(AO3="maïs fourrage",4,IF(OR(AO3="prairie",AO3="prairie org"),1,"pb")))) -> 2 | AS3: =IF(AO3="blé tendre",350,IF(AO3="ray grass d'Italie",300,IF(AO3="maïs fourrage",8,IF(OR(AO3="prairie",AO3="prairie org"),950,"pb")))) -> 300 | AT3: =IF(AO3="blé tendre","Soissons",IF(AO3="ray grass d'Italie","RGI.cv.SUXYL",IF(AO3="maïs fourrage","Furio",IF(AO3="prairie","fetuque","pb")))) -> RGI.cv.SUXYL | AU3: =IF(AO3="blé tendre",4,IF(AO3="ray grass d'Italie",1,IF(AO3="maïs fourrage",4,IF(AO3="prairie",1,"pb")))) -> 1 | AV3: 2 | AW3: 0 | AX3: 0 | AY3: 2 | AZ3: 0 | BA3: 0 | BB3: 999 | BC3: 999 | BD3: 999 | BE3: 2 | BF3: 999 | BG3: 999 | BH3: 999 | BI3: 999 | BJ3: 999 | BK3: 999 | BL3: 999 | BM3: 999 | BN3: 999 | BO3: 1 | BP3: 2 | BQ3: 0 | BR3: 0 | BS3: 0 | BT3: 3 | BU3: 999 | BV3: 999 | BW3: 0 | BX3: 0 | BY3: 2 | BZ3: 1 | CA3: 0 | CB3: 200 | CC3: 0.01 | CD3: 2 | CE3: 1 | CF3: 0 | CK3: =IF(CH3="","",VLOOKUP(CH3,Liste_engrais!$A$2:$B$6,2,FALSE)) | CP3: =IF(CM3="","",VLOOKUP(CM3,Liste_engrais!$A$2:$B$6,2,FALSE)) | CQ3: =IF($AO3="sol nu","",IF(ISERROR(VLOOKUP(CONCATENATE(#REF!,"_",$A3,#REF!,"_",#REF!,"_3"),#REF!,3,FALSE)),"",VLOOKUP(CONCATENATE(#REF!,"_",$A3,#REF!,"_",#REF!,"_3"),#REF!,3,FALSE))) | CU3: =IF(CR3="","",VLOOKUP(CR3,Liste_engrais!$A$2:$B$6,2,FALSE)) | CV3: 1 | CW3: 0 | CX3: =IF(CY3<=365,DATE($A3,MONTH(CY3),DAY(CY3)),DATE($A3+1,MONTH(CY3-365),DAY(CY3-365))) -> 27093 | CY3: 430 | CZ3: =IF(AO3="maïs fourrage","stubbleveg",IF(AO3="ray grass d'Italie","whole_crop","stubble+roots")) -> whole_crop | DA3: =IF(AO3="maïs fourrage",1,2) -> 2 | DB3: =IF(AO3="maïs fourrage",0.1,0) -> 0 | DC3: 1 | DD3: 1 | DE3: 0 | DF3: 1 | DG3: 1 | DH3: 0 | DI3: 0 | DJ3: 0 | DK3: 0 | DL3: 0 | DM3: 1 | DN3: 2 | DO3: 0 | DP3: 2 | DQ3: 2 | DR3: 2 | DS3: 0 | DT3: rec | DU3: 1 | DV3: 0 | DW3: 0 | DX3: 1 | DY3: 0 | DZ3: 0 | EA3: 0 | EB3: 2 | EC3: 999 | ED3: 0 | EE3: 1 | EF3: 999 | EG3: 0 | EH3: 1 | EI3: 1 | EJ3: 1 | EK3: 0 | EL3: 0 | EM3: 999 | EN3: 0 | EO3: 1 | EP3: 999 | EQ3: 1 | ER3: 0 | ES3: 0 | ET3: 1 | EU3: 0 | EV3: 0 | EW3: 999 | EX3: 0 | EY3: 999 | EZ3: 0 | FA3: 1 | FB3: =IF($FC3<=365,DATE($A3,MONTH($FC3),DAY($FC3)),DATE($A3+1,MONTH($FC3-365),DAY($FC3-365))) -> 27095 | FC3: 432 | FD3: 2 | FE3: 0 | FF3: 0 | FG3: 0 | FH3: 0 | FI3: 2 | FJ3: 0 | FK3: 0 | FL3: 0 | FM3: 0 | FN3: 2
A4: =USMs!O4 -> 1974 | B4: =USMs!AI4 -> 1-2-MF_tec.xml | C4: =MIN(Z4,AE4,AP4,CX4,CG4,CL4,CQ4) -> 27097 | D4: =MAX(Z4,AE4,AP4,CX4,CG4,CL4,CQ4,FB4) -> 27303 | E4: =IF(G4<=365,DATE($A4,MONTH(G4),DAY(G4)),DATE($A4+1,MONTH(G4-365),DAY(G4-365))) -> 27097 | F4: Lisier de bovins | G4: 69 | H4: =IF(F4="Lisier de porcins",9,IF(F4="Lisier de bovins",8,IF(F4="Fumier de bovins",3,"pb"))) -> 8 | I4: 20 | J4: =IF(F4="Lisier de porcins",40.9,IF(F4="Lisier de bovins",36,IF(F4="Fumier de bovins",35.9,"pb"))) -> 36 | K4: =IF(F4="Lisier de porcins",11.9,IF(F4="Lisier de bovins",12,IF(F4="Fumier de bovins",18.1,"pb"))) -> 12 | L4: =IF(F4="Lisier de porcins",30.7/1000*(100-M4),IF(F4="Lisier de bovins",25.6/1000*(100-M4),IF(F4="Fumier de bovins",1.3/1000*(100-M4),"pb"))) -> 0.19456 | M4: =IF(F4="Lisier de porcins",100-5,IF(F4="Lisier de bovins",100-7.6,IF(F4="Fumier de bovins",100-21.1,"pb"))) -> 92.4 | N4: =IF(P4<=365,DATE($A4,MONTH(P4),DAY(P4)),DATE($A4+1,MONTH(P4-365),DAY(P4-365))) -> 27097 | O4: Fumier de bovins | P4: 69 | Q4: =IF(O4="Lisier de porcins",9,IF(O4="Lisier de bovins",8,IF(O4="Fumier de bovins",3,"pb"))) -> 3 | R4: 25 | S4: =IF(O4="Lisier de porcins",40.9,IF(O4="Lisier de bovins",36,IF(O4="Fumier de bovins",35.9,"pb"))) -> 35.9 | T4: =IF(O4="Lisier de porcins",11.9,IF(O4="Lisier de bovins",12,IF(O4="Fumier de bovins",18.1,"pb"))) -> 18.1 | U4: =IF(O4="Lisier de porcins",30.7/1000*(100-V4),IF(O4="Lisier de bovins",25.6/1000*(100-V4),IF(O4="Fumier de bovins",1.3/1000*(100-V4),"pb"))) -> 0.02743 | V4: =IF(O4="Lisier de porcins",100-5,IF(O4="Lisier de bovins",100-7.6,IF(O4="Fumier de bovins",100-21.1,"pb"))) -> 78.9 | W4: 1 | X4: 0.14 | Y4: 5 | Z4: =IF(AB4<=365,DATE($A4,MONTH(AB4),DAY(AB4)),DATE($A4+1,MONTH(AB4-365),DAY(AB4-365))) -> 27097 | AA4: Enfouissement | AB4: 69 | AC4: 4 | AD4: 8 | AE4: =IF(AG4<=365,DATE($A4,MONTH(AG4),DAY(AG4)),DATE($A4+1,MONTH(AG4-365),DAY(AG4-365))) -> 27119 | AF4: Reprise | AG4: 91 | AH4: 7 | AI4: 15 | AJ4: =IF(AL4<=365,DATE($A4,MONTH(AL4),DAY(AL4)),DATE($A4+1,MONTH(AL4-365),DAY(AL4-365))) -> 27145 | AK4: Préparation du lit de semence | AL4: 117 | AM4: 4 | AN4: 8 | AO4: =USMs!Q4 -> maïs fourrage | AP4: =IF(AQ4<=365,DATE($A4,MONTH(AQ4),DAY(AQ4)),DATE($A4+1,MONTH(AQ4-365),DAY(AQ4-365))) -> 27139 | AQ4: 111 | AR4: =IF(AO4="blé tendre",2.5,IF(AO4="ray grass d'Italie",2,IF(AO4="maïs fourrage",4,IF(OR(AO4="prairie",AO4="prairie org"),1,"pb")))) -> 4 | AS4: =IF(AO4="blé tendre",350,IF(AO4="ray grass d'Italie",300,IF(AO4="maïs fourrage",8,IF(OR(AO4="prairie",AO4="prairie org"),950,"pb")))) -> 8 | AT4: =IF(AO4="blé tendre","Soissons",IF(AO4="ray grass d'Italie","RGI.cv.SUXYL",IF(AO4="maïs fourrage","Furio",IF(AO4="prairie","fetuque","pb")))) -> Furio | AU4: =IF(AO4="blé tendre",4,IF(AO4="ray grass d'Italie",1,IF(AO4="maïs fourrage",4,IF(AO4="prairie",1,"pb")))) -> 4 | AV4: 2 | AW4: 0 | AX4: 0 | AY4: 2 | AZ4: 0 | BA4: 0 | BB4: 999 | BC4: 999 | BD4: 999 | BE4: 2 | BF4: 118 | BG4: 999 | BH4: 999 | BI4: 999 | BJ4: 999 | BK4: 999 | BL4: 999 | BM4: 999 | BN4: 999 | BO4: 1 | BP4: 2 | BQ4: 0 | BR4: 0 | BS4: 0 | BT4: 3 | BU4: 999 | BV4: 999 | BW4: 0 | BX4: 0 | BY4: 2 | BZ4: 1 | CA4: 0 | CB4: 200 | CC4: 0.01 | CD4: 2 | CE4: 1 | CF4: 0 | CK4: =IF(CH4="","",VLOOKUP(CH4,Liste_engrais!$A$2:$B$6,2,FALSE)) | CP4: =IF(CM4="","",VLOOKUP(CM4,Liste_engrais!$A$2:$B$6,2,FALSE)) | CQ4: =IF($AO4="sol nu","",IF(ISERROR(VLOOKUP(CONCATENATE(#REF!,"_",$A4,#REF!,"_",#REF!,"_3"),#REF!,3,FALSE)),"",VLOOKUP(CONCATENATE(#REF!,"_",$A4,#REF!,"_",#REF!,"_3"),#REF!,3,FALSE))) | CU4: =IF(CR4="","",VLOOKUP(CR4,Liste_engrais!$A$2:$B$6,2,FALSE)) | CV4: 1 | CW4: 0 | CX4: =IF(CY4<=365,DATE($A4,MONTH(CY4),DAY(CY4)),DATE($A4+1,MONTH(CY4-365),DAY(CY4-365))) -> 27303 | CY4: 275 | CZ4: =IF(AO4="maïs fourrage","stubbleveg",IF(AO4="ray grass d'Italie","whole_crop","stubble+roots")) -> stubbleveg | DA4: =IF(AO4="maïs fourrage",1,2) -> 1 | DB4: =IF(AO4="maïs fourrage",0.1,0) -> 0.1 | DC4: 1 | DD4: 1 | DE4: 0 | DF4: 1 | DG4: 1 | DH4: 0 | DI4: 0 | DJ4: 0 | DK4: 0 | DL4: 0 | DM4: 1 | DN4: 2 | DO4: 0 | DP4: 2 | DQ4: 2 | DR4: 2 | DS4: 0 | DT4: rec | DU4: 1 | DV4: 0 | DW4: 0 | DX4: 1 | DY4: 0 | DZ4: 0 | EA4: 0 | EB4: 2 | EC4: 999 | ED4: 0 | EE4: 1 | EF4: 999 | EG4: 0 | EH4: 1 | EI4: 1 | EJ4: 1 | EK4: 0 | EL4: 0 | EM4: 999 | EN4: 0 | EO4: 1 | EP4: 999 | EQ4: 1 | ER4: 0 | ES4: 0 | ET4: 1 | EU4: 0 | EV4: 0 | EW4: 999 | EX4: 0 | EY4: 999 | EZ4: 0 | FA4: 2 | FC4: =IF(FB4="",999,FB4-DATE($A4,1,1)+1) -> 999 | FD4: 2 | FE4: 0 | FF4: 0 | FG4: 0 | FH4: 0 | FI4: 2 | FJ4: 0 | FK4: 0 | FL4: 0 | FM4: 0 | FN4: 2

Sheet Ini
A1: Ini_name | B1: nbplantes | C1: stade0_Crop1 | D1: lai0_Crop1 | E1: zrac0_Crop1 | F1: code_acti_reserve_Crop1 | G1: maperenne0_Crop1 | H1: QNperenne0_Crop1 | I1: masecnp0_Crop1 | J1: QNplantenp0_Crop1 | K1: masec0_Crop1 | L1: QNplante0_Crop1 | M1: restemp0_Crop1 | N1: densinitial_1_Crop1 | O1: densinitial_2_Crop1 | P1: densinitial_3_Crop1 | Q1: densinitial_4_Crop1 | R1: densinitial_5_Crop1 | S1: Hinitf_1 | T1: Hinitf_2 | U1: Hinitf_3 | V1: Hinitf_4 | W1: Hinitf_5 | X1: NO3initf_1 | Y1: NO3initf_2 | Z1: NO3initf_3 | AA1: NO3initf_4 | AB1: NO3initf_5 | AC1: NH4initf_1 | AD1: NH4initf_2 | AE1: NH4initf_3 | AF1: NH4initf_4 | AG1: NH4initf_5
A2: snu_ini.xml | B2: 1 | C2: snu | D2: 0 | E2: 0 | F2: 2 | G2: 0 | H2: 0 | I2: 0 | J2: 0 | K2: 0 | L2: 0 | M2: 0 | N2: 0 | O2: 0 | P2: 0 | Q2: 0 | R2: 0 | S2: 0 | T2: 0 | U2: 0 | V2: 0 | W2: 0 | X2: 20 | Y2: 15 | Z2: 15 | AA2: 1 | AB2: 0 | AC2: 5 | AD2: 0 | AE2: 0 | AF2: 0 | AG2: 0
A3: prairie_ini.xml | B3: 1 | C3: lev | D3: 0 | E3: 30 | F3: 2 | G3: 0 | H3: 0 | I3: 0 | J3: 0 | K3: 0 | L3: 0 | M3: 0 | N3: 1 | O3: 0 | P3: 0 | Q3: 0 | R3: 0 | S3: 0 | T3: 0 | U3: 0 | V3: 0 | W3: 0 | X3: 20 | Y3: 15 | Z3: 15 | AA3: 1 | AB3: 0 | AC3: 5 | AD3: 0 | AE3: 0 | AF3: 0 | AG3: 0

Sheet Station
A1: Sta_name | B1: zr | C1: NH3ref | D1: concrr | E1: latitude | F1: patm | G1: aclim | H1: codeetp | I1: alphapt | J1: codeclichange | K1: codaltitude | L1: altistation | M1: altisimul | N1: gradtn | O1: gradtx | P1: altinversion | Q1: gradtninv | R1: cielclair | S1: codadret | T1: ombragetx | U1: ra | V1: albveg | W1: aangst | X1: bangst | Y1: corecTrosee | Z1: codecaltemp | AA1: codernet | AB1: coefdevil | AC1: aks | AD1: bks | AE1: cvent | AF1: phiv0 | AG1: coefrnet
A2: 14050_ref_sta.xml | B2: 2.5 | C2: 0 | D2: 0.02 | E2: 48.55845 | F2: 1000 | G2: 12.569451 | H2: 3 | I2: 1.26 | J2: 2 | K2: 1 | L2: 440 | M2: 800 | N2: -0.5 | O2: -0.55 | P2: 500 | Q2: 1.3 | R2: 0.8 | S2: 1 | T2: -1.4 | U2: 50 | V2: 0.23 | W2: 0.18 | X2: 0.62 | Y2: 1 | Z2: 1 | AA2: 2 | AB2: 0.7 | AC2: 6 | AD2: 0.5 | AE2: 0.16 | AF2: 0.004 | AG2: 0.59
A3: 14050_h1_sta.xml | B3: 2.5 | C3: 0 | D3: 0.02 | E3: =E2 -> 48.55845 | F3: 1000 | G3: 12.465351 | H3: 3 | I3: 1.26 | J3: 2 | K3: 1 | L3: 440 | M3: 800 | N3: -0.5 | O3: -0.55 | P3: 500 | Q3: 1.3 | R3: 0.8 | S3: 1 | T3: -1.4 | U3: 50 | V3: 0.23 | W3: 0.18 | X3: 0.62 | Y3: 1 | Z3: 1 | AA3: 2 | AB3: 0.7 | AC3: 6 | AD3: 0.5 | AE3: 0.16 | AF3: 0.004 | AG3: 0.59
A4: 14050_h2_sta.xml | B4: 2.5 | C4: 0 | D4: 0.02 | E4: =E2 -> 48.55845 | F4: 1000 | G4: 12.555518 | H4: 3 | I4: 1.26 | J4: 2 | K4: 1 | L4: 440 | M4: 800 | N4: -0.5 | O4: -0.55 | P4: 500 | Q4: 1.3 | R4: 0.8 | S4: 1 | T4: -1.4 | U4: 50 | V4: 0.23 | W4: 0.18 | X4: 0.62 | Y4: 1 | Z4: 1 | AA4: 2 | AB4: 0.7 | AC4: 6 | AD4: 0.5 | AE4: 0.16 | AF4: 0.004 | AG4: 0.59
A5: 14050_h3_sta.xml | B5: 2.5 | C5: 0 | D5: 0.02 | E5: =E2 -> 48.55845 | F5: 1000 | G5: 12.583446 | H5: 3 | I5: 1.26 | J5: 2 | K5: 1 | L5: 440 | M5: 800 | N5: -0.5 | O5: -0.55 | P5: 500 | Q5: 1.3 | R5: 0.8 | S5: 1 | T5: -1.4 | U5: 50 | V5: 0.23 | W5: 0.18 | X5: 0.62 | Y5: 1 | Z5: 1 | AA5: 2 | AB5: 0.7 | AC5: 6 | AD5: 0.5 | AE5: 0.16 | AF5: 0.004 | AG5: 0.59

Sheet liste_USMs
A1: Treatment | B1: Number_USM | C1: USM_1 | D1: USM_2 | E1: USM_3 | F1: USM_4 | G1: USM_5 | H1: USM_6 | I1: USM_7 | J1: USM_8 | K1: USM_9 | L1: USM_10 | M1: USM_11 | N1: USM_12 | O1: USM_13 | P1: USM_14 | Q1: USM_15 | R1: USM_16 | S1: USM_17 | T1: USM_18 | U1: USM_19 | V1: USM_20 | W1: USM_21 | X1: USM_22 | Y1: USM_23 | Z1: USM_24 | AA1: USM_25 | AB1: USM_26 | AC1: USM_27 | AD1: USM_28 | AE1: USM_29 | AF1: USM_30 | AG1: USM_31 | AH1: USM_32 | AI1: USM_33 | AJ1: USM_34 | AK1: USM_35 | AL1: USM_36 | AM1: USM_37 | AN1: USM_38 | AO1: USM_39 | AP1: USM_40 | AQ1: USM_41 | AR1: USM_42 | AS1: USM_43 | AT1: USM_44 | AU1: USM_45 | AV1: USM_46 | AW1: USM_47 | AX1: USM_48 | AY1: USM_49
A2: 781_1895-562_NGC25-1-2-BT-ref | B2: 49 | C2: 781_1895-562_NGC25-1-2-BT-NA-1973-BT | D2: 781_1895-562_NGC25-1-2-BT-NA-1974-rgi | E2: 781_1895-562_NGC25-1-2-BT-NA-1974-MF | F2: 781_1895-562_NGC25-1-2-BT-NA-1975-BT | G2: 781_1895-562_NGC25-1-2-BT-ref-1976-rgi | H2: 781_1895-562_NGC25-1-2-BT-ref-1976-MF | I2: 781_1895-562_NGC25-1-2-BT-ref-1977-BT | J2: 781_1895-562_NGC25-1-2-BT-ref-1978-rgi | K2: 781_1895-562_NGC25-1-2-BT-ref-1978-MF | L2: 781_1895-562_NGC25-1-2-BT-ref-1979-BT | M2: 781_1895-562_NGC25-1-2-BT-ref-1980-rgi | N2: 781_1895-562_NGC25-1-2-BT-ref-1980-MF | O2: 781_1895-562_NGC25-1-2-BT-ref-1981-BT | P2: 781_1895-562_NGC25-1-2-BT-ref-1982-rgi | Q2: 781_1895-562_NGC25-1-2-BT-ref-1982-MF | R2: 781_1895-562_NGC25-1-2-BT-ref-1983-BT | S2: 781_1895-562_NGC25-1-2-BT-ref-1984-rgi | T2: 781_1895-562_NGC25-1-2-BT-ref-1984-MF | U2: 781_1895-562_NGC25-1-2-BT-ref-1985-BT | V2: 781_1895-562_NGC25-1-2-BT-ref-1986-rgi | W2: 781_1895-562_NGC25-1-2-BT-ref-1986-MF | X2: 781_1895-562_NGC25-1-2-BT-ref-1987-BT | Y2: 781_1895-562_NGC25-1-2-BT-ref-1988-rgi | Z2: 781_1895-562_NGC25-1-2-BT-ref-1988-MF | AA2: 781_1895-562_NGC25-1-2-BT-ref-1989-BT | AB2: 781_1895-562_NGC25-1-2-BT-ref-1990-rgi | AC2: 781_1895-562_NGC25-1-2-BT-ref-1990-MF | AD2: 781_1895-562_NGC25-1-2-BT-ref-1991-BT | AE2: 781_1895-562_NGC25-1-2-BT-ref-1992-rgi | AF2: 781_1895-562_NGC25-1-2-BT-ref-1992-MF | AG2: 781_1895-562_NGC25-1-2-BT-ref-1993-BT | AH2: 781_1895-562_NGC25-1-2-BT-ref-1994-rgi | AI2: 781_1895-562_NGC25-1-2-BT-ref-1994-MF | AJ2: 781_1895-562_NGC25-1-2-BT-ref-1995-BT | AK2: 781_1895-562_NGC25-1-2-BT-ref-1996-rgi | AL2: 781_1895-562_NGC25-1-2-BT-ref-1996-MF | AM2: 781_1895-562_NGC25-1-2-BT-ref-1997-BT | AN2: 781_1895-562_NGC25-1-2-BT-ref-1998-rgi | AO2: 781_1895-562_NGC25-1-2-BT-ref-1998-MF | AP2: 781_1895-562_NGC25-1-2-BT-ref-1999-BT | AQ2: 781_1895-562_NGC25-1-2-BT-ref-2000-rgi | AR2: 781_1895-562_NGC25-1-2-BT-ref-2000-MF | AS2: 781_1895-562_NGC25-1-2-BT-ref-2001-BT | AT2: 781_1895-562_NGC25-1-2-BT-ref-2002-rgi | AU2: 781_1895-562_NGC25-1-2-BT-ref-2002-MF | AV2: 781_1895-562_NGC25-1-2-BT-ref-2003-BT | AW2: 781_1895-562_NGC25-1-2-BT-ref-2004-rgi | AX2: 781_1895-562_NGC25-1-2-BT-ref-2004-MF | AY2: 781_1895-562_NGC25-1-2-BT-ref-2005-BT
A3: 781_1895-562_NGC25-1-2-rgi-ref | B3: 49 | C3: 781_1895-562_NGC25-1-2-rgi-NA-1973-rgi | D3: 781_1895-562_NGC25-1-2-rgi-NA-1973-MF | E3: 781_1895-562_NGC25-1-2-rgi-NA-1974-BT | F3: 781_1895-562_NGC25-1-2-rgi-NA-1975-rgi | G3: 781_1895-562_NGC25-1-2-rgi-ref-1975-MF | H3: 781_1895-562_NGC25-1-2-rgi-ref-1976-BT | I3: 781_1895-562_NGC25-1-2-rgi-ref-1977-rgi | J3: 781_1895-562_NGC25-1-2-rgi-ref-1977-MF | K3: 781_1895-562_NGC25-1-2-rgi-ref-1978-BT | L3: 781_1895-562_NGC25-1-2-rgi-ref-1979-rgi | M3: 781_1895-562_NGC25-1-2-rgi-ref-1979-MF | N3: 781_1895-562_NGC25-1-2-rgi-ref-1980-BT | O3: 781_1895-562_NGC25-1-2-rgi-ref-1981-rgi | P3: 781_1895-562_NGC25-1-2-rgi-ref-1981-MF | Q3: 781_1895-562_NGC25-1-2-rgi-ref-1982-BT | R3: 781_1895-562_NGC25-1-2-rgi-ref-1983-rgi | S3: 781_1895-562_NGC25-1-2-rgi-ref-1983-MF | T3: 781_1895-562_NGC25-1-2-rgi-ref-1984-BT | U3: 781_1895-562_NGC25-1-2-rgi-ref-1985-rgi | V3: 781_1895-562_NGC25-1-2-rgi-ref-1985-MF | W3: 781_1895-562_NGC25-1-2-rgi-ref-1986-BT | X3: 781_1895-562_NGC25-1-2-rgi-ref-1987-rgi | Y3: 781_1895-562_NGC25-1-2-rgi-ref-1987-MF | Z3: 781_1895-562_NGC25-1-2-rgi-ref-1988-BT | AA3: 781_1895-562_NGC25-1-2-rgi-ref-1989-rgi | AB3: 781_1895-562_NGC25-1-2-rgi-ref-1989-MF | AC3: 781_1895-562_NGC25-1-2-rgi-ref-1990-BT | AD3: 781_1895-562_NGC25-1-2-rgi-ref-1991-rgi | AE3: 781_1895-562_NGC25-1-2-rgi-ref-1991-MF | AF3: 781_1895-562_NGC25-1-2-rgi-ref-1992-BT | AG3: 781_1895-562_NGC25-1-2-rgi-ref-1993-rgi | AH3: 781_1895-562_NGC25-1-2-rgi-ref-1993-MF | AI3: 781_1895-562_NGC25-1-2-rgi-ref-1994-BT | AJ3: 781_1895-562_NGC25-1-2-rgi-ref-1995-rgi | AK3: 781_1895-562_NGC25-1-2-rgi-ref-1995-MF | AL3: 781_1895-562_NGC25-1-2-rgi-ref-1996-BT | AM3: 781_1895-562_NGC25-1-2-rgi-ref-1997-rgi | AN3: 781_1895-562_NGC25-1-2-rgi-ref-1997-MF | AO3: 781_1895-562_NGC25-1-2-rgi-ref-1998-BT | AP3: 781_1895-562_NGC25-1-2-rgi-ref-1999-rgi | AQ3: 781_1895-562_NGC25-1-2-rgi-ref-1999-MF | AR3: 781_1895-562_NGC25-1-2-rgi-ref-2000-BT | AS3: 781_1895-562_NGC25-1-2-rgi-ref-2001-rgi | AT3: 781_1895-562_NGC25-1-2-rgi-ref-2001-MF | AU3: 781_1895-562_NGC25-1-2-rgi-ref-2002-BT | AV3: 781_1895-562_NGC25-1-2-rgi-ref-2003-rgi | AW3: 781_1895-562_NGC25-1-2-rgi-ref-2003-MF | AX3: 781_1895-562_NGC25-1-2-rgi-ref-2004-BT | AY3: 781_1895-562_NGC25-1-2-rgi-ref-2005-rgi
