Workbook

Sheet Liste_plantes
A1: Nom_plante | B1: Code_plante | C1: Fichier_plante_STICS
A2: sol nu | B2: sn | C2: baresoil_plt.xml
A3: maïs fourrage | B3: MF | C3: corn_plt.xml
A4: prairie | B4: PrT | C4: grass_plt.xml
A5: blé tendre | B5: BT | C5: wheat_plt.xml
A6: orge d'hiver | B6: OH | C6: winter_barley_plt.xml
A7: ray grass d'Italie | B7: rgi | C7: ItalianRyegrass_CoverCrop_plt.xml

Sheet Liste_engrais
A1: type de fertilisant | B1: Num_engrais_STICS
A2: ammonitrate 33.5% | B2: 1
A3: Solution azotée 390g/l | B3: 2
A4: urée 46% | B4: 3
A5: Solufix N 36%-SO3 10.9% | B5: 5

Sheet representation
C2: début usm | D2: labour | E2: semis | F2: ammonitrate (43,3 kgN/ha) | G2: ammonitrate (43,3 kgN/ha) | H2: ammonitrate (43,3 kgN/ha) | I2: récolte butoire | J2: déchaumage | K2: fin usm
A3: blé | B3: sur 2 années | C3: 44927 | D3: 45233 | E3: 45234 | F3: 44969 | G3: 45008 | H3: 45041 | I3: 45152 | J3: 45153 | K3: =J3 -> 45153
C4: 1 | D4: 308 | E4: 309 | F4: =365+43 -> 408 | G4: =365+83 -> 448 | H4: =365+116 -> 481 | I4: =365+227 -> 592 | J4: 593 | K4: 593
C5: début usm | D5: semis | E5: destruction | F5: labour | G5: fin usm
A6: rgi | B6: à cheval sur 2 années | C6: =K3+1 -> 45154 | D6: 45174 | E6: 44992 | F6: 44993 | G6: 44993
C7: 229 | D7: 249 | E7: =365+67 -> 432 | F7: 433 | G7: 433
C8: début usm | D8: 25 t/ha fumier bovin + 20m3/ha lisier bovin | E8: enfouissement | F8: reprise | G8: prep. lit de sem. | H8: semis | I8: récolte butoire | J8: fin usm
A9: maïs fourrage | B9: sur 1 année | C9: 44994 | D9: 44994 | E9: 44994 | F9: 45016 | G9: 45032 | H9: 45036 | I9: 45200 | J9: =I9 -> 45200
C10: 68 | D10: 69 | E10: 69 | F10: 91 | G10: 107 | H10: 111 | I10: 275 | J10: 275
C11: début usm | D11: labour | E11: semis | F11: ammonitrate (43,3 kgN/ha) | G11: ammonitrate (43,3 kgN/ha) | H11: ammonitrate (43,3 kgN/ha) | I11: récolte butoire | J11: déchaumage | K11: fin usm
A12: blé | B12: sur 2 années | C12: =J9+1 -> 45201 | D12: 45233 | E12: 45234 | F12: 44969 | G12: 45008 | H12: 45041 | I12: 45152 | J12: 45153 | K12: =J12 -> 45153
C13: 276 | D13: 308 | E13: 309 | F13: =365+43 -> 408 | G13: =365+83 -> 448 | H13: =365+116 -> 481 | I13: =365+227 -> 592 | J13: 593 | K13: 593
A15: Notes :
A16: La date de semis du maïs, fixée au 01 mai est avancée au 20/04 selon l'expertise d'Anne Briend de la CRAB
A17: La date de récolte butoire est avancée au 01 octobre
A18: La date de récolte butoire du blé est peut être à avancer à début août

Sheet USMs
A1: modele_clim | B1: abbrev_modele_clim | C1: rcp | D1: maille_safran | E1: maille_drias | F1: upc | G1: num_sol | H1: Norg_sols | I1: nom_sol_sans_point | J1: systeme | K1: rotation | L1: code_rotation | M1: tete_rotation | N1: horizon | O1: annee_debut | P1: annee_fin | Q1: culture | R1: verif | S1: id_simu | T1: usm_name | U1: Début | V1: Fin | W1: vérif | X1: datedebut | Y1: datefin | Z1: finit | AA1: nomsol | AB1: fstation | AC1: fclim1 | AD1: fclim2 | AE1: culturean | AF1: nbplantes | AG1: codesimul | AH1: fplt_1 | AI1: ftec_1 | AJ1: flai_1 | AK1: fplt_2 | AL1: ftec_2 | AM1: flai_2
A2: cnrm-cm5-aladin63 | B2: cca | C2: 8.5 | D2: 1895 | E2: 14050 | F2: 781_1895 | G2: 330562 | H2: 0.1574 | I2: 562_NGC25 | J2: 1 | K2: BT_ci_MF | L2: 2 | M2: BT | N2: NA | O2: 1972 | P2: =IF(Q2="maïs fourrage",O2,O2+1) -> 1973 | Q2: blé tendre | S2: =CONCATENATE(F2,"-",I2,"-",J2,"-",L2,"-",M2,"-",N2) -> 781_1895-562_NGC25-1-2-BT-NA | T2: =CONCATENATE(F2,"-",I2,"-",J2,"-",L2,"-",M2,"-",N2,"-",P2,"-",VLOOKUP(Q2,Liste_plantes!$A$2:$B$7,2,FALSE)) -> 781_1895-562_NGC25-1-2-BT-NA-1973-BT | U2: 26575 | V2: =IF(Q2="blé tendre",CONCATENATE("15/08/",P2),IF(Q2="ray grass d'Italie",CONCATENATE("08/03/",P2),IF(Q2="maïs fourrage",CONCATENATE("01/10/",P2),"pb"))) -> 15/08/1973 | X2: =U2-DATE($O2,1,1)+1 -> 277 | Y2: =V2-DATE($O2,1,1)+1 -> 593 | Z2: snu_ini.xml | AA2: =CONCATENATE(G2,"_",H2) -> 330562_0.1574 | AB2: =AB6 -> 14050_ref_sta.xml | AC2: =CONCATENATE($E2,".",YEAR(U2)) -> 14050.1972 | AD2: =CONCATENATE($E2,".",YEAR(V2)) -> 14050.1973 | AE2: =IF(YEAR(V2)=YEAR(U2),1,2) -> 2 | AF2: 1 | AG2: 0 | AH2: =VLOOKUP(Q2,Liste_plantes!$A$2:$C$7,3,FALSE) -> wheat_plt.xml | AI2: =CONCATENATE(J2,"-",L2,"-",VLOOKUP(Q2,Liste_plantes!$A$2:$B$7,2,FALSE),"_tec.xml") -> 1-2-BT_tec.xml | AJ2: null | AK2: null | AL2: null | AM2: null
A3: =A2 -> cnrm-cm5-aladin63 | B3: =B2 -> cca | C3: =C2 -> 8.5 | D3: =D2 -> 1895 | E3: =E2 -> 14050 | F3: =F2 -> 781_1895 | G3: =G2 -> 330562 | H3: =H2 -> 0.1574 | ... N3: =N2 -> NA | O3: =IF(Q2="maïs fourrage",O2,O2+1) -> 1973 | P3: =IF(Q3="maïs fourrage",O3,O3+1) -> 1974 | Q3: ray grass d'Italie | R3: =IF(OR(AND(Q3="ray grass d'Italie",Q2="blé tendre"),AND(Q3="maïs fourrage",Q2="ray grass d'Italie"),AND(Q3="blé tendre",Q2="maïs fourrage")),"ok","pb") -> ok | S3: =CONCATENATE(F3,"-",I3,"-",J3,"-",L3,"-",M3,"-",N3) -> 781_1895-562_NGC25-1-2-BT-NA | T3: =CONCATENATE(F3,"-",I3,"-",J3,"-",L3,"-",M3,"-",N3,"-",P3,"-",VLOOKUP(Q3,Liste_plantes!$A$2:$B$7,2,FALSE)) -> 781_1895-562_NGC25-1-2-BT-NA-1974-rgi | U3: =V2+1 -> 26892 | V3: =IF(Q3="blé tendre",CONCATENATE("15/08/",P3),IF(Q3="ray grass d'Italie",CONCATENATE("08/03/",P3),IF(Q3="maïs fourrage",CONCATENATE("01/10/",P3),"pb"))) -> 08/03/1974 | W3: =IF(OR(YEAR(U3)=1978,(U3-V2)=1),"OK","!!!") -> OK | X3: =U3-DATE($O3,1,1)+1 -> 228 | Y3: =V3-DATE($O3,1,1)+1 -> 432 | Z3: =IF(AND(Q2="prairie",Q3="prairie"),"prairie_ini.xml","snu_ini.xml") -> snu_ini.xml | AA3: =CONCATENATE(G3,"_",H3) -> 330562_0.1574 | AB3: =AB7 -> 14050_ref_sta.xml | AC3: =CONCATENATE($E3,".",YEAR(U3)) -> 14050.1973 | AD3: =CONCATENATE($E3,".",YEAR(V3)) -> 14050.1974 | AE3: =IF(YEAR(V3)=YEAR(U3),1,2) -> 2 | AF3: 1 | AG3: 0 | AH3: =VLOOKUP(Q3,Liste_plantes!$A$2:$C$7,3,FALSE) -> ItalianRyegrass_CoverCrop_plt.xml | AI3: =CONCATENATE(J3,"-",L3,"-",VLOOKUP(Q3,Liste_plantes!$A$2:$B$7,2,FALSE),"_tec.xml") -> 1-2-rgi_tec.xml | AJ3: null | AK3: null | AL3: null | AM3: null
A4: =A3 -> cnrm-cm5-aladin63 | B4: =B3 -> cca | C4: =C3 -> 8.5 | D4: =D3 -> 1895 | E4: =E3 -> 14050 | F4: =F3 -> 781_1895 | G4: =G3 -> 330562 | H4: =H3 -> 0.1574 | ... N4: =N3 -> NA | O4: =IF(Q3="maïs fourrage",O3,O3+1) -> 1974 | P4: =IF(Q4="maïs fourrage",O4,O4+1) -> 1974 | Q4: maïs fourrage | R4: =IF(OR(AND(Q4="ray grass d'Italie",Q3="blé tendre"),AND(Q4="maïs fourrage",Q3="ray grass d'Italie"),AND(Q4="blé tendre",Q3="maïs fourrage")),"ok","pb") -> ok | S4: =CONCATENATE(F4,"-",I4,"-",J4,"-",L4,"-",M4,"-",N4) -> 781_1895-562_NGC25-1-2-BT-NA | T4: =CONCATENATE(F4,"-",I4,"-",J4,"-",L4,"-",M4,"-",N4,"-",P4,"-",VLOOKUP(Q4,Liste_plantes!$A$2:$B$7,2,FALSE)) -> 781_1895-562_NGC25-1-2-BT-NA-1974-MF | U4: =V3+1 -> 27097 | V4: =IF(Q4="blé tendre",CONCATENATE("15/08/",P4),IF(Q4="ray grass d'Italie",CONCATENATE("08/03/",P4),IF(Q4="maïs fourrage",CONCATENATE("01/10/",P4),"pb"))) -> 01/10/1974 | W4: =IF(OR(YEAR(U4)=1978,(U4-V3)=1),"OK","!!!") -> OK | X4: =U4-DATE($O4,1,1)+1 -> 68 | Y4: =V4-DATE($O4,1,1)+1 -> 274 | Z4: =IF(AND(Q3="prairie",Q4="prairie"),"prairie_ini.xml","snu_ini.xml") -> snu_ini.xml | AA4: =CONCATENATE(G4,"_",H4) -> 330562_0.1574 | AB4: =AB8 -> 14050_ref_sta.xml | AC4: =CONCATENATE($E4,".",YEAR(U4)) -> 14050.1974 | AD4: =CONCATENATE($E4,".",YEAR(V4)) -> 14050.1974 | AE4: =IF(YEAR(V4)=YEAR(U4),1,2) -> 1 | AF4: 1 | AG4: 0 | AH4: =VLOOKUP(Q4,Liste_plantes!$A$2:$C$7,3,FALSE) -> corn_plt.xml | AI4: =CONCATENATE(J4,"-",L4,"-",VLOOKUP(Q4,Liste_plantes!$A$2:$B$7,2,FALSE),"_tec.xml") -> 1-2-MF_tec.xml | AJ4: null | AK4: null | AL4: null | AM4: null
A5: =A4 -> cnrm-cm5-aladin63 | B5: =B4 -> cca | C5: =C4 -> 8.5 | D5: =D4 -> 1895 | E5: =E4 -> 14050 | F5: =F4 -> 781_1895 | G5: =G4 -> 330562 | H5: =H4 -> 0.1574 | ... M5: =M4 -> BT | N5: NA | O5: =IF(Q4="maïs fourrage",O4,O4+1) -> 1974 | P5: =IF(Q5="maïs fourrage",O5,O5+1) -> 1975 | Q5: =Q2 -> blé tendre | R5: =IF(OR(AND(Q5="ray grass d'Italie",Q4="blé tendre"),AND(Q5="maïs fourrage",Q4="ray grass d'Italie"),AND(Q5="blé tendre",Q4="maïs fourrage")),"ok","pb") -> ok | S5: =CONCATENATE(F5,"-",I5,"-",J5,"-",L5,"-",M5,"-",N5) -> 781_1895-562_NGC25-1-2-BT-NA | T5: =CONCATENATE(F5,"-",I5,"-",J5,"-",L5,"-",M5,"-",N5,"-",P5,"-",VLOOKUP(Q5,Liste_plantes!$A$2:$B$7,2,FALSE)) -> 781_1895-562_NGC25-1-2-BT-NA-1975-BT | U5: =V4+1 -> 27304 | V5: =IF(Q5="blé tendre",CONCATENATE("15/08/",P5),IF(Q5="ray grass d'Italie",CONCATENATE("08/03/",P5),IF(Q5="maïs fourrage",CONCATENATE("01/10/",P5),"pb"))) -> 15/08/1975 | W5: =IF(OR(YEAR(U5)=1978,(U5-V4)=1),"OK","!!!") -> OK | X5: =U5-DATE($O5,1,1)+1 -> 275 | Y5: =V5-DATE($O5,1,1)+1 -> 592 | Z5: =IF(AND(Q4="prairie",Q5="prairie"),"prairie_ini.xml","snu_ini.xml") -> snu_ini.xml | AA5: =CONCATENATE(G5,"_",H5) -> 330562_0.1574 | AB5: =AB9 -> 14050_ref_sta.xml | AC5: =CONCATENATE($E5,".",YEAR(U5)) -> 14050.1974 | AD5: =CONCATENATE($E5,".",YEAR(V5)) -> 14050.1975 | AE5: =IF(YEAR(V5)=YEAR(U5),1,2) -> 2 | AF5: 1 | AG5: 0 | AH5: =VLOOKUP(Q5,Liste_plantes!$A$2:$C$7,3,FALSE) -> wheat_plt.xml | AI5: =CONCATENATE(J5,"-",L5,"-",VLOOKUP(Q5,Liste_plantes!$A$2:$B$7,2,FALSE),"_tec.xml") -> 1-2-BT_tec.xml | AJ5: null | AK5: null | AL5: null | AM5: null
A6: =A5 -> cnrm-cm5-aladin63 | B6: =B5 -> cca | C6: =C5 -> 8.5 | D6: =D5 -> 1895 | E6: =E5 -> 14050 | F6: =F5 -> 781_1895 | G6: =G5 -> 330562 | H6: =H5 -> 0.1574 | ... M6: =M5 -> BT | N6: ref | O6: =IF(Q5="maïs fourrage",O5,O5+1) -> 1975 | P6: =IF(Q6="maïs fourrage",O6,O6+1) -> 1976 | Q6: =Q3 -> ray grass d'Italie | R6: =IF(OR(AND(Q6="ray grass d'Italie",Q5="blé tendre"),AND(Q6="maïs fourrage",Q5="ray grass d'Italie"),AND(Q6="blé tendre",Q5="maïs fourrage")),"ok","pb") -> ok | S6: =CONCATENATE(F6,"-",I6,"-",J6,"-",L6,"-",M6,"-",N6) -> 781_1895-562_NGC25-1-2-BT-ref | T6: =CONCATENATE(F6,"-",I6,"-",J6,"-",L6,"-",M6,"-",N6,"-",P6,"-",VLOOKUP(Q6,Liste_plantes!$A$2:$B$7,2,FALSE)) -> 781_1895-562_NGC25-1-2-BT-ref-1976-rgi | U6: =V5+1 -> 27622 | V6: =IF(Q6="blé tendre",CONCATENATE("15/08/",P6),IF(Q6="ray grass d'Italie",CONCATENATE("08/03/",P6),IF(Q6="maïs fourrage",CONCATENATE("01/10/",P6),"pb"))) -> 08/03/1976 | W6: =IF(OR(YEAR(U6)=1978,(U6-V5)=1),"OK","!!!") -> OK | X6: =U6-DATE($O6,1,1)+1 -> 228 | Y6: =V6-DATE($O6,1,1)+1 -> 433 | Z6: =IF(AND(Q5="prairie",Q6="prairie"),"prairie_ini.xml","snu_ini.xml") -> snu_ini.xml | AA6: =CONCATENATE(G6,"_",H6) -> 330562_0.1574 | AB6: =CONCATENATE($E6,"_",N6,"_sta.xml") -> 14050_ref_sta.xml | AC6: =CONCATENATE($E6,".",YEAR(U6)) -> 14050.1975 | AD6: =CONCATENATE($E6,".",YEAR(V6)) -> 14050.1976 | AE6: =IF(YEAR(V6)=YEAR(U6),1,2) -> 2 | AF6: 1 | AG6: 0 | AH6: =VLOOKUP(Q6,Liste_plantes!$A$2:$C$7,3,FALSE) -> ItalianRyegrass_CoverCrop_plt.xml | AI6: =CONCATENATE(J6,"-",L6,"-",VLOOKUP(Q6,Liste_plantes!$A$2:$B$7,2,FALSE),"_tec.xml") -> 1-2-rgi_tec.xml | AJ6: null | AK6: null | AL6: null | AM6: null
A7: =A6 -> cnrm-cm5-aladin63 | B7: =B6 -> cca | C7: =C6 -> 8.5 | D7: =D6 -> 1895 | E7: =E6 -> 14050 | F7: =F6 -> 781_1895 | G7: =G6 -> 330562 | H7: =H6 -> 0.1574 | ... N7: =N6 -> ref | O7: =IF(Q6="maïs fourrage",O6,O6+1) -> 1976 | P7: =IF(Q7="maïs fourrage",O7,O7+1) -> 1976 | Q7: =Q4 -> maïs fourrage | R7: =IF(OR(AND(Q7="ray grass d'Italie",Q6="blé tendre"),AND(Q7="maïs fourrage",Q6="ray grass d'Italie"),AND(Q7="blé tendre",Q6="maïs fourrage")),"ok","pb") -> ok | S7: =CONCATENATE(F7,"-",I7,"-",J7,"-",L7,"-",M7,"-",N7) -> 781_1895-562_NGC25-1-2-BT-ref | T7: =CONCATENATE(F7,"-",I7,"-",J7,"-",L7,"-",M7,"-",N7,"-",P7,"-",VLOOKUP(Q7,Liste_plantes!$A$2:$B$7,2,FALSE)) -> 781_1895-562_NGC25-1-2-BT-ref-1976-MF | U7: =V6+1 -> 27828 | V7: =IF(Q7="blé tendre",CONCATENATE("15/08/",P7),IF(Q7="ray grass d'Italie",CONCATENATE("08/03/",P7),IF(Q7="maïs fourrage",CONCATENATE("01/10/",P7),"pb"))) -> 01/10/1976 | W7: =IF(OR(YEAR(U7)=1978,(U7-V6)=1),"OK","!!!") -> OK | X7: =U7-DATE($O7,1,1)+1 -> 69 | Y7: =V7-DATE($O7,1,1)+1 -> 275 | Z7: =IF(AND(Q6="prairie",Q7="prairie"),"prairie_ini.xml","snu_ini.xml") -> snu_ini.xml | AA7: =CONCATENATE(G7,"_",H7) -> 330562_0.1574 | AB7: =CONCATENATE($E7,"_",N7,"_sta.xml") -> 14050_ref_sta.xml | AC7: =CONCATENATE($E7,".",YEAR(U7)) -> 14050.1976 | AD7: =CONCATENATE($E7,".",YEAR(V7)) -> 14050.1976 | AE7: =IF(YEAR(V7)=YEAR(U7),1,2) -> 1 | AF7: 1 | AG7: 0 | AH7: =VLOOKUP(Q7,Liste_plantes!$A$2:$C$7,3,FALSE) -> corn_plt.xml | AI7: =CONCATENATE(J7,"-",L7,"-",VLOOKUP(Q7,Liste_plantes!$A$2:$B$7,2,FALSE),"_tec.xml") -> 1-2-MF_tec.xml | AJ7: null | AK7: null | AL7: null | AM7: null
A8: =A7 -> cnrm-cm5-aladin63 | B8: =B7 -> cca | C8: =C7 -> 8.5 | D8: =D7 -> 1895 | E8: =E7 -> 14050 | F8: =F7 -> 781_1895 | G8: =G7 -> 330562 | H8: =H7 -> 0.1574 | ... N8: =N7 -> ref | O8: =IF(Q7="maïs fourrage",O7,O7+1) -> 1976 | P8: =IF(Q8="maïs fourrage",O8,O8+1) -> 1977 | Q8: =Q5 -> blé tendre | R8: =IF(OR(AND(Q8="ray grass d'Italie",Q7="blé tendre"),AND(Q8="maïs fourrage",Q7="ray grass d'Italie"),AND(Q8="blé tendre",Q7="maïs fourrage")),"ok","pb") -> ok | S8: =CONCATENATE(F8,"-",I8,"-",J8,"-",L8,"-",M8,"-",N8) -> 781_1895-562_NGC25-1-2-BT-ref | T8: =CONCATENATE(F8,"-",I8,"-",J8,"-",L8,"-",M8,"-",N8,"-",P8,"-",VLOOKUP(Q8,Liste_plantes!$A$2:$B$7,2,FALSE)) -> 781_1895-562_NGC25-1-2-BT-ref-1977-BT | U8: =V7+1 -> 28035 | V8: =IF(Q8="blé tendre",CONCATENATE("15/08/",P8),IF(Q8="ray grass d'Italie",CONCATENATE("08/03/",P8),IF(Q8="maïs fourrage",CONCATENATE("01/10/",P8),"pb"))) -> 15/08/1977 | W8: =IF(OR(YEAR(U8)=1978,(U8-V7)=1),"OK","!!!") -> OK | X8: =U8-DATE($O8,1,1)+1 -> 276 | Y8: =V8-DATE($O8,1,1)+1 -> 593 | Z8: =IF(AND(Q7="prairie",Q8="prairie"),"prairie_ini.xml","snu_ini.xml") -> snu_ini.xml | AA8: =CONCATENATE(G8,"_",H8) -> 330562_0.1574 | AB8: =CONCATENATE($E8,"_",N8,"_sta.xml") -> 14050_ref_sta.xml | AC8: =CONCATENATE($E8,".",YEAR(U8)) -> 14050.1976 | AD8: =CONCATENATE($E8,".",YEAR(V8)) -> 14050.1977 | AE8: =IF(YEAR(V8)=YEAR(U8),1,2) -> 2 | AF8: 1 | AG8: 0 | AH8: =VLOOKUP(Q8,Liste_plantes!$A$2:$C$7,3,FALSE) -> wheat_plt.xml | AI8: =CONCATENATE(J8,"-",L8,"-",VLOOKUP(Q8,Liste_plantes!$A$2:$B$7,2,FALSE),"_tec.xml") -> 1-2-BT_tec.xml | AJ8: null | AK8: null | AL8: null | AM8: null
A9: =A8 -> cnrm-cm5-aladin63 | B9: =B8 -> cca | C9: =C8 -> 8.5 | D9: =D8 -> 1895 | E9: =E8 -> 14050 | F9: =F8 -> 781_1895 | G9: =G8 -> 330562 | H9: =H8 -> 0.1574 | ... N9: =N8 -> ref | O9: =IF(Q8="maïs fourrage",O8,O8+1) -> 1977 | P9: =IF(Q9="maïs fourrage",O9,O9+1) -> 1978 | Q9: =Q6 -> ray grass d'Italie | R9: =IF(OR(AND(Q9="ray grass d'Italie",Q8="blé tendre"),AND(Q9="maïs fourrage",Q8="ray grass d'Italie"),AND(Q9="blé tendre",Q8="maïs fourrage")),"ok","pb") -> ok | S9: =CONCATENATE(F9,"-",I9,"-",J9,"-",L9,"-",M9,"-",N9) -> 781_1895-562_NGC25-1-2-BT-ref | T9: =CONCATENATE(F9,"-",I9,"-",J9,"-",L9,"-",M9,"-",N9,"-",P9,"-",VLOOKUP(Q9,Liste_plantes!$A$2:$B$7,2,FALSE)) -> 781_1895-562_NGC25-1-2-BT-ref-1978-rgi | U9: =V8+1 -> 28353 | V9: =IF(Q9="blé tendre",CONCATENATE("15/08/",P9),IF(Q9="ray grass d'Italie",CONCATENATE("08/03/",P9),IF(Q9="maïs fourrage",CONCATENATE("01/10/",P9),"pb"))) -> 08/03/1978 | W9: =IF(OR(YEAR(U9)=1978,(U9-V8)=1),"OK","!!!") -> OK | X9: =U9-DATE($O9,1,1)+1 -> 228 | Y9: =V9-DATE($O9,1,1)+1 -> 432 | Z9: =IF(AND(Q8="prairie",Q9="prairie"),"prairie_ini.xml","snu_ini.xml") -> snu_ini.xml | AA9: =CONCATENATE(G9,"_",H9) -> 330562_0.1574 | AB9: =CONCATENATE($E9,"_",N9,"_sta.xml") -> 14050_ref_sta.xml | AC9: =CONCATENATE($E9,".",YEAR(U9)) -> 14050.1977 | AD9: =CONCATENATE($E9,".",YEAR(V9)) -> 14050.1978 | AE9: =IF(YEAR(V9)=YEAR(U9),1,2) -> 2 | AF9: 1 | AG9: 0 | AH9: =VLOOKUP(Q9,Liste_plantes!$A$2:$C$7,3,FALSE) -> ItalianRyegrass_CoverCrop_plt.xml | AI9: =CONCATENATE(J9,"-",L9,"-",VLOOKUP(Q9,Liste_plantes!$A$2:$B$7,2,FALSE),"_tec.xml") -> 1-2-rgi_tec.xml | AJ9: null | AK9: null | AL9: null | AM9: null
A10: =A9 -> cnrm-cm5-aladin63 | B10: =B9 -> cca | C10: =C9 -> 8.5 | D10: =D9 -> 1895 | E10: =E9 -> 14050 | F10: =F9 -> 781_1895 | G10: =G9 -> 330562 | H10: =H9 -> 0.1574 | ... N10: =N9 -> ref | O10: =IF(Q9="maïs fourrage",O9,O9+1) -> 1978 | P10: =IF(Q10="maïs fourrage",O10,O10+1) -> 1978 | Q10: =Q7 -> maïs fourrage | R10: =IF(OR(AND(Q10="ray grass d'Italie",Q9="blé tendre"),AND(Q10="maïs fourrage",Q9="ray grass d'Italie"),AND(Q10="blé tendre",Q9="maïs fourrage")),"ok","pb") -> ok | S10: =CONCATENATE(F10,"-",I10,"-",J10,"-",L10,"-",M10,"-",N10) -> 781_1895-562_NGC25-1-2-BT-ref | T10: =CONCATENATE(F10,"-",I10,"-",J10,"-",L10,"-",M10,"-",N10,"-",P10,"-",VLOOKUP(Q10,Liste_plantes!$A$2:$B$7,2,FALSE)) -> 781_1895-562_NGC25-1-2-BT-ref-1978-MF | U10: =V9+1 -> 28558 | V10: =IF(Q10="blé tendre",CONCATENATE("15/08/",P10),IF(Q10="ray grass d'Italie",CONCATENATE("08/03/",P10),IF(Q10="maïs fourrage",CONCATENATE("01/10/",P10),"pb"))) -> 01/10/1978 | W10: =IF(OR(YEAR(U10)=1978,(U10-V9)=1),"OK","!!!") -> OK | X10: =U10-DATE($O10,1,1)+1 -> 68 | Y10: =V10-DATE($O10,1,1)+1 -> 274 | Z10: =IF(AND(Q9="prairie",Q10="prairie"),"prairie_ini.xml","snu_ini.xml") -> snu_ini.xml | AA10: =CONCATENATE(G10,"_",H10) -> 330562_0.1574 | AB10: =CONCATENATE($E10,"_",N10,"_sta.xml") -> 14050_ref_sta.xml | AC10: =CONCATENATE($E10,".",YEAR(U10)) -> 14050.1978 | AD10: =CONCATENATE($E10,".",YEAR(V10)) -> 14050.1978 | AE10: =IF(YEAR(V10)=YEAR(U10),1,2) -> 1 | AF10: 1 | AG10: 0 | AH10: =VLOOKUP(Q10,Liste_plantes!$A$2:$C$7,3,FALSE) -> corn_plt.xml | AI10: =CONCATENATE(J10,"-",L10,"-",VLOOKUP(Q10,Liste_plantes!$A$2:$B$7,2,FALSE),"_tec.xml") -> 1-2-MF_tec.xml | AJ10: null | AK10: null | AL10: null | AM10: null
A11: =A10 -> cnrm-cm5-aladin63 | B11: =B10 -> cca | C11: =C10 -> 8.5 | D11: =D10 -> 1895 | E11: =E10 -> 14050 | F11: =F10 -> 781_1895 | G11: =G10 -> 330562 | H11: =H10 -> 0.1574 | ... N11: =N10 -> ref | O11: =IF(Q10="maïs fourrage",O10,O10+1) -> 1978 | P11: =IF(Q11="maïs fourrage",O11,O11+1) -> 1979 | Q11: =Q8 -> blé tendre | R11: =IF(OR(AND(Q11="ray grass d'Italie",Q10="blé tendre"),AND(Q11="maïs fourrage",Q10="ray grass d'Italie"),AND(Q11="blé tendre",Q10="maïs fourrage")),"ok","pb") -> ok | S11: =CONCATENATE(F11,"-",I11,"-",J11,"-",L11,"-",M11,"-",N11) -> 781_1895-562_NGC25-1-2-BT-ref | T11: =CONCATENATE(F11,"-",I11,"-",J11,"-",L11,"-",M11,"-",N11,"-",P11,"-",VLOOKUP(Q11,Liste_plantes!$A$2:$B$7,2,FALSE)) -> 781_1895-562_NGC25-1-2-BT-ref-1979-BT | U11: =V10+1 -> 28765 | V11: =IF(Q11="blé tendre",CONCATENATE("15/08/",P11),IF(Q11="ray grass d'Italie",CONCATENATE("08/03/",P11),IF(Q11="maïs fourrage",CONCATENATE("01/10/",P11),"pb"))) -> 15/08/1979 | W11: =IF(OR(YEAR(U11)=1978,(U11-V10)=1),"OK","!!!") -> OK | X11: =U11-DATE($O11,1,1)+1 -> 275 | Y11: =V11-DATE($O11,1,1)+1 -> 592 | Z11: =IF(AND(Q10="prairie",Q11="prairie"),"prairie_ini.xml","snu_ini.xml") -> snu_ini.xml | AA11: =CONCATENATE(G11,"_",H11) -> 330562_0.1574 | AB11: =CONCATENATE($E11,"_",N11,"_sta.xml") -> 14050_ref_sta.xml | AC11: =CONCATENATE($E11,".",YEAR(U11)) -> 14050.1978 | AD11: =CONCATENATE($E11,".",YEAR(V11)) -> 14050.1979 | AE11: =IF(YEAR(V11)=YEAR(U11),1,2) -> 2 | AF11: 1 | AG11: 0 | AH11: =VLOOKUP(Q11,Liste_plantes!$A$2:$C$7,3,FALSE) -> wheat_plt.xml | AI11: =CONCATENATE(J11,"-",L11,"-",VLOOKUP(Q11,Liste_plantes!$A$2:$B$7,2,FALSE),"_tec.xml") -> 1-2-BT_tec.xml | AJ11: null | AK11: null | AL11: null | AM11: null
A12: =A11 -> cnrm-cm5-aladin63 | B12: =B11 -> cca | C12: =C11 -> 8.5 | D12: =D11 -> 1895 | E12: =E11 -> 14050 | F12: =F11 -> 781_1895 | G12: =G11 -> 330562 | H12: =H11 -> 0.1574 | ... N12: =N11 -> ref | O12: =IF(Q11="maïs fourrage",O11,O11+1) -> 1979 | P12: =IF(Q12="maïs fourrage",O12,O12+1) -> 1980 | Q12: =Q9 -> ray grass d'Italie | R12: =IF(OR(AND(Q12="ray grass d'Italie",Q11="blé tendre"),AND(Q12="maïs fourrage",Q11="ray grass d'Italie"),AND(Q12="blé tendre",Q11="maïs fourrage")),"ok","pb") -> ok | S12: =CONCATENATE(F12,"-",I12,"-",J12,"-",L12,"-",M12,"-",N12) -> 781_1895-562_NGC25-1-2-BT-ref | T12: =CONCATENATE(F12,"-",I12,"-",J12,"-",L12,"-",M12,"-",N12,"-",P12,"-",VLOOKUP(Q12,Liste_plantes!$A$2:$B$7,2,FALSE)) -> 781_1895-562_NGC25-1-2-BT-ref-1980-rgi | U12: =V11+1 -> 29083 | V12: =IF(Q12="blé tendre",CONCATENATE("15/08/",P12),IF(Q12="ray grass d'Italie",CONCATENATE("08/03/",P12),IF(Q12="maïs fourrage",CONCATENATE("01/10/",P12),"pb"))) -> 08/03/1980 | W12: =IF(OR(YEAR(U12)=1978,(U12-V11)=1),"OK","!!!") -> OK | X12: =U12-DATE($O12,1,1)+1 -> 228 | Y12: =V12-DATE($O12,1,1)+1 -> 433 | Z12: =IF(AND(Q11="prairie",Q12="prairie"),"prairie_ini.xml","snu_ini.xml") -> snu_ini.xml | AA12: =CONCATENATE(G12,"_",H12) -> 330562_0.1574 | AB12: =CONCATENATE($E12,"_",N12,"_sta.xml") -> 14050_ref_sta.xml | AC12: =CONCATENATE($E12,".",YEAR(U12)) -> 14050.1979 | AD12: =CONCATENATE($E12,".",YEAR(V12)) -> 14050.1980 | AE12: =IF(YEAR(V12)=YEAR(U12),1,2) -> 2 | AF12: 1 | AG12: 0 | AH12: =VLOOKUP(Q12,Liste_plantes!$A$2:$C$7,3,FALSE) -> ItalianRyegrass_CoverCrop_plt.xml | AI12: =CONCATENATE(J12,"-",L12,"-",VLOOKUP(Q12,Liste_plantes!$A$2:$B$7,2,FALSE),"_tec.xml") -> 1-2-rgi_tec.xml | AJ12: null | AK12: null | AL12: null | AM12: null
A13: =A12 -> cnrm-cm5-aladin63 | B13: =B12 -> cca | C13: =C12 -> 8.5 | D13: =D12 -> 1895 | E13: =E12 -> 14050 | F13: =F12 -> 781_1895 | G13: =G12 -> 330562 | H13: =H12 -> 0.1574 | ... N13: =N12 -> ref | O13: =IF(Q12="maïs fourrage",O12,O12+1) -> 1980 | P13: =IF(Q13="maïs fourrage",O13,O13+1) -> 1980 | Q13: =Q10 -> maïs fourrage | R13: =IF(OR(AND(Q13="ray grass d'Italie",Q12="blé tendre"),AND(Q13="maïs fourrage",Q12="ray grass d'Italie"),AND(Q13="blé tendre",Q12="maïs fourrage")),"ok","pb") -> ok | S13: =CONCATENATE(F13,"-",I13,"-",J13,"-",L13,"-",M13,"-",N13) -> 781_1895-562_NGC25-1-2-BT-ref | T13: =CONCATENATE(F13,"-",I13,"-",J13,"-",L13,"-",M13,"-",N13,"-",P13,"-",VLOOKUP(Q13,Liste_plantes!$A$2:$B$7,2,FALSE)) -> 781_1895-562_NGC25-1-2-BT-ref-1980-MF | U13: =V12+1 -> 29289 | V13: =IF(Q13="blé tendre",CONCATENATE("15/08/",P13),IF(Q13="ray grass d'Italie",CONCATENATE("08/03/",P13),IF(Q13="maïs fourrage",CONCATENATE("01/10/",P13),"pb"))) -> 01/10/1980 | W13: =IF(OR(YEAR(U13)=1978,(U13-V12)=1),"OK","!!!") -> OK | X13: =U13-DATE($O13,1,1)+1 -> 69 | Y13: =V13-DATE($O13,1,1)+1 -> 275 | Z13: =IF(AND(Q12="prairie",Q13="prairie"),"prairie_ini.xml","snu_ini.xml") -> snu_ini.xml | AA13: =CONCATENATE(G13,"_",H13) -> 330562_0.1574 | AB13: =CONCATENATE($E13,"_",N13,"_sta.xml") -> 14050_ref_sta.xml | AC13: =CONCATENATE($E13,".",YEAR(U13)) -> 14050.1980 | AD13: =CONCATENATE($E13,".",YEAR(V13)) -> 14050.1980 | AE13: =IF(YEAR(V13)=YEAR(U13),1,2) -> 1 | AF13: 1 | AG13: 0 | AH13: =VLOOKUP(Q13,Liste_plantes!$A$2:$C$7,3,FALSE) -> corn_plt.xml | AI13: =CONCATENATE(J13,"-",L13,"-",VLOOKUP(Q13,Liste_plantes!$A$2:$B$7,2,FALSE),"_tec.xml") -> 1-2-MF_tec.xml | AJ13: null | AK13: null | AL13: null | AM13: null
A14: =A13 -> cnrm-cm5-aladin63 | B14: =B13 -> cca | C14: =C13 -> 8.5 | D14: =D13 -> 1895 | E14: =E13 -> 14050 | F14: =F13 -> 781_1895 | G14: =G13 -> 330562 | H14: =H13 -> 0.1574 | ... N14: =N13 -> ref | O14: =IF(Q13="maïs fourrage",O13,O13+1) -> 1980 | P14: =IF(Q14="maïs fourrage",O14,O14+1) -> 1981 | Q14: =Q11 -> blé tendre | R14: =IF(OR(AND(Q14="ray grass d'Italie",Q13="blé tendre"),AND(Q14="maïs fourrage",Q13="ray grass d'Italie"),AND(Q14="blé tendre",Q13="maïs fourrage")),"ok","pb") -> ok | S14: =CONCATENATE(F14,"-",I14,"-",J14,"-",L14,"-",M14,"-",N14) -> 781_1895-562_NGC25-1-2-BT-ref | T14: =CONCATENATE(F14,"-",I14,"-",J14,"-",L14,"-",M14,"-",N14,"-",P14,"-",VLOOKUP(Q14,Liste_plantes!$A$2:$B$7,2,FALSE)) -> 781_1895-562_NGC25-1-2-BT-ref-1981-BT | U14: =V13+1 -> 29496 | V14: =IF(Q14="blé tendre",CONCATENATE("15/08/",P14),IF(Q14="ray grass d'Italie",CONCATENATE("08/03/",P14),IF(Q14="maïs fourrage",CONCATENATE("01/10/",P14),"pb"))) -> 15/08/1981 | W14: =IF(OR(YEAR(U14)=1978,(U14-V13)=1),"OK","!!!") -> OK | X14: =U14-DATE($O14,1,1)+1 -> 276 | Y14: =V14-DATE($O14,1,1)+1 -> 593 | Z14: =IF(AND(Q13="prairie",Q14="prairie"),"prairie_ini.xml","snu_ini.xml") -> snu_ini.xml | AA14: =CONCATENATE(G14,"_",H14) -> 330562_0.1574 | AB14: =CONCATENATE($E14,"_",N14,"_sta.xml") -> 14050_ref_sta.xml | AC14: =CONCATENATE($E14,".",YEAR(U14)) -> 14050.1980 | AD14: =CONCATENATE($E14,".",YEAR(V14)) -> 14050.1981 | AE14: =IF(YEAR(V14)=YEAR(U14),1,2) -> 2 | AF14: 1 | AG14: 0 | AH14: =VLOOKUP(Q14,Liste_plantes!$A$2:$C$7,3,FALSE) -> wheat_plt.xml | AI14: =CONCATENATE(J14,"-",L14,"-",VLOOKUP(Q14,Liste_plantes!$A$2:$B$7,2,FALSE),"_tec.xml") -> 1-2-BT_tec.xml | AJ14: null | AK14: null | AL14: null | AM14: null
A15: =A14 -> cnrm-cm5-aladin63 | B15: =B14 -> cca | C15: =C14 -> 8.5 | D15: =D14 -> 1895 | E15: =E14 -> 14050 | F15: =F14 -> 781_1895 | G15: =G14 -> 330562 | H15: =H14 -> 0.1574 | ... N15: =N14 -> ref | O15: =IF(Q14="maïs fourrage",O14,O14+1) -> 1981 | P15: =IF(Q15="maïs fourrage",O15,O15+1) -> 1982 | Q15: =Q12 -> ray grass d'Italie | R15: =IF(OR(AND(Q15="ray grass d'Italie",Q14="blé tendre"),AND(Q15="maïs fourrage",Q14="ray grass d'Italie"),AND(Q15="blé tendre",Q14="maïs fourrage")),"ok","pb") -> ok | S15: =CONCATENATE(F15,"-",I15,"-",J15,"-",L15,"-",M15,"-",N15) -> 781_1895-562_NGC25-1-2-BT-ref | T15: =CONCATENATE(F15,"-",I15,"-",J15,"-",L15,"-",M15,"-",N15,"-",P15,"-",VLOOKUP(Q15,Liste_plantes!$A$2:$B$7,2,FALSE)) -> 781_1895-562_NGC25-1-2-BT-ref-1982-rgi | U15: =V14+1 -> 29814 | V15: =IF(Q15="blé tendre",CONCATENATE("15/08/",P15),IF(Q15="ray grass d'Italie",CONCATENATE("08/03/",P15),IF(Q15="maïs fourrage",CONCATENATE("01/10/",P15),"pb"))) -> 08/03/1982 | W15: =IF(OR(YEAR(U15)=1978,(U15-V14)=1),"OK","!!!") -> OK | X15: =U15-DATE($O15,1,1)+1 -> 228 | Y15: =V15-DATE($O15,1,1)+1 -> 432 | Z15: =IF(AND(Q14="prairie",Q15="prairie"),"prairie_ini.xml","snu_ini.xml") -> snu_ini.xml | AA15: =CONCATENATE(G15,"_",H15) -> 330562_0.1574 | AB15: =CONCATENATE($E15,"_",N15,"_sta.xml") -> 14050_ref_sta.xml | AC15: =CONCATENATE($E15,".",YEAR(U15)) -> 14050.1981 | AD15: =CONCATENATE($E15,".",YEAR(V15)) -> 14050.1982 | AE15: =IF(YEAR(V15)=YEAR(U15),1,2) -> 2 | AF15: 1 | AG15: 0 | AH15: =VLOOKUP(Q15,Liste_plantes!$A$2:$C$7,3,FALSE) -> ItalianRyegrass_CoverCrop_plt.xml | AI15: =CONCATENATE(J15,"-",L15,"-",VLOOKUP(Q15,Liste_plantes!$A$2:$B$7,2,FALSE),"_tec.xml") -> 1-2-rgi_tec.xml | AJ15: null | AK15: null | AL15: null | AM15: null
A16: =A15 -> cnrm-cm5-aladin63 | B16: =B15 -> cca | C16: =C15 -> 8.5 | D16: =D15 -> 1895 | E16: =E15 -> 14050 | F16: =F15 -> 781_1895 | G16: =G15 -> 330562 | H16: =H15 -> 0.1574 | ... N16: =N15 -> ref | O16: =IF(Q15="maïs fourrage",O15,O15+1) -> 1982 | P16: =IF(Q16="maïs fourrage",O16,O16+1) -> 1982 | Q16: =Q13 -> maïs fourrage | R16: =IF(OR(AND(Q16="ray grass d'Italie",Q15="blé tendre"),AND(Q16="maïs fourrage",Q15="ray grass d'Italie"),AND(Q16="blé tendre",Q15="maïs fourrage")),"ok","pb") -> ok | S16: =CONCATENATE(F16,"-",I16,"-",J16,"-",L16,"-",M16,"-",N16) -> 781_1895-562_NGC25-1-2-BT-ref | T16: =CONCATENATE(F16,"-",I16,"-",J16,"-",L16,"-",M16,"-",N16,"-",P16,"-",VLOOKUP(Q16,Liste_plantes!$A$2:$B$7,2,FALSE)) -> 781_1895-562_NGC25-1-2-BT-ref-1982-MF | U16: =V15+1 -> 30019 | V16: =IF(Q16="blé tendre",CONCATENATE("15/08/",P16),IF(Q16="ray grass d'Italie",CONCATENATE("08/03/",P16),IF(Q16="maïs fourrage",CONCATENATE("01/10/",P16),"pb"))) -> 01/10/1982 | W16: =IF(OR(YEAR(U16)=1978,(U16-V15)=1),"OK","!!!") -> OK | X16: =U16-DATE($O16,1,1)+1 -> 68 | Y16: =V16-DATE($O16,1,1)+1 -> 274 | Z16: =IF(AND(Q15="prairie",Q16="prairie"),"prairie_ini.xml","snu_ini.xml") -> snu_ini.xml | AA16: =CONCATENATE(G16,"_",H16) -> 330562_0.1574 | AB16: =CONCATENATE($E16,"_",N16,"_sta.xml") -> 14050_ref_sta.xml | AC16: =CONCATENATE($E16,".",YEAR(U16)) -> 14050.1982 | AD16: =CONCATENATE($E16,".",YEAR(V16)) -> 14050.1982 | AE16: =IF(YEAR(V16)=YEAR(U16),1,2) -> 1 | AF16: 1 | AG16: 0 | AH16: =VLOOKUP(Q16,Liste_plantes!$A$2:$C$7,3,FALSE) -> corn_plt.xml | AI16: =CONCATENATE(J16,"-",L16,"-",VLOOKUP(Q16,Liste_plantes!$A$2:$B$7,2,FALSE),"_tec.xml") -> 1-2-MF_tec.xml | AJ16: null | AK16: null | AL16: null | AM16: null
A17: =A16 -> cnrm-cm5-aladin63 | B17: =B16 -> cca | C17: =C16 -> 8.5 | D17: =D16 -> 1895 | E17: =E16 -> 14050 | F17: =F16 -> 781_1895 | G17: =G16 -> 330562 | H17: =H16 -> 0.1574 | ... N17: =N16 -> ref | O17: =IF(Q16="maïs fourrage",O16,O16+1) -> 1982 | P17: =IF(Q17="maïs fourrage",O17,O17+1) -> 1983 | Q17: =Q14 -> blé tendre | R17: =IF(OR(AND(Q17="ray grass d'Italie",Q16="blé tendre"),AND(Q17="maïs fourrage",Q16="ray grass d'Italie"),AND(Q17="blé tendre",Q16="maïs fourrage")),"ok","pb") -> ok | S17: =CONCATENATE(F17,"-",I17,"-",J17,"-",L17,"-",M17,"-",N17) -> 781_1895-562_NGC25-1-2-BT-ref | T17: =CONCATENATE(F17,"-",I17,"-",J17,"-",L17,"-",M17,"-",N17,"-",P17,"-",VLOOKUP(Q17,Liste_plantes!$A$2:$B$7,2,FALSE)) -> 781_1895-562_NGC25-1-2-BT-ref-1983-BT | U17: =V16+1 -> 30226 | V17: =IF(Q17="blé tendre",CONCATENATE("15/08/",P17),IF(Q17="ray grass d'Italie",CONCATENATE("08/03/",P17),IF(Q17="maïs fourrage",CONCATENATE("01/10/",P17),"pb"))) -> 15/08/1983 | W17: =IF(OR(YEAR(U17)=1978,(U17-V16)=1),"OK","!!!") -> OK | X17: =U17-DATE($O17,1,1)+1 -> 275 | Y17: =V17-DATE($O17,1,1)+1 -> 592 | Z17: =IF(AND(Q16="prairie",Q17="prairie"),"prairie_ini.xml","snu_ini.xml") -> snu_ini.xml | AA17: =CONCATENATE(G17,"_",H17) -> 330562_0.1574 | AB17: =CONCATENATE($E17,"_",N17,"_sta.xml") -> 14050_ref_sta.xml | AC17: =CONCATENATE($E17,".",YEAR(U17)) -> 14050.1982 | AD17: =CONCATENATE($E17,".",YEAR(V17)) -> 14050.1983 | AE17: =IF(YEAR(V17)=YEAR(U17),1,2) -> 2 | AF17: 1 | AG17: 0 | AH17: =VLOOKUP(Q17,Liste_plantes!$A$2:$C$7,3,FALSE) -> wheat_plt.xml | AI17: =CONCATENATE(J17,"-",L17,"-",VLOOKUP(Q17,Liste_plantes!$A$2:$B$7,2,FALSE),"_tec.xml") -> 1-2-BT_tec.xml | AJ17: null | AK17: null | AL17: null | AM17: null
A18: =A17 -> cnrm-cm5-aladin63 | B18: =B17 -> cca | C18: =C17 -> 8.5 | D18: =D17 -> 1895 | E18: =E17 -> 14050 | F18: =F17 -> 781_1895 | G18: =G17 -> 330562 | H18: =H17 -> 0.1574 | ... N18: =N17 -> ref | O18: =IF(Q17="maïs fourrage",O17,O17+1) -> 1983 | P18: =IF(Q18="maïs fourrage",O18,O18+1) -> 1984 | Q18: =Q15 -> ray grass d'Italie | R18: =IF(OR(AND(Q18="ray grass d'Italie",Q17="blé tendre"),AND(Q18="maïs fourrage",Q17="ray grass d'Italie"),AND(Q18="blé tendre",Q17="maïs fourrage")),"ok","pb") -> ok | S18: =CONCATENATE(F18,"-",I18,"-",J18,"-",L18,"-",M18,"-",N18) -> 781_1895-562_NGC25-1-2-BT-ref | T18: =CONCATENATE(F18,"-",I18,"-",J18,"-",L18,"-",M18,"-",N18,"-",P18,"-",VLOOKUP(Q18,Liste_plantes!$A$2:$B$7,2,FALSE)) -> 781_1895-562_NGC25-1-2-BT-ref-1984-rgi | U18: =V17+1 -> 30544 | V18: =IF(Q18="blé tendre",CONCATENATE("15/08/",P18),IF(Q18="ray grass d'Italie",CONCATENATE("08/03/",P18),IF(Q18="maïs fourrage",CONCATENATE("01/10/",P18),"pb"))) -> 08/03/1984 | W18: =IF(OR(YEAR(U18)=1978,(U18-V17)=1),"OK","!!!") -> OK | X18: =U18-DATE($O18,1,1)+1 -> 228 | Y18: =V18-DATE($O18,1,1)+1 -> 433 | Z18: =IF(AND(Q17="prairie",Q18="prairie"),"prairie_ini.xml","snu_ini.xml") -> snu_ini.xml | AA18: =CONCATENATE(G18,"_",H18) -> 330562_0.1574 | AB18: =CONCATENATE($E18,"_",N18,"_sta.xml") -> 14050_ref_sta.xml | AC18: =CONCATENATE($E18,".",YEAR(U18)) -> 14050.1983 | AD18: =CONCATENATE($E18,".",YEAR(V18)) -> 14050.1984 | AE18: =IF(YEAR(V18)=YEAR(U18),1,2) -> 2 | AF18: 1 | AG18: 0 | AH18: =VLOOKUP(Q18,Liste_plantes!$A$2:$C$7,3,FALSE) -> ItalianRyegrass_CoverCrop_plt.xml | AI18: =CONCATENATE(J18,"-",L18,"-",VLOOKUP(Q18,Liste_plantes!$A$2:$B$7,2,FALSE),"_tec.xml") -> 1-2-rgi_tec.xml | AJ18: null | AK18: null | AL18: null | AM18: null
... A49: =A48 -> cnrm-cm5-aladin63 | B49: =B48 -> cca | C49: =C48 -> 8.5 | D49: =D48 -> 1895 | E49: =E48 -> 14050 | F49: =F48 -> 781_1895 | G49: =G48 -> 330562 | H49: =H48 -> 0.1574 | ... N49: =N48 -> ref | O49: =IF(Q48="maïs fourrage",O48,O48+1) -> 2004 | P49: =IF(Q49="maïs fourrage",O49,O49+1) -> 2004 | Q49: =Q46 -> maïs fourrage | R49: =IF(OR(AND(Q49="ray grass d'Italie",Q48="blé tendre"),AND(Q49="maïs fourrage",Q48="ray grass d'Italie"),AND(Q49="blé tendre",Q48="maïs fourrage")),"ok","pb") -> ok | S49: =CONCATENATE(F49,"-",I49,"-",J49,"-",L49,"-",M49,"-",N49) -> 781_1895-562_NGC25-1-2-BT-ref | T49: =CONCATENATE(F49,"-",I49,"-",J49,"-",L49,"-",M49,"-",N49,"-",P49,"-",VLOOKUP(Q49,Liste_plantes!$A$2:$B$7,2,FALSE)) -> 781_1895-562_NGC25-1-2-BT-ref-2004-MF | U49: =V48+1 -> 38055 | V49: =IF(Q49="blé tendre",CONCATENATE("15/08/",P49),IF(Q49="ray grass d'Italie",CONCATENATE("08/03/",P49),IF(Q49="maïs fourrage",CONCATENATE("01/10/",P49),"pb"))) -> 01/10/2004 | W49: =IF(OR(YEAR(U49)=1978,(U49-V48)=1),"OK","!!!") -> OK | X49: =U49-DATE($O49,1,1)+1 -> 69 | Y49: =V49-DATE($O49,1,1)+1 -> 275 | Z49: =IF(AND(Q48="prairie",Q49="prairie"),"prairie_ini.xml","snu_ini.xml") -> snu_ini.xml | AA49: =CONCATENATE(G49,"_",H49) -> 330562_0.1574 | AB49: =CONCATENATE($E49,"_",N49,"_sta.xml") -> 14050_ref_sta.xml | AC49: =CONCATENATE($E49,".",YEAR(U49)) -> 14050.2004 | AD49: =CONCATENATE($E49,".",YEAR(V49)) -> 14050.2004 | AE49: =IF(YEAR(V49)=YEAR(U49),1,2) -> 1 | AF49: 1 | AG49: 0 | AH49: =VLOOKUP(Q49,Liste_plantes!$A$2:$C$7,3,FALSE) -> corn_plt.xml | AI49: =CONCATENATE(J49,"-",L49,"-",VLOOKUP(Q49,Liste_plantes!$A$2:$B$7,2,FALSE),"_tec.xml") -> 1-2-MF_tec.xml | AJ49: null | AK49: null | AL49: null | AM49: null
A50: =A49 -> cnrm-cm5-aladin63 | B50: =B49 -> cca | C50: =C49 -> 8.5 | D50: =D49 -> 1895 | E50: =E49 -> 14050 | F50: =F49 -> 781_1895 | G50: =G49 -> 330562 | H50: =H49 -> 0.1574 | ... N50: =N49 -> ref | O50: =IF(Q49="maïs fourrage",O49,O49+1) -> 2004 | P50: =IF(Q50="maïs fourrage",O50,O50+1) -> 2005 | Q50: blé tendre | R50: =IF(OR(AND(Q50="ray grass d'Italie",Q49="blé tendre"),AND(Q50="maïs fourrage",Q49="ray grass d'Italie"),AND(Q50="blé tendre",Q49="maïs fourrage")),"ok","pb") -> ok | S50: =CONCATENATE(F50,"-",I50,"-",J50,"-",L50,"-",M50,"-",N50) -> 781_1895-562_NGC25-1-2-BT-ref | T50: =CONCATENATE(F50,"-",I50,"-",J50,"-",L50,"-",M50,"-",N50,"-",P50,"-",VLOOKUP(Q50,Liste_plantes!$A$2:$B$7,2,FALSE)) -> 781_1895-562_NGC25-1-2-BT-ref-2005-BT | U50: =V49+1 -> 38262 | V50: =IF(Q50="blé tendre",CONCATENATE("15/08/",P50),IF(Q50="ray grass d'Italie",CONCATENATE("08/03/",P50),IF(Q50="maïs fourrage",CONCATENATE("01/10/",P50),"pb"))) -> 15/08/2005 | W50: =IF(OR(YEAR(U50)=1978,(U50-V49)=1),"OK","!!!") -> OK | X50: =U50-DATE($O50,1,1)+1 -> 276 | Y50: =V50-DATE($O50,1,1)+1 -> 593 | Z50: =IF(AND(Q49="prairie",Q50="prairie"),"prairie_ini.xml","snu_ini.xml") -> snu_ini.xml | AA50: =CONCATENATE(G50,"_",H50) -> 330562_0.1574 | AB50: =CONCATENATE($E50,"_",N50,"_sta.xml") -> 14050_ref_sta.xml | AC50: =CONCATENATE($E50,".",YEAR(U50)) -> 14050.2004 | AD50: =CONCATENATE($E50,".",YEAR(V50)) -> 14050.2005 | AE50: =IF(YEAR(V50)=YEAR(U50),1,2) -> 2 | AF50: 1 | AG50: 0 | AH50: =VLOOKUP(Q50,Liste_plantes!$A$2:$C$7,3,FALSE) -> wheat_plt.xml | AI50: =CONCATENATE(J50,"-",L50,"-",VLOOKUP(Q50,Liste_plantes!$A$2:$B$7,2,FALSE),"_tec.xml") -> 1-2-BT_tec.xml | AJ50: null | AK50: null | AL50: null | AM50: null
A51: cnrm-cm5-aladin63 | B51: cca | C51: 8.5 | D51: 1895 | E51: 14050 | F51: 781_1895 | G51: 330562 | H51: 0.1574 | I51: =I50 -> 562_NGC25 | J51: 1 | K51: BT_ci_MF | L51: 2 | M51: rgi | N51: NA | O51: 1972 | P51: =IF(Q51="maïs fourrage",O51,O51+1) -> 1973 | Q51: ray grass d'Italie | S51: =CONCATENATE(F51,"-",I51,"-",J51,"-",L51,"-",M51,"-",N51) -> 781_1895-562_NGC25-1-2-rgi-NA | T51: =CONCATENATE(F51,"-",I51,"-",J51,"-",L51,"-",M51,"-",N51,"-",P51,"-",VLOOKUP(Q51,Liste_plantes!$A$2:$B$7,2,FALSE)) -> 781_1895-562_NGC25-1-2-rgi-NA-1973-rgi | U51: 26547 | V51: =IF(Q51="blé tendre",CONCATENATE("15/08/",P51),IF(Q51="ray grass d'Italie",CONCATENATE("08/03/",P51),IF(Q51="maïs fourrage",CONCATENATE("01/10/",P51),"pb"))) -> 08/03/1973 | X51: =U51-DATE($O51,1,1)+1 -> 249 | Y51: =V51-DATE($O51,1,1)+1 -> 433 | Z51: snu_ini.xml | AA51: =CONCATENATE(G51,"_",H51) -> 330562_0.1574 | AB51: =AB52 -> 14050_ref_sta.xml | AC51: =CONCATENATE($E51,".",YEAR(U51)) -> 14050.1972 | AD51: =CONCATENATE($E51,".",YEAR(V51)) -> 14050.1973 | AE51: =IF(YEAR(V51)=YEAR(U51),1,2) -> 2 | AF51: 1 | AG51: 0 | AH51: =VLOOKUP(Q51,Liste_plantes!$A$2:$C$7,3,FALSE) -> ItalianRyegrass_CoverCrop_plt.xml | AI51: =CONCATENATE(J51,"-",L51,"-",VLOOKUP(Q51,Liste_plantes!$A$2:$B$7,2,FALSE),"_tec.xml") -> 1-2-rgi_tec.xml | AJ51: null | AK51: null | AL51: null | AM51: null
A52: =A51 -> cnrm-cm5-aladin63 | B52: =B51 -> cca | C52: =C51 -> 8.5 | D52: =D51 -> 1895 | E52: =E51 -> 14050 | F52: =F51 -> 781_1895 | G52: =G51 -> 330562 | H52: =H51 -> 0.1574 | ... N52: =N51 -> NA | O52: =IF(Q51="maïs fourrage",O51,O51+1) -> 1973 | P52: =IF(Q52="maïs fourrage",O52,O52+1) -> 1973 | Q52: maïs fourrage | R52: =IF(OR(AND(Q52="ray grass d'Italie",Q51="blé tendre"),AND(Q52="maïs fourrage",Q51="ray grass d'Italie"),AND(Q52="blé tendre",Q51="maïs fourrage")),"ok","pb") -> ok | S52: =CONCATENATE(F52,"-",I52,"-",J52,"-",L52,"-",M52,"-",N52) -> 781_1895-562_NGC25-1-2-rgi-NA | T52: =CONCATENATE(F52,"-",I52,"-",J52,"-",L52,"-",M52,"-",N52,"-",P52,"-",VLOOKUP(Q52,Liste_plantes!$A$2:$B$7,2,FALSE)) -> 781_1895-562_NGC25-1-2-rgi-NA-1973-MF | U52: =V51+1 -> 26732 | V52: =IF(Q52="blé tendre",CONCATENATE("15/08/",P52),IF(Q52="ray grass d'Italie",CONCATENATE("08/03/",P52),IF(Q52="maïs fourrage",CONCATENATE("01/10/",P52),"pb"))) -> 01/10/1973 | W52: =IF(OR(YEAR(U52)=1978,(U52-V51)=1),"OK","!!!") -> OK | X52: =U52-DATE($O52,1,1)+1 -> 68 | Y52: =V52-DATE($O52,1,1)+1 -> 274 | Z52: =IF(AND(Q51="prairie",Q52="prairie"),"prairie_ini.xml","snu_ini.xml") -> snu_ini.xml | AA52: =CONCATENATE(G52,"_",H52) -> 330562_0.1574 | AB52: =AB53 -> 14050_ref_sta.xml | AC52: =CONCATENATE($E52,".",YEAR(U52)) -> 14050.1973 | AD52: =CONCATENATE($E52,".",YEAR(V52)) -> 14050.1973 | AE52: =IF(YEAR(V52)=YEAR(U52),1,2) -> 1 | AF52: 1 | AG52: 0 | AH52: =VLOOKUP(Q52,Liste_plantes!$A$2:$C$7,3,FALSE) -> corn_plt.xml | AI52: =CONCATENATE(J52,"-",L52,"-",VLOOKUP(Q52,Liste_plantes!$A$2:$B$7,2,FALSE),"_tec.xml") -> 1-2-MF_tec.xml | AJ52: null | AK52: null | AL52: null | AM52: null
A53: =A52 -> cnrm-cm5-aladin63 | B53: =B52 -> cca | C53: =C52 -> 8.5 | D53: =D52 -> 1895 | E53: =E52 -> 14050 | F53: =F52 -> 781_1895 | G53: =G52 -> 330562 | H53: =H52 -> 0.1574 | ... N53: =N52 -> NA | O53: =IF(Q52="maïs fourrage",O52,O52+1) -> 1973 | P53: =IF(Q53="maïs fourrage",O53,O53+1) -> 1974 | Q53: blé tendre | R53: =IF(OR(AND(Q53="ray grass d'Italie",Q52="blé tendre"),AND(Q53="maïs fourrage",Q52="ray grass d'Italie"),AND(Q53="blé tendre",Q52="maïs fourrage")),"ok","pb") -> ok | S53: =CONCATENATE(F53,"-",I53,"-",J53,"-",L53,"-",M53,"-",N53) -> 781_1895-562_NGC25-1-2-rgi-NA | T53: =CONCATENATE(F53,"-",I53,"-",J53,"-",L53,"-",M53,"-",N53,"-",P53,"-",VLOOKUP(Q53,Liste_plantes!$A$2:$B$7,2,FALSE)) -> 781_1895-562_NGC25-1-2-rgi-NA-1974-BT | U53: =V52+1 -> 26939 | V53: =IF(Q53="blé tendre",CONCATENATE("15/08/",P53),IF(Q53="ray grass d'Italie",CONCATENATE("08/03/",P53),IF(Q53="maïs fourrage",CONCATENATE("01/10/",P53),"pb"))) -> 15/08/1974 | W53: =IF(OR(YEAR(U53)=1978,(U53-V52)=1),"OK","!!!") -> OK | X53: =U53-DATE($O53,1,1)+1 -> 275 | Y53: =V53-DATE($O53,1,1)+1 -> 592 | Z53: =IF(AND(Q52="prairie",Q53="prairie"),"prairie_ini.xml","snu_ini.xml") -> snu_ini.xml | AA53: =CONCATENATE(G53,"_",H53) -> 330562_0.1574 | AB53: =AB54 -> 14050_ref_sta.xml | AC53: =CONCATENATE($E53,".",YEAR(U53)) -> 14050.1973 | AD53: =CONCATENATE($E53,".",YEAR(V53)) -> 14050.1974 | AE53: =IF(YEAR(V53)=YEAR(U53),1,2) -> 2 | AF53: 1 | AG53: 0 | AH53: =VLOOKUP(Q53,Liste_plantes!$A$2:$C$7,3,FALSE) -> wheat_plt.xml | AI53: =CONCATENATE(J53,"-",L53,"-",VLOOKUP(Q53,Liste_plantes!$A$2:$B$7,2,FALSE),"_tec.xml") -> 1-2-BT_tec.xml | AJ53: null | AK53: null | AL53: null | AM53: null
A54: =A53 -> cnrm-cm5-aladin63 | B54: =B53 -> cca | C54: =C53 -> 8.5 | D54: =D53 -> 1895 | E54: =E53 -> 14050 | F54: =F53 -> 781_1895 | G54: =G53 -> 330562 | H54: =H53 -> 0.1574 | ... M54: =M53 -> rgi | N54: NA | O54: =IF(Q53="maïs fourrage",O53,O53+1) -> 1974 | P54: =IF(Q54="maïs fourrage",O54,O54+1) -> 1975 | Q54: =Q51 -> ray grass d'Italie | R54: =IF(OR(AND(Q54="ray grass d'Italie",Q53="blé tendre"),AND(Q54="maïs fourrage",Q53="ray grass d'Italie"),AND(Q54="blé tendre",Q53="maïs fourrage")),"ok","pb") -> ok | S54: =CONCATENATE(F54,"-",I54,"-",J54,"-",L54,"-",M54,"-",N54) -> 781_1895-562_NGC25-1-2-rgi-NA | T54: =CONCATENATE(F54,"-",I54,"-",J54,"-",L54,"-",M54,"-",N54,"-",P54,"-",VLOOKUP(Q54,Liste_plantes!$A$2:$B$7,2,FALSE)) -> 781_1895-562_NGC25-1-2-rgi-NA-1975-rgi | U54: =V53+1 -> 27257 | V54: =IF(Q54="blé tendre",CONCATENATE("15/08/",P54),IF(Q54="ray grass d'Italie",CONCATENATE("08/03/",P54),IF(Q54="maïs fourrage",CONCATENATE("01/10/",P54),"pb"))) -> 08/03/1975 | W54: =IF(OR(YEAR(U54)=1978,(U54-V53)=1),"OK","!!!") -> OK | X54: =U54-DATE($O54,1,1)+1 -> 228 | Y54: =V54-DATE($O54,1,1)+1 -> 432 | Z54: =IF(AND(Q53="prairie",Q54="prairie"),"prairie_ini.xml","snu_ini.xml") -> snu_ini.xml | AA54: =CONCATENATE(G54,"_",H54) -> 330562_0.1574 | AB54: =AB55 -> 14050_ref_sta.xml | AC54: =CONCATENATE($E54,".",YEAR(U54)) -> 14050.1974 | AD54: =CONCATENATE($E54,".",YEAR(V54)) -> 14050.1975 | AE54: =IF(YEAR(V54)=YEAR(U54),1,2) -> 2 | AF54: 1 | AG54: 0 | AH54: =VLOOKUP(Q54,Liste_plantes!$A$2:$C$7,3,FALSE) -> ItalianRyegrass_CoverCrop_plt.xml | AI54: =CONCATENATE(J54,"-",L54,"-",VLOOKUP(Q54,Liste_plantes!$A$2:$B$7,2,FALSE),"_tec.xml") -> 1-2-rgi_tec.xml | AJ54: null | AK54: null | AL54: null | AM54: null
A55: =A54 -> cnrm-cm5-aladin63 | B55: =B54 -> cca | C55: =C54 -> 8.5 | D55: =D54 -> 1895 | E55: =E54 -> 14050 | F55: =F54 -> 781_1895 | G55: =G54 -> 330562 | H55: =H54 -> 0.1574 | ... M55: =M54 -> rgi | N55: ref | O55: =IF(Q54="maïs fourrage",O54,O54+1) -> 1975 | P55: =IF(Q55="maïs fourrage",O55,O55+1) -> 1975 | Q55: =Q52 -> maïs fourrage | R55: =IF(OR(AND(Q55="ray grass d'Italie",Q54="blé tendre"),AND(Q55="maïs fourrage",Q54="ray grass d'Italie"),AND(Q55="blé tendre",Q54="maïs fourrage")),"ok","pb") -> ok | S55: =CONCATENATE(F55,"-",I55,"-",J55,"-",L55,"-",M55,"-",N55) -> 781_1895-562_NGC25-1-2-rgi-ref | T55: =CONCATENATE(F55,"-",I55,"-",J55,"-",L55,"-",M55,"-",N55,"-",P55,"-",VLOOKUP(Q55,Liste_plantes!$A$2:$B$7,2,FALSE)) -> 781_1895-562_NGC25-1-2-rgi-ref-1975-MF | U55: =V54+1 -> 27462 | V55: =IF(Q55="blé tendre",CONCATENATE("15/08/",P55),IF(Q55="ray grass d'Italie",CONCATENATE("08/03/",P55),IF(Q55="maïs fourrage",CONCATENATE("01/10/",P55),"pb"))) -> 01/10/1975 | W55: =IF(OR(YEAR(U55)=1978,(U55-V54)=1),"OK","!!!") -> OK | X55: =U55-DATE($O55,1,1)+1 -> 68 | Y55: =V55-DATE($O55,1,1)+1 -> 274 | Z55: =IF(AND(Q54="prairie",Q55="prairie"),"prairie_ini.xml","snu_ini.xml") -> snu_ini.xml | AA55: =CONCATENATE(G55,"_",H55) -> 330562_0.1574 | AB55: =CONCATENATE($E55,"_",N55,"_sta.xml") -> 14050_ref_sta.xml | AC55: =CONCATENATE($E55,".",YEAR(U55)) -> 14050.1975 | AD55: =CONCATENATE($E55,".",YEAR(V55)) -> 14050.1975 | AE55: =IF(YEAR(V55)=YEAR(U55),1,2) -> 1 | AF55: 1 | AG55: 0 | AH55: =VLOOKUP(Q55,Liste_plantes!$A$2:$C$7,3,FALSE) -> corn_plt.xml | AI55: =CONCATENATE(J55,"-",L55,"-",VLOOKUP(Q55,Liste_plantes!$A$2:$B$7,2,FALSE),"_tec.xml") -> 1-2-MF_tec.xml | AJ55: null | AK55: null | AL55: null | AM55: null
A56: =A55 -> cnrm-cm5-aladin63 | B56: =B55 -> cca | C56: =C55 -> 8.5 | D56: =D55 -> 1895 | E56: =E55 -> 14050 | F56: =F55 -> 781_1895 | G56: =G55 -> 330562 | H56: =H55 -> 0.1574 | ... N56: =N55 -> ref | O56: =IF(Q55="maïs fourrage",O55,O55+1) -> 1975 | P56: =IF(Q56="maïs fourrage",O56,O56+1) -> 1976 | Q56: =Q53 -> blé tendre | R56: =IF(OR(AND(Q56="ray grass d'Italie",Q55="blé tendre"),AND(Q56="maïs fourrage",Q55="ray grass d'Italie"),AND(Q56="blé tendre",Q55="maïs fourrage")),"ok","pb") -> ok | S56: =CONCATENATE(F56,"-",I56,"-",J56,"-",L56,"-",M56,"-",N56) -> 781_1895-562_NGC25-1-2-rgi-ref | T56: =CONCATENATE(F56,"-",I56,"-",J56,"-",L56,"-",M56,"-",N56,"-",P56,"-",VLOOKUP(Q56,Liste_plantes!$A$2:$B$7,2,FALSE)) -> 781_1895-562_NGC25-1-2-rgi-ref-1976-BT | U56: =V55+1 -> 27669 | V56: =IF(Q56="blé tendre",CONCATENATE("15/08/",P56),IF(Q56="ray grass d'Italie",CONCATENATE("08/03/",P56),IF(Q56="maïs fourrage",CONCATENATE("01/10/",P56),"pb"))) -> 15/08/1976 | W56: =IF(OR(YEAR(U56)=1978,(U56-V55)=1),"OK","!!!") -> OK | X56: =U56-DATE($O56,1,1)+1 -> 275 | Y56: =V56-DATE($O56,1,1)+1 -> 593 | Z56: =IF(AND(Q55="prairie",Q56="prairie"),"prairie_ini.xml","snu_ini.xml") -> snu_ini.xml | AA56: =CONCATENATE(G56,"_",H56) -> 330562_0.1574 | AB56: =CONCATENATE($E56,"_",N56,"_sta.xml") -> 14050_ref_sta.xml | AC56: =CONCATENATE($E56,".",YEAR(U56)) -> 14050.1975 | AD56: =CONCATENATE($E56,".",YEAR(V56)) -> 14050.1976 | AE56: =IF(YEAR(V56)=YEAR(U56),1,2) -> 2 | AF56: 1 | AG56: 0 | AH56: =VLOOKUP(Q56,Liste_plantes!$A$2:$C$7,3,FALSE) -> wheat_plt.xml | AI56: =CONCATENATE(J56,"-",L56,"-",VLOOKUP(Q56,Liste_plantes!$A$2:$B$7,2,FALSE),"_tec.xml") -> 1-2-BT_tec.xml | AJ56: null | AK56: null | AL56: null | AM56: null
A57: =A56 -> cnrm-cm5-aladin63 | B57: =B56 -> cca | C57: =C56 -> 8.5 | D57: =D56 -> 1895 | E57: =E56 -> 14050 | F57: =F56 -> 781_1895 | G57: =G56 -> 330562 | H57: =H56 -> 0.1574 | ... N57: =N56 -> ref | O57: =IF(Q56="maïs fourrage",O56,O56+1) -> 1976 | P57: =IF(Q57="maïs fourrage",O57,O57+1) -> 1977 | Q57: =Q54 -> ray grass d'Italie | R57: =IF(OR(AND(Q57="ray grass d'Italie",Q56="blé tendre"),AND(Q57="maïs fourrage",Q56="ray grass d'Italie"),AND(Q57="blé tendre",Q56="maïs fourrage")),"ok","pb") -> ok | S57: =CONCATENATE(F57,"-",I57,"-",J57,"-",L57,"-",M57,"-",N57) -> 781_1895-562_NGC25-1-2-rgi-ref | T57: =CONCATENATE(F57,"-",I57,"-",J57,"-",L57,"-",M57,"-",N57,"-",P57,"-",VLOOKUP(Q57,Liste_plantes!$A$2:$B$7,2,FALSE)) -> 781_1895-562_NGC25-1-2-rgi-ref-1977-rgi | U57: =V56+1 -> 27988 | V57: =IF(Q57="blé tendre",CONCATENATE("15/08/",P57),IF(Q57="ray grass d'Italie",CONCATENATE("08/03/",P57),IF(Q57="maïs fourrage",CONCATENATE("01/10/",P57),"pb"))) -> 08/03/1977 | W57: =IF(OR(YEAR(U57)=1978,(U57-V56)=1),"OK","!!!") -> OK | X57: =U57-DATE($O57,1,1)+1 -> 229 | Y57: =V57-DATE($O57,1,1)+1 -> 433 | Z57: =IF(AND(Q56="prairie",Q57="prairie"),"prairie_ini.xml","snu_ini.xml") -> snu_ini.xml | AA57: =CONCATENATE(G57,"_",H57) -> 330562_0.1574 | AB57: =CONCATENATE($E57,"_",N57,"_sta.xml") -> 14050_ref_sta.xml | AC57: =CONCATENATE($E57,".",YEAR(U57)) -> 14050.1976 | AD57: =CONCATENATE($E57,".",YEAR(V57)) -> 14050.1977 | AE57: =IF(YEAR(V57)=YEAR(U57),1,2) -> 2 | AF57: 1 | AG57: 0 | AH57: =VLOOKUP(Q57,Liste_plantes!$A$2:$C$7,3,FALSE) -> ItalianRyegrass_CoverCrop_plt.xml | AI57: =CONCATENATE(J57,"-",L57,"-",VLOOKUP(Q57,Liste_plantes!$A$2:$B$7,2,FALSE),"_tec.xml") -> 1-2-rgi_tec.xml | AJ57: null | AK57: null | AL57: null | AM57: null
A58: =A57 -> cnrm-cm5-aladin63 | B58: =B57 -> cca | C58: =C57 -> 8.5 | D58: =D57 -> 1895 | E58: =E57 -> 14050 | F58: =F57 -> 781_1895 | G58: =G57 -> 330562 | H58: =H57 -> 0.1574 | ... N58: =N57 -> ref | O58: =IF(Q57="maïs fourrage",O57,O57+1) -> 1977 | P58: =IF(Q58="maïs fourrage",O58,O58+1) -> 1977 | Q58: =Q55 -> maïs fourrage | R58: =IF(OR(AND(Q58="ray grass d'Italie",Q57="blé tendre"),AND(Q58="maïs fourrage",Q57="ray grass d'Italie"),AND(Q58="blé tendre",Q57="maïs fourrage")),"ok","pb") -> ok | S58: =CONCATENATE(F58,"-",I58,"-",J58,"-",L58,"-",M58,"-",N58) -> 781_1895-562_NGC25-1-2-rgi-ref | T58: =CONCATENATE(F58,"-",I58,"-",J58,"-",L58,"-",M58,"-",N58,"-",P58,"-",VLOOKUP(Q58,Liste_plantes!$A$2:$B$7,2,FALSE)) -> 781_1895-562_NGC25-1-2-rgi-ref-1977-MF | U58: =V57+1 -> 28193 | V58: =IF(Q58="blé tendre",CONCATENATE("15/08/",P58),IF(Q58="ray grass d'Italie",CONCATENATE("08/03/",P58),IF(Q58="maïs fourrage",CONCATENATE("01/10/",P58),"pb"))) -> 01/10/1977 | W58: =IF(OR(YEAR(U58)=1978,(U58-V57)=1),"OK","!!!") -> OK | X58: =U58-DATE($O58,1,1)+1 -> 68 | Y58: =V58-DATE($O58,1,1)+1 -> 274 | Z58: =IF(AND(Q57="prairie",Q58="prairie"),"prairie_ini.xml","snu_ini.xml") -> snu_ini.xml | AA58: =CONCATENATE(G58,"_",H58) -> 330562_0.1574 | AB58: =CONCATENATE($E58,"_",N58,"_sta.xml") -> 14050_ref_sta.xml | AC58: =CONCATENATE($E58,".",YEAR(U58)) -> 14050.1977 | AD58: =CONCATENATE($E58,".",YEAR(V58)) -> 14050.1977 | AE58: =IF(YEAR(V58)=YEAR(U58),1,2) -> 1 | AF58: 1 | AG58: 0 | AH58: =VLOOKUP(Q58,Liste_plantes!$A$2:$C$7,3,FALSE) -> corn_plt.xml | AI58: =CONCATENATE(J58,"-",L58,"-",VLOOKUP(Q58,Liste_plantes!$A$2:$B$7,2,FALSE),"_tec.xml") -> 1-2-MF_tec.xml | AJ58: null | AK58: null | AL58: null | AM58: null
A59: =A58 -> cnrm-cm5-aladin63 | B59: =B58 -> cca | C59: =C58 -> 8.5 | D59: =D58 -> 1895 | E59: =E58 -> 14050 | F59: =F58 -> 781_1895 | G59: =G58 -> 330562 | H59: =H58 -> 0.1574 | ... N59: =N58 -> ref | O59: =IF(Q58="maïs fourrage",O58,O58+1) -> 1977 | P59: =IF(Q59="maïs fourrage",O59,O59+1) -> 1978 | Q59: =Q56 -> blé tendre | R59: =IF(OR(AND(Q59="ray grass d'Italie",Q58="blé tendre"),AND(Q59="maïs fourrage",Q58="ray grass d'Italie"),AND(Q59="blé tendre",Q58="maïs fourrage")),"ok","pb") -> ok | S59: =CONCATENATE(F59,"-",I59,"-",J59,"-",L59,"-",M59,"-",N59) -> 781_1895-562_NGC25-1-2-rgi-ref | T59: =CONCATENATE(F59,"-",I59,"-",J59,"-",L59,"-",M59,"-",N59,"-",P59,"-",VLOOKUP(Q59,Liste_plantes!$A$2:$B$7,2,FALSE)) -> 781_1895-562_NGC25-1-2-rgi-ref-1978-BT | U59: =V58+1 -> 28400 | V59: =IF(Q59="blé tendre",CONCATENATE("15/08/",P59),IF(Q59="ray grass d'Italie",CONCATENATE("08/03/",P59),IF(Q59="maïs fourrage",CONCATENATE("01/10/",P59),"pb"))) -> 15/08/1978 | W59: =IF(OR(YEAR(U59)=1978,(U59-V58)=1),"OK","!!!") -> OK | X59: =U59-DATE($O59,1,1)+1 -> 275 | Y59: =V59-DATE($O59,1,1)+1 -> 592 | Z59: =IF(AND(Q58="prairie",Q59="prairie"),"prairie_ini.xml","snu_ini.xml") -> snu_ini.xml | AA59: =CONCATENATE(G59,"_",H59) -> 330562_0.1574 | AB59: =CONCATENATE($E59,"_",N59,"_sta.xml") -> 14050_ref_sta.xml | AC59: =CONCATENATE($E59,".",YEAR(U59)) -> 14050.1977 | AD59: =CONCATENATE($E59,".",YEAR(V59)) -> 14050.1978 | AE59: =IF(YEAR(V59)=YEAR(U59),1,2) -> 2 | AF59: 1 | AG59: 0 | AH59: =VLOOKUP(Q59,Liste_plantes!$A$2:$C$7,3,FALSE) -> wheat_plt.xml | AI59: =CONCATENATE(J59,"-",L59,"-",VLOOKUP(Q59,Liste_plantes!$A$2:$B$7,2,FALSE),"_tec.xml") -> 1-2-BT_tec.xml | AJ59: null | AK59: null | AL59: null | AM59: null
A60: =A59 -> cnrm-cm5-aladin63 | B60: =B59 -> cca | C60: =C59 -> 8.5 | D60: =D59 -> 1895 | E60: =E59 -> 14050 | F60: =F59 -> 781_1895 | G60: =G59 -> 330562 | H60: =H59 -> 0.1574 | ... N60: =N59 -> ref | O60: =IF(Q59="maïs fourrage",O59,O59+1) -> 1978 | P60: =IF(Q60="maïs fourrage",O60,O60+1) -> 1979 | Q60: =Q57 -> ray grass d'Italie | R60: =IF(OR(AND(Q60="ray grass d'Italie",Q59="blé tendre"),AND(Q60="maïs fourrage",Q59="ray grass d'Italie"),AND(Q60="blé tendre",Q59="maïs fourrage")),"ok","pb") -> ok | S60: =CONCATENATE(F60,"-",I60,"-",J60,"-",L60,"-",M60,"-",N60) -> 781_1895-562_NGC25-1-2-rgi-ref | T60: =CONCATENATE(F60,"-",I60,"-",J60,"-",L60,"-",M60,"-",N60,"-",P60,"-",VLOOKUP(Q60,Liste_plantes!$A$2:$B$7,2,FALSE)) -> 781_1895-562_NGC25-1-2-rgi-ref-1979-rgi | U60: =V59+1 -> 28718 | V60: =IF(Q60="blé tendre",CONCATENATE("15/08/",P60),IF(Q60="ray grass d'Italie",CONCATENATE("08/03/",P60),IF(Q60="maïs fourrage",CONCATENATE("01/10/",P60),"pb"))) -> 08/03/1979 | W60: =IF(OR(YEAR(U60)=1978,(U60-V59)=1),"OK","!!!") -> OK | X60: =U60-DATE($O60,1,1)+1 -> 228 | Y60: =V60-DATE($O60,1,1)+1 -> 432 | Z60: =IF(AND(Q59="prairie",Q60="prairie"),"prairie_ini.xml","snu_ini.xml") -> snu_ini.xml | AA60: =CONCATENATE(G60,"_",H60) -> 330562_0.1574 | AB60: =CONCATENATE($E60,"_",N60,"_sta.xml") -> 14050_ref_sta.xml | AC60: =CONCATENATE($E60,".",YEAR(U60)) -> 14050.1978 | AD60: =CONCATENATE($E60,".",YEAR(V60)) -> 14050.1979 | AE60: =IF(YEAR(V60)=YEAR(U60),1,2) -> 2 | AF60: 1 | AG60: 0 | AH60: =VLOOKUP(Q60,Liste_plantes!$A$2:$C$7,3,FALSE) -> ItalianRyegrass_CoverCrop_plt.xml | AI60: =CONCATENATE(J60,"-",L60,"-",VLOOKUP(Q60,Liste_plantes!$A$2:$B$7,2,FALSE),"_tec.xml") -> 1-2-rgi_tec.xml | AJ60: null | AK60: null | AL60: null | AM60: null
A61: =A60 -> cnrm-cm5-aladin63 | B61: =B60 -> cca | C61: =C60 -> 8.5 | D61: =D60 -> 1895 | E61: =E60 -> 14050 | F61: =F60 -> 781_1895 | G61: =G60 -> 330562 | H61: =H60 -> 0.1574 | ... N61: =N60 -> ref | O61: =IF(Q60="maïs fourrage",O60,O60+1) -> 1979 | P61: =IF(Q61="maïs fourrage",O61,O61+1) -> 1979 | Q61: =Q58 -> maïs fourrage | R61: =IF(OR(AND(Q61="ray grass d'Italie",Q60="blé tendre"),AND(Q61="maïs fourrage",Q60="ray grass d'Italie"),AND(Q61="blé tendre",Q60="maïs fourrage")),"ok","pb") -> ok | S61: =CONCATENATE(F61,"-",I61,"-",J61,"-",L61,"-",M61,"-",N61) -> 781_1895-562_NGC25-1-2-rgi-ref | T61: =CONCATENATE(F61,"-",I61,"-",J61,"-",L61,"-",M61,"-",N61,"-",P61,"-",VLOOKUP(Q61,Liste_plantes!$A$2:$B$7,2,FALSE)) -> 781_1895-562_NGC25-1-2-rgi-ref-1979-MF | U61: =V60+1 -> 28923 | V61: =IF(Q61="blé tendre",CONCATENATE("15/08/",P61),IF(Q61="ray grass d'Italie",CONCATENATE("08/03/",P61),IF(Q61="maïs fourrage",CONCATENATE("01/10/",P61),"pb"))) -> 01/10/1979 | W61: =IF(OR(YEAR(U61)=1978,(U61-V60)=1),"OK","!!!") -> OK | X61: =U61-DATE($O61,1,1)+1 -> 68 | Y61: =V61-DATE($O61,1,1)+1 -> 274 | Z61: =IF(AND(Q60="prairie",Q61="prairie"),"prairie_ini.xml","snu_ini.xml") -> snu_ini.xml | AA61: =CONCATENATE(G61,"_",H61) -> 330562_0.1574 | AB61: =CONCATENATE($E61,"_",N61,"_sta.xml") -> 14050_ref_sta.xml | AC61: =CONCATENATE($E61,".",YEAR(U61)) -> 14050.1979 | AD61: =CONCATENATE($E61,".",YEAR(V61)) -> 14050.1979 | AE61: =IF(YEAR(V61)=YEAR(U61),1,2) -> 1 | AF61: 1 | AG61: 0 | AH61: =VLOOKUP(Q61,Liste_plantes!$A$2:$C$7,3,FALSE) -> corn_plt.xml | AI61: =CONCATENATE(J61,"-",L61,"-",VLOOKUP(Q61,Liste_plantes!$A$2:$B$7,2,FALSE),"_tec.xml") -> 1-2-MF_tec.xml | AJ61: null | AK61: null | AL61: null | AM61: null
A62: =A61 -> cnrm-cm5-aladin63 | B62: =B61 -> cca | C62: =C61 -> 8.5 | D62: =D61 -> 1895 | E62: =E61 -> 14050 | F62: =F61 -> 781_1895 | G62: =G61 -> 330562 | H62: =H61 -> 0.1574 | ... N62: =N61 -> ref | O62: =IF(Q61="maïs fourrage",O61,O61+1) -> 1979 | P62: =IF(Q62="maïs fourrage",O62,O62+1) -> 1980 | Q62: =Q59 -> blé tendre | R62: =IF(OR(AND(Q62="ray grass d'Italie",Q61="blé tendre"),AND(Q62="maïs fourrage",Q61="ray grass d'Italie"),AND(Q62="blé tendre",Q61="maïs fourrage")),"ok","pb") -> ok | S62: =CONCATENATE(F62,"-",I62,"-",J62,"-",L62,"-",M62,"-",N62) -> 781_1895-562_NGC25-1-2-rgi-ref | T62: =CONCATENATE(F62,"-",I62,"-",J62,"-",L62,"-",M62,"-",N62,"-",P62,"-",VLOOKUP(Q62,Liste_plantes!$A$2:$B$7,2,FALSE)) -> 781_1895-562_NGC25-1-2-rgi-ref-1980-BT | U62: =V61+1 -> 29130 | V62: =IF(Q62="blé tendre",CONCATENATE("15/08/",P62),IF(Q62="ray grass d'Italie",CONCATENATE("08/03/",P62),IF(Q62="maïs fourrage",CONCATENATE("01/10/",P62),"pb"))) -> 15/08/1980 | W62: =IF(OR(YEAR(U62)=1978,(U62-V61)=1),"OK","!!!") -> OK | X62: =U62-DATE($O62,1,1)+1 -> 275 | Y62: =V62-DATE($O62,1,1)+1 -> 593 | Z62: =IF(AND(Q61="prairie",Q62="prairie"),"prairie_ini.xml","snu_ini.xml") -> snu_ini.xml | AA62: =CONCATENATE(G62,"_",H62) -> 330562_0.1574 | AB62: =CONCATENATE($E62,"_",N62,"_sta.xml") -> 14050_ref_sta.xml | AC62: =CONCATENATE($E62,".",YEAR(U62)) -> 14050.1979 | AD62: =CONCATENATE($E62,".",YEAR(V62)) -> 14050.1980 | AE62: =IF(YEAR(V62)=YEAR(U62),1,2) -> 2 | AF62: 1 | AG62: 0 | AH62: =VLOOKUP(Q62,Liste_plantes!$A$2:$C$7,3,FALSE) -> wheat_plt.xml | AI62: =CONCATENATE(J62,"-",L62,"-",VLOOKUP(Q62,Liste_plantes!$A$2:$B$7,2,FALSE),"_tec.xml") -> 1-2-BT_tec.xml | AJ62: null | AK62: null | AL62: null | AM62: null
A63: =A62 -> cnrm-cm5-aladin63 | B63: =B62 -> cca | C63: =C62 -> 8.5 | D63: =D62 -> 1895 | E63: =E62 -> 14050 | F63: =F62 -> 781_1895 | G63: =G62 -> 330562 | H63: =H62 -> 0.1574 | ... N63: =N62 -> ref | O63: =IF(Q62="maïs fourrage",O62,O62+1) -> 1980 | P63: =IF(Q63="maïs fourrage",O63,O63+1) -> 1981 | Q63: =Q60 -> ray grass d'Italie | R63: =IF(OR(AND(Q63="ray grass d'Italie",Q62="blé tendre"),AND(Q63="maïs fourrage",Q62="ray grass d'Italie"),AND(Q63="blé tendre",Q62="maïs fourrage")),"ok","pb") -> ok | S63: =CONCATENATE(F63,"-",I63,"-",J63,"-",L63,"-",M63,"-",N63) -> 781_1895-562_NGC25-1-2-rgi-ref | T63: =CONCATENATE(F63,"-",I63,"-",J63,"-",L63,"-",M63,"-",N63,"-",P63,"-",VLOOKUP(Q63,Liste_plantes!$A$2:$B$7,2,FALSE)) -> 781_1895-562_NGC25-1-2-rgi-ref-1981-rgi | U63: =V62+1 -> 29449 | V63: =IF(Q63="blé tendre",CONCATENATE("15/08/",P63),IF(Q63="ray grass d'Italie",CONCATENATE("08/03/",P63),IF(Q63="maïs fourrage",CONCATENATE("01/10/",P63),"pb"))) -> 08/03/1981 | W63: =IF(OR(YEAR(U63)=1978,(U63-V62)=1),"OK","!!!") -> OK | X63: =U63-DATE($O63,1,1)+1 -> 229 | Y63: =V63-DATE($O63,1,1)+1 -> 433 | Z63: =IF(AND(Q62="prairie",Q63="prairie"),"prairie_ini.xml","snu_ini.xml") -> snu_ini.xml | AA63: =CONCATENATE(G63,"_",H63) -> 330562_0.1574 | AB63: =CONCATENATE($E63,"_",N63,"_sta.xml") -> 14050_ref_sta.xml | AC63: =CONCATENATE($E63,".",YEAR(U63)) -> 14050.1980 | AD63: =CONCATENATE($E63,".",YEAR(V63)) -> 14050.1981 | AE63: =IF(YEAR(V63)=YEAR(U63),1,2) -> 2 | AF63: 1 | AG63: 0 | AH63: =VLOOKUP(Q63,Liste_plantes!$A$2:$C$7,3,FALSE) -> ItalianRyegrass_CoverCrop_plt.xml | AI63: =CONCATENATE(J63,"-",L63,"-",VLOOKUP(Q63,Liste_plantes!$A$2:$B$7,2,FALSE),"_tec.xml") -> 1-2-rgi_tec.xml | AJ63: null | AK63: null | AL63: null | AM63: null
A64: =A63 -> cnrm-cm5-aladin63 | B64: =B63 -> cca | C64: =C63 -> 8.5 | D64: =D63 -> 1895 | E64: =E63 -> 14050 | F64: =F63 -> 781_1895 | G64: =G63 -> 330562 | H64: =H63 -> 0.1574 | ... N64: =N63 -> ref | O64: =IF(Q63="maïs fourrage",O63,O63+1) -> 1981 | P64: =IF(Q64="maïs fourrage",O64,O64+1) -> 1981 | Q64: =Q61 -> maïs fourrage | R64: =IF(OR(AND(Q64="ray grass d'Italie",Q63="blé tendre"),AND(Q64="maïs fourrage",Q63="ray grass d'Italie"),AND(Q64="blé tendre",Q63="maïs fourrage")),"ok","pb") -> ok | S64: =CONCATENATE(F64,"-",I64,"-",J64,"-",L64,"-",M64,"-",N64) -> 781_1895-562_NGC25-1-2-rgi-ref | T64: =CONCATENATE(F64,"-",I64,"-",J64,"-",L64,"-",M64,"-",N64,"-",P64,"-",VLOOKUP(Q64,Liste_plantes!$A$2:$B$7,2,FALSE)) -> 781_1895-562_NGC25-1-2-rgi-ref-1981-MF | U64: =V63+1 -> 29654 | V64: =IF(Q64="blé tendre",CONCATENATE("15/08/",P64),IF(Q64="ray grass d'Italie",CONCATENATE("08/03/",P64),IF(Q64="maïs fourrage",CONCATENATE("01/10/",P64),"pb"))) -> 01/10/1981 | W64: =IF(OR(YEAR(U64)=1978,(U64-V63)=1),"OK","!!!") -> OK | X64: =U64-DATE($O64,1,1)+1 -> 68 | Y64: =V64-DATE($O64,1,1)+1 -> 274 | Z64: =IF(AND(Q63="prairie",Q64="prairie"),"prairie_ini.xml","snu_ini.xml") -> snu_ini.xml | AA64: =CONCATENATE(G64,"_",H64) -> 330562_0.1574 | AB64: =CONCATENATE($E64,"_",N64,"_sta.xml") -> 14050_ref_sta.xml | AC64: =CONCATENATE($E64,".",YEAR(U64)) -> 14050.1981 | AD64: =CONCATENATE($E64,".",YEAR(V64)) -> 14050.1981 | AE64: =IF(YEAR(V64)=YEAR(U64),1,2) -> 1 | AF64: 1 | AG64: 0 | AH64: =VLOOKUP(Q64,Liste_plantes!$A$2:$C$7,3,FALSE) -> corn_plt.xml | AI64: =CONCATENATE(J64,"-",L64,"-",VLOOKUP(Q64,Liste_plantes!$A$2:$B$7,2,FALSE),"_tec.xml") -> 1-2-MF_tec.xml | AJ64: null | AK64: null | AL64: null | AM64: null
A65: =A64 -> cnrm-cm5-aladin63 | B65: =B64 -> cca | C65: =C64 -> 8.5 | D65: =D64 -> 1895 | E65: =E64 -> 14050 | F65: =F64 -> 781_1895 | G65: =G64 -> 330562 | H65: =H64 -> 0.1574 | ... N65: =N64 -> ref | O65: =IF(Q64="maïs fourrage",O64,O64+1) -> 1981 | P65: =IF(Q65="maïs fourrage",O65,O65+1) -> 1982 | Q65: =Q62 -> blé tendre | R65: =IF(OR(AND(Q65="ray grass d'Italie",Q64="blé tendre"),AND(Q65="maïs fourrage",Q64="ray grass d'Italie"),AND(Q65="blé tendre",Q64="maïs fourrage")),"ok","pb") -> ok | S65: =CONCATENATE(F65,"-",I65,"-",J65,"-",L65,"-",M65,"-",N65) -> 781_1895-562_NGC25-1-2-rgi-ref | T65: =CONCATENATE(F65,"-",I65,"-",J65,"-",L65,"-",M65,"-",N65,"-",P65,"-",VLOOKUP(Q65,Liste_plantes!$A$2:$B$7,2,FALSE)) -> 781_1895-562_NGC25-1-2-rgi-ref-1982-BT | U65: =V64+1 -> 29861 | V65: =IF(Q65="blé tendre",CONCATENATE("15/08/",P65),IF(Q65="ray grass d'Italie",CONCATENATE("08/03/",P65),IF(Q65="maïs fourrage",CONCATENATE("01/10/",P65),"pb"))) -> 15/08/1982 | W65: =IF(OR(YEAR(U65)=1978,(U65-V64)=1),"OK","!!!") -> OK | X65: =U65-DATE($O65,1,1)+1 -> 275 | Y65: =V65-DATE($O65,1,1)+1 -> 592 | Z65: =IF(AND(Q64="prairie",Q65="prairie"),"prairie_ini.xml","snu_ini.xml") -> snu_ini.xml | AA65: =CONCATENATE(G65,"_",H65) -> 330562_0.1574 | AB65: =CONCATENATE($E65,"_",N65,"_sta.xml") -> 14050_ref_sta.xml | AC65: =CONCATENATE($E65,".",YEAR(U65)) -> 14050.1981 | AD65: =CONCATENATE($E65,".",YEAR(V65)) -> 14050.1982 | AE65: =IF(YEAR(V65)=YEAR(U65),1,2) -> 2 | AF65: 1 | AG65: 0 | AH65: =VLOOKUP(Q65,Liste_plantes!$A$2:$C$7,3,FALSE) -> wheat_plt.xml | AI65: =CONCATENATE(J65,"-",L65,"-",VLOOKUP(Q65,Liste_plantes!$A$2:$B$7,2,FALSE),"_tec.xml") -> 1-2-BT_tec.xml | AJ65: null | AK65: null | AL65: null | AM65: null
